{"text_format":"1","workbook":"xlsx","n_sheets":3,"sheets":["MSL Data","Recherche","BDD"],"not_rendered":{"charts":0,"images":2,"macros":1,"external_links":0,"defined_names":1,"comments":0,"pivot_tables":0},"unopened":[],"bounds":{"document_bytes":16777216,"sheet_cells":100000,"rows_first":2000,"rows_last":500,"rows_between":2000,"halvings":0,"cell_chars":16384,"cell_head_chars":4096},"cells_cut":0,"cells_raw":0,"read":"whole","date_system":"1900"}

{"sheet":"MSL Data","index":0,"n_rows":746,"n_cols":25,"rows_kept":746,"cut":false,"hidden":false,"merged":[[1,3,1,6]]}
[]
[null,null,null,null,null,null,null,null,""]
[]
["Pilote","Team","Naissance","Nation","Connexion","Console","Liaison","Device","GT7 Rang","GT7 SR","Level","Ranking","MSL Grade","Points","Events","Event %","Course","Course %","Profil","Prénom","Nom","email","Age","Jours","Concat"]
["_SUXDOWX_","Indép.","16/08/2006","🇫🇷 French","Box/Partage 3G/4G","PlayStation 5","Wifi","Manette","C","A","Silver",40,"Fair-Play",null,"N/A","N/A","N/A","N/A",{"$f":"HYPERLINK(\"https://www.msleague.fr/?page_id=1502&um_user=_SUXDOWX_\", \"_SUXDOWX_\")","v":"_SUXDOWX_"},"Noelan","Jauze",{"$f":"_xlfn.XLOOKUP(A5,BDD!A1:A9999,BDD!B1:B9999,\" \",0,1)","v":"nodarklink@gmail.com"},{"$f":"IF(X5=\"\",\"\",CONVERT(X5,\"day\",\"yr\"))","v":17.626283367556468},{"$f":"IF(C5=\"N/A\",\"\",TODAY()-$C5)","v":6438},{"$f":"A5 & \" \" & B5 & \" \" & C5 & \" \" & D5 & \" \" & E5 & \" \" & F5 & \" \" & G5 & \" \" & H5 & \" \" & I5 & \" \" & J5 & \" \" & K5 & \" \" & L5 & \" \" & M5 & \" \" & N5 & \" \" & O5 & \" \" & P5 & \" \" &Q5 & \" \" & R5 & \" \" & S5 & \" \" & T5 & \" \" & U5 & \" \" & V5","v":"_SUXDOWX_ Indép. 16/08/2006 🇫🇷 French Box/Partage 3G/4G PlayStation 5 Wifi Manette C A Silver 40 Fair-Play  N/A N/A N/A N/A _SUXDOWX_ Noelan Jauze nodarklink@gmail.com"}]
["Acrobat600","Indép.","29/05/2009","🇫🇷 French","N/A","PlayStation 4","N/A","Volant Thrustmaster","B","S","Gold",60,"Safe",0,"N/A","N/A",0,"N/A",{"$f":"HYPERLINK(\"https://www.msleague.fr/?page_id=1502&um_user=Acrobat600\", \"Acrobat600\")","v":"Acrobat600"},"Stefano","Lhermite",{"$f":"_xlfn.XLOOKUP(A6,BDD!A2:A10000,BDD!B2:B10000,\" \",0,1)","v":"stef2009lz@gmail.com"},14.841889117043122,5421,{"$f":"A6 & \" \" & B6 & \" \" & C6 & \" \" & D6 & \" \" & E6 & \" \" & F6 & \" \" & G6 & \" \" & H6 & \" \" & I6 & \" \" & J6 & \" \" & K6 & \" \" & L6 & \" \" & M6 & \" \" & N6 & \" \" & O6 & \" \" & P6 & \" \" &Q6 & \" \" & R6 & \" \" & S6 & \" \" & T6 & \" \" & U6 & \" \" & V6","v":"Acrobat600 Indép. 29/05/2009 🇫🇷 French N/A PlayStation 4 N/A Volant Thrustmaster B S Gold 60 Safe 0 N/A N/A 0 N/A Acrobat600 Stefano Lhermite stef2009lz@gmail.com"}]
["ACTA_Maxrange","ACTA","16/05/2002","🇭🇺 Hungary","Câble","PlayStation 4","CPL","Volant Thrustmaster","A","S","Platinum",80,"Safe",null,"N/A","N/A","N/A","N/A",{"$f":"HYPERLINK(\"https://www.msleague.fr/?page_id=1502&um_user=ACTA_Maxrange\", \"ACTA_Maxrange\")","v":"ACTA_Maxrange"},"Kolos","Hodruszki",{"$f":"_xlfn.XLOOKUP(A7,BDD!A3:A10001,BDD!B3:B10001,\" \",0,1)","v":"maxrange615@gmail.com"},21.878165639972622,7991,"ACTA_Maxrange ACTA 16/05/2002 🇭🇺 Hungary Câble PlayStation 4 CPL Volant Thrustmaster A S Platinum 80 Safe  N/A N/A N/A N/A ACTA_Maxrange Kolos Hodruszki maxrange615@gmail.com"]
["ACTA_McLukeK","ACTA","16/11/1990","🇨🇿 Czechia","Câble","PlayStation 5","Filaire","Manette","B","S","Gold",60,"Safe",null,"N/A","N/A","N/A","N/A",{"$f":"HYPERLINK(\"https://www.msleague.fr/?page_id=1502&um_user=ACTA_McLukeK\", \"ACTA_McLukeK\")","v":"ACTA_McLukeK"},"Lukas","Koubek",{"$f":"_xlfn.XLOOKUP(A8,BDD!A4:A10002,BDD!B4:B10002,\" \",0,1)","v":"luke.koubek@gmail.com"},33.374401095140314,12190,"ACTA_McLukeK ACTA 16/11/1990 🇨🇿 Czechia Câble PlayStation 5 Filaire Manette B S Gold 60 Safe  N/A N/A N/A N/A ACTA_McLukeK Lukas Koubek luke.koubek@gmail.com"]
["ACTA_napPALI","ACTA","8/09/1991","🇸🇰 Slovakia","N/A","PlayStation 5","N/A","Volant Logitech","A+","S","Legend",95,"Safe",null,"N/A","N/A","N/A","N/A",{"$f":"HYPERLINK(\"https://www.msleague.fr/?page_id=1502&um_user=ACTA_napPALI\", \"ACTA_napPALI\")","v":"ACTA_napPALI"},"Pavol","Zsidek",{"$f":"_xlfn.XLOOKUP(A9,BDD!A5:A10003,BDD!B5:B10003,\" \",0,1)","v":"zsidekpal91@gmail.com"},32.563997262149215,11894,"ACTA_napPALI ACTA 8/09/1991 🇸🇰 Slovakia N/A PlayStation 5 N/A Volant Logitech A+ S Legend 95 Safe  N/A N/A N/A N/A ACTA_napPALI Pavol Zsidek zsidekpal91@gmail.com"]
["ACTA_Szabi","ACTA","21/03/1991","🇸🇰 Slovakia","Câble","PlayStation 5","Filaire","Volant Fanatec","A+","S","Legend",95,"Safe",null,"N/A","N/A","N/A","N/A",{"$f":"HYPERLINK(\"https://www.msleague.fr/?page_id=1502&um_user=ACTA_Szabi\", \"ACTA_Szabi\")","v":"ACTA_Szabi"},"Szabolcs","Kiss",{"$f":"_xlfn.XLOOKUP(A10,BDD!A6:A10004,BDD!B6:B10004,\" \",0,1)","v":"kiss.personal@gmail.com"},33.032169746748799,12065,"ACTA_Szabi ACTA 21/03/1991 🇸🇰 Slovakia Câble PlayStation 5 Filaire Volant Fanatec A+ S Legend 95 Safe  N/A N/A N/A N/A ACTA_Szabi Szabolcs Kiss kiss.personal@gmail.com"]
["AeS_Birinx13","AES","13/09/1996","🇫🇷 French","N/A","PlayStation 4","N/A","Manette","B","S","Gold",60,"Safe",0,"N/A","N/A",0,"N/A",{"$f":"HYPERLINK(\"https://www.msleague.fr/?page_id=1502&um_user=AeS_Birinx13\", \"AeS_Birinx13\")","v":"AeS_Birinx13"},"Kévin","Birin",{"$f":"_xlfn.XLOOKUP(A11,BDD!A7:A10005,BDD!B7:B10005,\" \",0,1)","v":"birinkevin@hotmail.fr"},27.548254620123203,10062,"AeS_Birinx13 AES 13/09/1996 🇫🇷 French N/A PlayStation 4 N/A Manette B S Gold 60 Safe 0 N/A N/A 0 N/A AeS_Birinx13 Kévin Birin birinkevin@hotmail.fr"]
["AES_Ravage","AES","16/09/2000","🇫🇷 French","N/A","PlayStation 4","N/A","Volant Thrustmaster","B","S","Gold",60,"Safe",0,"N/A","N/A",0,"N/A",{"$f":"HYPERLINK(\"https://www.msleague.fr/?page_id=1502&um_user=AES_Ravage\", \"AES_Ravage\")","v":"AES_Ravage"},"Theo","Laurent",{"$f":"_xlfn.XLOOKUP(A12,BDD!A8:A10006,BDD!B8:B10006,\" \",0,1)","v":"theo.laurent16@outlook.fr"},23.540041067761805,8598,"AES_Ravage AES 16/09/2000 🇫🇷 French N/A PlayStation 4 N/A Volant Thrustmaster B S Gold 60 Safe 0 N/A N/A 0 N/A AES_Ravage Theo Laurent theo.laurent16@outlook.fr"]
["Aes_stephaneloge","AES","3/02/1974","🇫🇷 French","N/A","PlayStation 5","N/A","Volant Thrustmaster","B","S","Gold",60,"Safe",0,"N/A","N/A",0,"N/A",{"$f":"HYPERLINK(\"https://www.msleague.fr/?page_id=1502&um_user=Aes_stephaneloge\", \"Aes_stephaneloge\")","v":"Aes_stephaneloge"},"Stéphane","Thierry",{"$f":"_xlfn.XLOOKUP(A13,BDD!A9:A10007,BDD!B9:B10007,\" \",0,1)","v":"thierrystephane7951@neuf.fr"},50.157426420260094,18320,"Aes_stephaneloge AES 3/02/1974 🇫🇷 French N/A PlayStation 5 N/A Volant Thrustmaster B S Gold 60 Safe 0 N/A N/A 0 N/A Aes_stephaneloge Stéphane Thierry thierrystephane7951@neuf.fr"]
["AlessandroV_7","ITM","30/08/1999","🇮🇹 Italy","ADSL","PlayStation 4","Wifi","Volant Thrustmaster","A+","S","Legend",95,"Safe",null,"N/A","N/A","N/A","N/A",{"$f":"HYPERLINK(\"https://www.msleague.fr/?page_id=1502&um_user=AlessandroV_7\", \"AlessandroV_7\")","v":"AlessandroV_7"},"Alessandro","Violi",{"$f":"_xlfn.XLOOKUP(A14,BDD!A10:A10008,BDD!B10:B10008,\" \",0,1)","v":"alessandro.violi99@gmail.com"},24.588637919233403,8981,"AlessandroV_7 ITM 30/08/1999 🇮🇹 Italy ADSL PlayStation 4 Wifi Volant Thrustmaster A+ S Legend 95 Safe  N/A N/A N/A N/A AlessandroV_7 Alessandro Violi alessandro.violi99@gmail.com"]
["Alex__dm05","Petrheds","10/10/2005","🇮🇹 Italy","ADSL","PlayStation 5","Wifi","Manette","B","B","Gold",60,"Batailleur",null,"N/A","N/A","N/A","N/A",{"$f":"HYPERLINK(\"https://www.msleague.fr/?page_id=1502&um_user=Alex__dm05\", \"Alex__dm05\")","v":"Alex__dm05"},"Alessandro pio","De marco",{"$f":"_xlfn.XLOOKUP(A15,BDD!A11:A10009,BDD!B11:B10009,\" \",0,1)","v":"aledemar90@gmail.com"},18.475017111567421,6748,"Alex__dm05 Petrheds 10/10/2005 🇮🇹 Italy ADSL PlayStation 5 Wifi Manette B B Gold 60 Batailleur  N/A N/A N/A N/A Alex__dm05 Alessandro pio De marco aledemar90@gmail.com"]
["Alex_Rose_86","DAX","9/07/1986","🇫🇷 French","N/A","PlayStation 5","N/A","Manette","B","S","Gold",58.12,"Safe",0,1,"N/A",1,"N/A",{"$f":"HYPERLINK(\"https://www.msleague.fr/?page_id=1502&um_user=Alex_Rose_86\", \"Alex_Rose_86\")","v":"Alex_Rose_86"},"Tony","De Lemos",{"$f":"_xlfn.XLOOKUP(A16,BDD!A12:A10010,BDD!B12:B10010,\" \",0,1)","v":"tonydelemos86@gmail.com"},37.730321697467488,13781,"Alex_Rose_86 DAX 9/07/1986 🇫🇷 French N/A PlayStation 5 N/A Manette B S Gold 58,12 Safe 0 1 N/A 1 N/A Alex_Rose_86 Tony De Lemos tonydelemos86@gmail.com"]
["Alkazis_","Indép.","14/10/2000","🇧🇪 Belgium","Câble","PlayStation 5","Filaire","Volant Logitech","E","B","Rookie",5,"Batailleur",null,"N/A","N/A","N/A","N/A",{"$f":"HYPERLINK(\"https://www.msleague.fr/?page_id=1502&um_user=Alkazis_\", \"Alkazis_\")","v":"Alkazis_"},"Rosario","Lentini",{"$f":"_xlfn.XLOOKUP(A17,BDD!A13:A10011,BDD!B13:B10011,\" \",0,1)","v":"rosariolentini14@gmail.com"},23.463381245722108,8570,"Alkazis_ Indép. 14/10/2000 🇧🇪 Belgium Câble PlayStation 5 Filaire Volant Logitech E B Rookie 5 Batailleur  N/A N/A N/A N/A Alkazis_ Rosario Lentini rosariolentini14@gmail.com"]
["ALM07_Leandro","Indép.","4/01/2000","🇫🇷 French","Fibre","PlayStation 5","Wifi","Volant Logitech","B","S","Gold",60,"Safe",null,"N/A","N/A","N/A","N/A",{"$f":"HYPERLINK(\"https://www.msleague.fr/?page_id=1502&um_user=ALM07_Leandro\", \"ALM07_Leandro\")","v":"ALM07_Leandro"},"Leandro","Mota",{"$f":"_xlfn.XLOOKUP(A18,BDD!A14:A10012,BDD!B14:B10012,\" \",0,1)","v":"leandro.mota07@outlook.fr"},24.240930869267626,8854,"ALM07_Leandro Indép. 4/01/2000 🇫🇷 French Fibre PlayStation 5 Wifi Volant Logitech B S Gold 60 Safe  N/A N/A N/A N/A ALM07_Leandro Leandro Mota leandro.mota07@outlook.fr"]
["Almado_Academy","PRIMA","12/07/2002","🇫🇷 French","N/A","PlayStation 5","N/A","Volant Thrustmaster","A+","S","Legend",98.79,"Safe",0,1,100,2,100,{"$f":"HYPERLINK(\"https://www.msleague.fr/?page_id=1502&um_user=Almado_Academy\", \"Almado_Academy\")","v":"Almado_Academy"},"Maxime","Delpech",{"$f":"_xlfn.XLOOKUP(A19,BDD!A15:A10013,BDD!B15:B10013,\" \",0,1)","v":"maxime.delpech12@gmail.com"},21.722108145106091,7934,"Almado_Academy PRIMA 12/07/2002 🇫🇷 French N/A PlayStation 5 N/A Volant Thrustmaster A+ S Legend 98,79 Safe 0 1 100 2 100 Almado_Academy Maxime Delpech maxime.delpech12@gmail.com"]
["ALN_aramando_16","ALN","4/08/2006","🇪🇸 Spain","Câble","PlayStation 5","Filaire","Volant Thrustmaster","A+","S","Legend",95,"Safe",null,"N/A","N/A","N/A","N/A",{"$f":"HYPERLINK(\"https://www.msleague.fr/?page_id=1502&um_user=ALN_aramando_16\", \"ALN_aramando_16\")","v":"ALN_aramando_16"},"Armando","González",{"$f":"_xlfn.XLOOKUP(A20,BDD!A16:A10014,BDD!B16:B10014,\" \",0,1)","v":"armandoemiliogonzalez@gmail.com"},17.659137577002053,6450,"ALN_aramando_16 ALN 4/08/2006 🇪🇸 Spain Câble PlayStation 5 Filaire Volant Thrustmaster A+ S Legend 95 Safe  N/A N/A N/A N/A ALN_aramando_16 Armando González armandoemiliogonzalez@gmail.com"]
["ALN_FRANFELIPE8","ALN","4/10/2006","🇪🇸 Spain","Câble","PlayStation 5","Filaire","Volant Fanatec","A+","S","Legend",95,"Safe",null,"N/A","N/A","N/A","N/A",{"$f":"HYPERLINK(\"https://www.msleague.fr/?page_id=1502&um_user=ALN_FRANFELIPE8\", \"ALN_FRANFELIPE8\")","v":"ALN_FRANFELIPE8"},"Fran","Felipe",{"$f":"_xlfn.XLOOKUP(A21,BDD!A17:A10015,BDD!B17:B10015,\" \",0,1)","v":"franfelipe61@gmail.com"},17.492128678986994,6389,"ALN_FRANFELIPE8 ALN 4/10/2006 🇪🇸 Spain Câble PlayStation 5 Filaire Volant Fanatec A+ S Legend 95 Safe  N/A N/A N/A N/A ALN_FRANFELIPE8 Fran Felipe franfelipe61@gmail.com"]
["ALN_LoloVera","ALN","14/03/2008","🇪🇸 Spain","Câble","PlayStation 4","Filaire","Volant Logitech","C","A","Silver",40,"Fair-Play",null,"N/A","N/A","N/A","N/A",{"$f":"HYPERLINK(\"https://www.msleague.fr/?page_id=1502&um_user=ALN_LoloVera\", \"ALN_LoloVera\")","v":"ALN_LoloVera"},"Lolo","Vera",{"$f":"_xlfn.XLOOKUP(A22,BDD!A18:A10016,BDD!B18:B10016,\" \",0,1)","v":"loloveracarmona@gmail.com"},16.049281314168379,5862,"ALN_LoloVera ALN 14/03/2008 🇪🇸 Spain Câble PlayStation 4 Filaire Volant Logitech C A Silver 40 Fair-Play  N/A N/A N/A N/A ALN_LoloVera Lolo Vera loloveracarmona@gmail.com"]
["Altiorem53","NRT","23/04/2003","🇧🇪 Belgium","N/A","PlayStation 4","N/A","Volant Thrustmaster","A","S","Platinum",80,"Safe",0,"N/A","N/A",0,"N/A",{"$f":"HYPERLINK(\"https://www.msleague.fr/?page_id=1502&um_user=Altiorem53\", \"Altiorem53\")","v":"Altiorem53"},"Quentin","Wauthoz",{"$f":"_xlfn.XLOOKUP(A23,BDD!A19:A10017,BDD!B19:B10017,\" \",0,1)","v":"quentin.wauthoz@gmail.com"},20.941820670773442,7649,"Altiorem53 NRT 23/04/2003 🇧🇪 Belgium N/A PlayStation 4 N/A Volant Thrustmaster A S Platinum 80 Safe 0 N/A N/A 0 N/A Altiorem53 Quentin Wauthoz quentin.wauthoz@gmail.com"]
["Ambassador11_JRV","AMBA","22/10/2004","🇺🇸 United States","Fibre","PlayStation 4","Wifi","Manette","A+","S","Legend",95,"Safe",null,"N/A","N/A","N/A","N/A",{"$f":"HYPERLINK(\"https://www.msleague.fr/?page_id=1502&um_user=Ambassador11_JRV\", \"Ambassador11_JRV\")","v":"Ambassador11_JRV"},"Joshua Enrique","Rodriguez Vera",{"$f":"_xlfn.XLOOKUP(A24,BDD!A20:A10018,BDD!B20:B10018,\" \",0,1)","v":"Everajoshuar@gmail.com"},19.441478439425051,7101,"Ambassador11_JRV AMBA 22/10/2004 🇺🇸 United States Fibre PlayStation 4 Wifi Manette A+ S Legend 95 Safe  N/A N/A N/A N/A Ambassador11_JRV Joshua Enrique Rodriguez Vera Everajoshuar@gmail.com"]
["Ambassador24_DGr","AMB","6/08/2010","🇨🇴 Colombia","Câble","PlayStation 5","Filaire","Volant Fanatec","A+","S","Legend",95,"Safe",null,"N/A","N/A","N/A","N/A",{"$f":"HYPERLINK(\"https://www.msleague.fr/?page_id=1502&um_user=Ambassador24_DGr\", \"Ambassador24_DGr\")","v":"Ambassador24_DGr"},"David","Grajales",{"$f":"_xlfn.XLOOKUP(A25,BDD!A21:A10019,BDD!B21:B10019,\" \",0,1)","v":"arq.grajales@gmail.com"},13.653661875427789,{"$f":"IF(C25=\"N/A\",\"\",TODAY()-$C25)","v":4987},"Ambassador24_DGr AMB 6/08/2010 🇨🇴 Colombia Câble PlayStation 5 Filaire Volant Fanatec A+ S Legend 95 Safe  N/A N/A N/A N/A Ambassador24_DGr David Grajales arq.grajales@gmail.com"]
["AMNEZ-AMG63","Indép.","20/12/1986","🇫🇷 French","N/A","PlayStation 5","N/A","Manette","B","A","Gold",60,"Fair-Play",0,"N/A","N/A",0,"N/A",{"$f":"HYPERLINK(\"https://www.msleague.fr/?page_id=1502&um_user=AMNEZ-AMG63\", \"AMNEZ-AMG63\")","v":"AMNEZ-AMG63"},"Alexandre","Antoine",{"$f":"_xlfn.XLOOKUP(A26,BDD!A22:A10020,BDD!B22:B10020,\" \",0,1)","v":"Antoineakex@gmail.com"},37.281314168377826,13617,"AMNEZ-AMG63 Indép. 20/12/1986 🇫🇷 French N/A PlayStation 5 N/A Manette B A Gold 60 Fair-Play 0 N/A N/A 0 N/A AMNEZ-AMG63 Alexandre Antoine Antoineakex@gmail.com"]
["anarchi_71","Indép.","10/03/1974","🇵🇱 Poland","N/A","PlayStation 4","N/A","Volant Thrustmaster","A","A","Platinum",80,"Batailleur",0,"N/A","N/A",0,"N/A",{"$f":"HYPERLINK(\"https://www.msleague.fr/?page_id=1502&um_user=anarchi_71\", \"anarchi_71\")","v":"anarchi_71"},"Marcin","Juraś",{"$f":"_xlfn.XLOOKUP(A27,BDD!A23:A10021,BDD!B23:B10021,\" \",0,1)","v":"anarchicmj@gmail.com"},50.061601642710471,18285,"anarchi_71 Indép. 10/03/1974 🇵🇱 Poland N/A PlayStation 4 N/A Volant Thrustmaster A A Platinum 80 Batailleur 0 N/A N/A 0 N/A anarchi_71 Marcin Juraś anarchicmj@gmail.com"]
["AndreaCN1969","ITM","6/05/1997","🇮🇹 Italy","Fibre","PlayStation 5","Filaire","Volant Logitech","A","S","Platinum",80,"Safe",null,"N/A","N/A","N/A","N/A",{"$f":"HYPERLINK(\"https://www.msleague.fr/?page_id=1502&um_user=AndreaCN1969\", \"AndreaCN1969\")","v":"AndreaCN1969"},"Andrea","Pierro",{"$f":"_xlfn.XLOOKUP(A28,BDD!A24:A10022,BDD!B24:B10022,\" \",0,1)","v":"andre.cn1969@gmail.com"},26.904859685147159,9827,"AndreaCN1969 ITM 6/05/1997 🇮🇹 Italy Fibre PlayStation 5 Filaire Volant Logitech A S Platinum 80 Safe  N/A N/A N/A N/A AndreaCN1969 Andrea Pierro andre.cn1969@gmail.com"]
["Apey-153","JV2","15/03/1993","🇫🇷 French","VDSL","PlayStation 5","Filaire","Manette","A+","S","Platinum",73.7,"Safe",0,1,0,7,0,{"$f":"HYPERLINK(\"https://www.msleague.fr/?page_id=1502&um_user=Apey-153\", \"Apey-153\")","v":"Apey-153"},"Anthony","Pascal",{"$f":"_xlfn.XLOOKUP(A29,BDD!A25:A10023,BDD!B25:B10023,\" \",0,1)","v":"Pascalanthony182@gmail.com"},31.04722792607803,11340,"Apey-153 JV2 15/03/1993 🇫🇷 French VDSL PlayStation 5 Filaire Manette A+ S Platinum 73,7 Safe 0 1 0 7 0 Apey-153 Anthony Pascal Pascalanthony182@gmail.com"]
["Arkin1302","MTJ","13/02/1972","🇫🇷 French","Fibre","PlayStation 4","Wifi","Volant Thrustmaster","B","S","Gold",60,"Safe",null,"N/A","N/A","N/A","N/A",{"$f":"HYPERLINK(\"https://www.msleague.fr/?page_id=1502&um_user=Arkin1302\", \"Arkin1302\")","v":"Arkin1302"},"david","pujo",{"$f":"_xlfn.XLOOKUP(A30,BDD!A26:A10024,BDD!B26:B10024,\" \",0,1)","v":"arkin1302@gmail.com"},52.131416837782339,19041,"Arkin1302 MTJ 13/02/1972 🇫🇷 French Fibre PlayStation 4 Wifi Volant Thrustmaster B S Gold 60 Safe  N/A N/A N/A N/A Arkin1302 david pujo arkin1302@gmail.com"]
["Arthur_G15","Indép.","15/07/2002","🇫🇷 French","N/A","PlayStation 4","N/A","Volant Thrustmaster","C","S","Silver",40,"Safe",0,"N/A","N/A","N/A","N/A",{"$f":"HYPERLINK(\"https://www.msleague.fr/?page_id=1502&um_user=Arthur_G15\", \"Arthur_G15\")","v":"Arthur_G15"},"Arthur","Guerin",{"$f":"_xlfn.XLOOKUP(A31,BDD!A27:A10025,BDD!B27:B10025,\" \",0,1)","v":"arthur.guerin15@outlook.fr"},21.713894592744694,7931,"Arthur_G15 Indép. 15/07/2002 🇫🇷 French N/A PlayStation 4 N/A Volant Thrustmaster C S Silver 40 Safe 0 N/A N/A N/A N/A Arthur_G15 Arthur Guerin arthur.guerin15@outlook.fr"]
["Asac_Supermax","Err. PSN","N/A","N/A","N/A","N/A","N/A","N/A","N/A","N/A","N/A",null,"N/A",null,"N/A","N/A","N/A","N/A",{"$f":"HYPERLINK(\"https://www.msleague.fr/?page_id=1502&um_user=Asac_Supermax\", \"Asac_Supermax\")","v":"Asac_Supermax"},"N/A","N/A",{"$f":"_xlfn.XLOOKUP(A32,BDD!A28:A10026,BDD!B28:B10026,\" \",0,1)","v":"maxvscharles@gmail.com"},"","","Asac_Supermax Err. PSN N/A N/A N/A N/A N/A N/A N/A N/A N/A  N/A  N/A N/A N/A N/A Asac_Supermax N/A N/A maxvscharles@gmail.com"]
["Asmita85800","DAX","18/10/1977","🇫🇷 French","N/A","PlayStation 4","N/A","Volant Fanatec","B","S","Gold",60,"Safe",0,"N/A","N/A","N/A","N/A",{"$f":"HYPERLINK(\"https://www.msleague.fr/?page_id=1502&um_user=Asmita85800\", \"Asmita85800\")","v":"Asmita85800"},"Mikis","Aunos",{"$f":"_xlfn.XLOOKUP(A33,BDD!A29:A10027,BDD!B29:B10027,\" \",0,1)","v":"Mikis.aunos@orange.fr"},46.453114305270361,16967,"Asmita85800 DAX 18/10/1977 🇫🇷 French N/A PlayStation 4 N/A Volant Fanatec B S Gold 60 Safe 0 N/A N/A N/A N/A Asmita85800 Mikis Aunos Mikis.aunos@orange.fr"]
["AVA_davisuko","AVALON","25/02/1982","🇪🇸 Spain","Fibre","PlayStation 5","Filaire","Volant Thrustmaster","A","S","Platinum",80,"Safe",0,"N/A","N/A","N/A","N/A",{"$f":"HYPERLINK(\"https://www.msleague.fr/?page_id=1502&um_user=AVA_davisuko\", \"AVA_davisuko\")","v":"AVA_davisuko"},"David","Puga",{"$f":"_xlfn.XLOOKUP(A34,BDD!A30:A10028,BDD!B30:B10028,\" \",0,1)","v":"davisuko@hotmail.com"},42.097193702943187,15376,"AVA_davisuko AVALON 25/02/1982 🇪🇸 Spain Fibre PlayStation 5 Filaire Volant Thrustmaster A S Platinum 80 Safe 0 N/A N/A N/A N/A AVA_davisuko David Puga davisuko@hotmail.com"]
["Averagedutchman","Indép.","20/04/2005","🇳🇱 Netherland","Câble","PlayStation 4","Filaire","Volant Fanatec","A+","S","Legend",95,"Safe",null,"N/A","N/A","N/A","N/A",{"$f":"HYPERLINK(\"https://www.msleague.fr/?page_id=1502&um_user=Averagedutchman\", \"Averagedutchman\")","v":"Averagedutchman"},"Daan","Daan van Zutphen",{"$f":"_xlfn.XLOOKUP(A35,BDD!A31:A10029,BDD!B31:B10029,\" \",0,1)","v":"daanvzofficial@gmail.com"},18.948665297741272,6921,"Averagedutchman Indép. 20/04/2005 🇳🇱 Netherland Câble PlayStation 4 Filaire Volant Fanatec A+ S Legend 95 Safe  N/A N/A N/A N/A Averagedutchman Daan Daan van Zutphen daanvzofficial@gmail.com"]
["averageracer12","Indép.","1/03/2024","🇭🇺 Hungary","Câble","PlayStation 5","CPL","Volant Thrustmaster","A+","S","Legend",95,"Safe",null,"N/A","N/A","N/A","N/A",{"$f":"HYPERLINK(\"https://www.msleague.fr/?page_id=1502&um_user=averageracer12\", \"averageracer12\")","v":"averageracer12"},"Patrik","Takács",{"$f":"_xlfn.XLOOKUP(A36,BDD!A32:A10030,BDD!B32:B10030,\" \",0,1)","v":"takacs830610@freemail.hu"},8.4873374401095145E-2,31,"averageracer12 Indép. 1/03/2024 🇭🇺 Hungary Câble PlayStation 5 CPL Volant Thrustmaster A+ S Legend 95 Safe  N/A N/A N/A N/A averageracer12 Patrik Takács takacs830610@freemail.hu"]
["Aweoob","Indép.","10/10/1991","🇫🇷 French","N/A","PlayStation 5","N/A","Volant Logitech","A","S","Platinum",80,"Safe",0,"N/A","N/A","N/A","N/A",{"$f":"HYPERLINK(\"https://www.msleague.fr/?page_id=1502&um_user=Aweoob\", \"Aweoob\")","v":"Aweoob"},"Pierre","Menou",{"$f":"_xlfn.XLOOKUP(A37,BDD!A33:A10031,BDD!B33:B10031,\" \",0,1)","v":"pie.menou@gmail.com"},32.476386036960989,11862,"Aweoob Indép. 10/10/1991 🇫🇷 French N/A PlayStation 5 N/A Volant Logitech A S Platinum 80 Safe 0 N/A N/A N/A N/A Aweoob Pierre Menou pie.menou@gmail.com"]
["axel_fusio","STORM","24/11/1994","🇫🇷 French","N/A","PlayStation 5","N/A","Volant Logitech","A","S","Platinum",81.47,"Safe",0,1,0,1,0,{"$f":"HYPERLINK(\"https://www.msleague.fr/?page_id=1502&um_user=axel_fusio\", \"axel_fusio\")","v":"axel_fusio"},"Axel","BOYER",{"$f":"_xlfn.XLOOKUP(A38,BDD!A34:A10032,BDD!B34:B10032,\" \",0,1)","v":"boyer.axel1@laposte.net"},29.352498288843258,10721,"axel_fusio STORM 24/11/1994 🇫🇷 French N/A PlayStation 5 N/A Volant Logitech A S Platinum 81,47 Safe 0 1 0 1 0 axel_fusio Axel BOYER boyer.axel1@laposte.net"]
["babaff21","Indép.","27/04/1980","🇫🇷 French","Fibre","PlayStation 5","CPL","Manette","B","A","Gold",60,"Fair-Play",null,"N/A","N/A","N/A","N/A",{"$f":"HYPERLINK(\"https://www.msleague.fr/?page_id=1502&um_user=babaff21\", \"babaff21\")","v":"babaff21"},"Fabien","Lo Russo",{"$f":"_xlfn.XLOOKUP(A39,BDD!A35:A10033,BDD!B35:B10033,\" \",0,1)","v":"babaff@hotmail.com"},43.928815879534568,16045,"babaff21 Indép. 27/04/1980 🇫🇷 French Fibre PlayStation 5 CPL Manette B A Gold 60 Fair-Play  N/A N/A N/A N/A babaff21 Fabien Lo Russo babaff@hotmail.com"]
["babybabe","BKC","1/12/1985","🇫🇷 French","N/A","PlayStation 4","N/A","Manette","B","S","Gold",60,"Safe",0,"N/A","N/A","N/A","N/A",{"$f":"HYPERLINK(\"https://www.msleague.fr/?page_id=1502&um_user=babybabe\", \"babybabe\")","v":"babybabe"},"Anthony","Teraa",{"$f":"_xlfn.XLOOKUP(A40,BDD!A36:A10034,BDD!B36:B10034,\" \",0,1)","v":"teraa.anthony@neuf.fr"},38.332648870636554,14001,"babybabe BKC 1/12/1985 🇫🇷 French N/A PlayStation 4 N/A Manette B S Gold 60 Safe 0 N/A N/A N/A N/A babybabe Anthony Teraa teraa.anthony@neuf.fr"]
["BAM__Bariton72","BAM","12/01/1982","🇫🇷 French","N/A","PlayStation 5","N/A","Volant Fanatec","B","B","Gold",60,"Batailleur",0,"N/A","N/A","N/A","N/A",{"$f":"HYPERLINK(\"https://www.msleague.fr/?page_id=1502&um_user=BAM__Bariton72\", \"BAM__Bariton72\")","v":"BAM__Bariton72"},"laurent","manceau",{"$f":"_xlfn.XLOOKUP(A41,BDD!A37:A10035,BDD!B37:B10035,\" \",0,1)","v":"laurent.manceau@bamsimracing.fr"},42.217659137577002,15420,"BAM__Bariton72 BAM 12/01/1982 🇫🇷 French N/A PlayStation 5 N/A Volant Fanatec B B Gold 60 Batailleur 0 N/A N/A N/A N/A BAM__Bariton72 laurent manceau laurent.manceau@bamsimracing.fr"]
["BAM_AlexBTO","BAM","2/09/1977","🇫🇷 French","N/A","PlayStation 5","N/A","Volant Thrustmaster","B","S","Gold",60,"Safe",0,"N/A","N/A","N/A","N/A",{"$f":"HYPERLINK(\"https://www.msleague.fr/?page_id=1502&um_user=BAM_AlexBTO\", \"BAM_AlexBTO\")","v":"BAM_AlexBTO"},"Alexandrre","BOTTINO",{"$f":"_xlfn.XLOOKUP(A42,BDD!A38:A10036,BDD!B38:B10036,\" \",0,1)","v":"alexandre.bottino77@gmail.com"},46.579055441478438,17013,"BAM_AlexBTO BAM 2/09/1977 🇫🇷 French N/A PlayStation 5 N/A Volant Thrustmaster B S Gold 60 Safe 0 N/A N/A N/A N/A BAM_AlexBTO Alexandrre BOTTINO alexandre.bottino77@gmail.com"]
["BAM_ALEXF40160","BAM","30/06/1989","🇫🇷 French","N/A","PlayStation 5","N/A","Volant Thrustmaster","A","S","Platinum",80,"Safe",0,"N/A","N/A","N/A","N/A",{"$f":"HYPERLINK(\"https://www.msleague.fr/?page_id=1502&um_user=BAM_ALEXF40160\", \"BAM_ALEXF40160\")","v":"BAM_ALEXF40160"},"Alexandre","Froissard",{"$f":"_xlfn.XLOOKUP(A43,BDD!A39:A10037,BDD!B39:B10037,\" \",0,1)","v":"Alexf33260@hotmail.fr"},34.75427789185489,12694,"BAM_ALEXF40160 BAM 30/06/1989 🇫🇷 French N/A PlayStation 5 N/A Volant Thrustmaster A S Platinum 80 Safe 0 N/A N/A N/A N/A BAM_ALEXF40160 Alexandre Froissard Alexf33260@hotmail.fr"]
["BAM_Ben_Haut_Hit","BAM","1/04/1973","🇫🇷 French","N/A","PlayStation 5","N/A","Volant Thrustmaster","A","S","Platinum",80,"Safe",0,"N/A","N/A","N/A","N/A",{"$f":"HYPERLINK(\"https://www.msleague.fr/?page_id=1502&um_user=BAM_Ben_Haut_Hit\", \"BAM_Ben_Haut_Hit\")","v":"BAM_Ben_Haut_Hit"},"Benoit","Lavallois",{"$f":"_xlfn.XLOOKUP(A44,BDD!A40:A10038,BDD!B40:B10038,\" \",0,1)","v":"benoit.lavallois@gmail.com"},51.000684462696782,18628,"BAM_Ben_Haut_Hit BAM 1/04/1973 🇫🇷 French N/A PlayStation 5 N/A Volant Thrustmaster A S Platinum 80 Safe 0 N/A N/A N/A N/A BAM_Ben_Haut_Hit Benoit Lavallois benoit.lavallois@gmail.com"]
["BAM_Em1l1en27","BAM","27/11/2003","🇫🇷 French","ADSL","PlayStation 5","CPL","Volant Thrustmaster","A+","S","Legend",95,"Safe",0,"N/A","N/A","N/A","N/A",{"$f":"HYPERLINK(\"https://www.msleague.fr/?page_id=1502&um_user=BAM_Em1l1en27\", \"BAM_Em1l1en27\")","v":"BAM_Em1l1en27"},"Emilien","Delerive",{"$f":"_xlfn.XLOOKUP(A45,BDD!A41:A10039,BDD!B41:B10039,\" \",0,1)","v":"emildelerive62@gmail.com"},20.344969199178646,7431,"BAM_Em1l1en27 BAM 27/11/2003 🇫🇷 French ADSL PlayStation 5 CPL Volant Thrustmaster A+ S Legend 95 Safe 0 N/A N/A N/A N/A BAM_Em1l1en27 Emilien Delerive emildelerive62@gmail.com"]
["BAM_FredTheRock","BAM","21/06/1973","🇫🇷 French","N/A","PlayStation 5","N/A","Volant Fanatec","C","S","Silver",40,"Safe",0,"N/A","N/A","N/A","N/A",{"$f":"HYPERLINK(\"https://www.msleague.fr/?page_id=1502&um_user=BAM_FredTheRock\", \"BAM_FredTheRock\")","v":"BAM_FredTheRock"},"frederic","gallet",{"$f":"_xlfn.XLOOKUP(A46,BDD!A42:A10040,BDD!B42:B10040,\" \",0,1)","v":"gallet.fredo62@gmail.com"},50.778918548939082,18547,"BAM_FredTheRock BAM 21/06/1973 🇫🇷 French N/A PlayStation 5 N/A Volant Fanatec C S Silver 40 Safe 0 N/A N/A N/A N/A BAM_FredTheRock frederic gallet gallet.fredo62@gmail.com"]
["BAM_LeBreton29","BAM","30/01/2023","🇫🇷 French","N/A","PlayStation 4","N/A","Volant Logitech","D","S","Bronze",19.149999999999999,"Safe",0,2,"N/A",3,"N/A",{"$f":"HYPERLINK(\"https://www.msleague.fr/?page_id=1502&um_user=BAM_LeBreton29\", \"BAM_LeBreton29\")","v":"BAM_LeBreton29"},"Yohan","Karadec",{"$f":"_xlfn.XLOOKUP(A47,BDD!A43:A10041,BDD!B43:B10041,\" \",0,1)","v":"Arlyohan16@gmail.com"},1.1690622861054072,427,"BAM_LeBreton29 BAM 30/01/2023 🇫🇷 French N/A PlayStation 4 N/A Volant Logitech D S Bronze 19,15 Safe 0 2 N/A 3 N/A BAM_LeBreton29 Yohan Karadec Arlyohan16@gmail.com"]
["BAM_Swissnox","BAM","10/07/1985","🇨🇭 Switzerland","N/A","PlayStation 4","N/A","Volant Thrustmaster","B","S","Gold",60.48,"Fair-Play",0,2,0,2,0,{"$f":"HYPERLINK(\"https://www.msleague.fr/?page_id=1502&um_user=BAM_Swissnox\", \"BAM_Swissnox\")","v":"BAM_Swissnox"},"olivier","marty",{"$f":"_xlfn.XLOOKUP(A48,BDD!A44:A10042,BDD!B44:B10042,\" \",0,1)","v":"om18hornet@hotmail.com"},38.726899383983572,14145,"BAM_Swissnox BAM 10/07/1985 🇨🇭 Switzerland N/A PlayStation 4 N/A Volant Thrustmaster B S Gold 60,48 Fair-Play 0 2 0 2 0 BAM_Swissnox olivier marty om18hornet@hotmail.com"]
["Barbich03","BOX","10/11/1994","🇫🇷 French","N/A","PlayStation 4","N/A","Volant Logitech","B","S","Gold",60,"Safe",0,"N/A","N/A",0,"N/A",{"$f":"HYPERLINK(\"https://www.msleague.fr/?page_id=1502&um_user=Barbich03\", \"Barbich03\")","v":"Barbich03"},"Alexandre","Barbier",{"$f":"_xlfn.XLOOKUP(A49,BDD!A45:A10043,BDD!B45:B10043,\" \",0,1)","v":"Bara50140@gmail.com"},29.390828199863108,10735,"Barbich03 BOX 10/11/1994 🇫🇷 French N/A PlayStation 4 N/A Volant Logitech B S Gold 60 Safe 0 N/A N/A 0 N/A Barbich03 Alexandre Barbier Bara50140@gmail.com"]
["Bast_RWDM-_-69","Indép.","8/03/1981","🇧🇪 Belgium","N/A","PlayStation 5","N/A","Volant Thrustmaster","B","S","Gold",57.08,"Safe",0,"N/A","N/A",0,"N/A",{"$f":"HYPERLINK(\"https://www.msleague.fr/?page_id=1502&um_user=Bast_RWDM-_-69\", \"Bast_RWDM-_-69\")","v":"Bast_RWDM-_-69"},"David","Bastenier",{"$f":"_xlfn.XLOOKUP(A50,BDD!A46:A10044,BDD!B46:B10044,\" \",0,1)","v":"davidbastenier@gmail.com"},43.066392881587952,15730,"Bast_RWDM-_-69 Indép. 8/03/1981 🇧🇪 Belgium N/A PlayStation 5 N/A Volant Thrustmaster B S Gold 57,08 Safe 0 N/A N/A 0 N/A Bast_RWDM-_-69 David Bastenier davidbastenier@gmail.com"]
["Batok_39","Indép.","16/04/1981","🇫🇷 French","ADSL","PlayStation 5","Wifi","Volant Fanatec","A+","S","Legend",95,"Safe",0,"N/A","N/A","N/A","N/A",{"$f":"HYPERLINK(\"https://www.msleague.fr/?page_id=1502&um_user=Batok_39\", \"Batok_39\")","v":"Batok_39"},"Anthony","FACHINETTI",{"$f":"_xlfn.XLOOKUP(A51,BDD!A47:A10045,BDD!B47:B10045,\" \",0,1)","v":"anthony.fachinetti@icloud.com"},42.959616700889804,15691,"Batok_39 Indép. 16/04/1981 🇫🇷 French ADSL PlayStation 5 Wifi Volant Fanatec A+ S Legend 95 Safe 0 N/A N/A N/A N/A Batok_39 Anthony FACHINETTI anthony.fachinetti@icloud.com"]
["BelagiuS06","Indép.","6/06/1985","🇫🇷 French","Fibre","PlayStation 4","Wifi","Volant Thrustmaster","D","S","Bronze",20,"Safe",null,"N/A","N/A","N/A","N/A",{"$f":"HYPERLINK(\"https://www.msleague.fr/?page_id=1502&um_user=BelagiuS06\", \"BelagiuS06\")","v":"BelagiuS06"},"Florian","Panche",{"$f":"_xlfn.XLOOKUP(A52,BDD!A48:A10046,BDD!B48:B10046,\" \",0,1)","v":"Florian.imaux@gmail.com"},38.819986310746067,14179,"BelagiuS06 Indép. 6/06/1985 🇫🇷 French Fibre PlayStation 4 Wifi Volant Thrustmaster D S Bronze 20 Safe  N/A N/A N/A N/A BelagiuS06 Florian Panche Florian.imaux@gmail.com"]
["BFR_BoLT","BFR","18/08/1985","🇧🇪 Belgium","N/A","PlayStation 4","N/A","Volant Thrustmaster","A+","S","Legend",95,"Safe",0,"N/A","N/A",0,"N/A",{"$f":"HYPERLINK(\"https://www.msleague.fr/?page_id=1502&um_user=BFR_BoLT\", \"BFR_BoLT\")","v":"BFR_BoLT"},"Jonathan","Bodson",{"$f":"_xlfn.XLOOKUP(A53,BDD!A49:A10047,BDD!B49:B10047,\" \",0,1)","v":"bfrbolt@gmail.com"},38.620123203285424,14106,"BFR_BoLT BFR 18/08/1985 🇧🇪 Belgium N/A PlayStation 4 N/A Volant Thrustmaster A+ S Legend 95 Safe 0 N/A N/A 0 N/A BFR_BoLT Jonathan Bodson bfrbolt@gmail.com"]
["BFR_Bran","BFR","1/02/2006","🇧🇪 Belgium","N/A","PlayStation 5","N/A","Volant Fanatec","A+","S","Legend",97.21,"Safe",0,1,1,8,"N/A",{"$f":"HYPERLINK(\"https://www.msleague.fr/?page_id=1502&um_user=BFR_Bran\", \"BFR_Bran\")","v":"BFR_Bran"},"Bran","Geboers",{"$f":"_xlfn.XLOOKUP(A54,BDD!A50:A10048,BDD!B50:B10048,\" \",0,1)","v":"bgeboers@yahoo.com"},18.16290212183436,6634,"BFR_Bran BFR 1/02/2006 🇧🇪 Belgium N/A PlayStation 5 N/A Volant Fanatec A+ S Legend 97,21 Safe 0 1 1 8 N/A BFR_Bran Bran Geboers bgeboers@yahoo.com"]
["BFR_Hakone","BFR","29/11/1995","🇫🇷 French","N/A","PlayStation 4","N/A","Manette","A+","S","Legend",95,"Safe",0,"N/A","N/A",0,"N/A",{"$f":"HYPERLINK(\"https://www.msleague.fr/?page_id=1502&um_user=BFR_Hakone\", \"BFR_Hakone\")","v":"BFR_Hakone"},"Quentin","Jehenne",{"$f":"_xlfn.XLOOKUP(A55,BDD!A51:A10049,BDD!B51:B10049,\" \",0,1)","v":"geass77220@gmail.com"},28.33949349760438,10351,"BFR_Hakone BFR 29/11/1995 🇫🇷 French N/A PlayStation 4 N/A Manette A+ S Legend 95 Safe 0 N/A N/A 0 N/A BFR_Hakone Quentin Jehenne geass77220@gmail.com"]
["BFR_HORN3T9x","BFR","26/01/1997","🇫🇷 French","N/A","PlayStation 5","N/A","Volant Thrustmaster","A+","S","Legend",95,"Safe",0,"N/A","N/A","N/A","N/A",{"$f":"HYPERLINK(\"https://www.msleague.fr/?page_id=1502&um_user=BFR_HORN3T9x\", \"BFR_HORN3T9x\")","v":"BFR_HORN3T9x"},"Victor","Vicente",{"$f":"_xlfn.XLOOKUP(A56,BDD!A52:A10050,BDD!B52:B10050,\" \",0,1)","v":"vicentevictor408@gmail.com"},27.178644763860369,9927,"BFR_HORN3T9x BFR 26/01/1997 🇫🇷 French N/A PlayStation 5 N/A Volant Thrustmaster A+ S Legend 95 Safe 0 N/A N/A N/A N/A BFR_HORN3T9x Victor Vicente vicentevictor408@gmail.com"]
["BFR_HunterX_97","BFR","6/07/1997","🇫🇷 French","N/A","PlayStation 4","N/A","Volant Thrustmaster","A+","S","Legend",95,"Safe",0,"N/A","N/A","N/A","N/A",{"$f":"HYPERLINK(\"https://www.msleague.fr/?page_id=1502&um_user=BFR_HunterX_97\", \"BFR_HunterX_97\")","v":"BFR_HunterX_97"},"Fabien","Guillot",{"$f":"_xlfn.XLOOKUP(A57,BDD!A53:A10051,BDD!B53:B10051,\" \",0,1)","v":"bsr.fabinino97@gmail.com"},26.7378507871321,9766,"BFR_HunterX_97 BFR 6/07/1997 🇫🇷 French N/A PlayStation 4 N/A Volant Thrustmaster A+ S Legend 95 Safe 0 N/A N/A N/A N/A BFR_HunterX_97 Fabien Guillot bsr.fabinino97@gmail.com"]
["BFR_Jesko","BFR","27/07/1991","🇵🇹 Portugal","N/A","PlayStation 5","N/A","Volant Thrustmaster","A+","S","Legend",95,"Safe",0,"N/A","N/A","N/A","N/A",{"$f":"HYPERLINK(\"https://www.msleague.fr/?page_id=1502&um_user=BFR_Jesko\", \"BFR_Jesko\")","v":"BFR_Jesko"},"Ruben","Gomes",{"$f":"_xlfn.XLOOKUP(A58,BDD!A54:A10052,BDD!B54:B10052,\" \",0,1)","v":"Stella.saura31@gmail.com"},32.681724845995895,11937,"BFR_Jesko BFR 27/07/1991 🇵🇹 Portugal N/A PlayStation 5 N/A Volant Thrustmaster A+ S Legend 95 Safe 0 N/A N/A N/A N/A BFR_Jesko Ruben Gomes Stella.saura31@gmail.com"]
["BFR_Ju_thnt","BFR","19/07/1993","🇧🇪 Belgium","N/A","PlayStation 4","N/A","Volant Thrustmaster","C","S","Silver",40,"Safe",0,"N/A","N/A","N/A","N/A",{"$f":"HYPERLINK(\"https://www.msleague.fr/?page_id=1502&um_user=BFR_Ju_thnt\", \"BFR_Ju_thnt\")","v":"BFR_Ju_thnt"},"Julie","Thonet",{"$f":"_xlfn.XLOOKUP(A59,BDD!A55:A10053,BDD!B55:B10053,\" \",0,1)","v":"thonet.julie@gmail.com"},30.702258726899384,11214,"BFR_Ju_thnt BFR 19/07/1993 🇧🇪 Belgium N/A PlayStation 4 N/A Volant Thrustmaster C S Silver 40 Safe 0 N/A N/A N/A N/A BFR_Ju_thnt Julie Thonet thonet.julie@gmail.com"]
["BFR_Mr_dose","BFR","25/03/1978","🇫🇷 French","N/A","PlayStation 5","N/A","Volant Fanatec","A+","S","Legend",95,"Safe",0,"N/A","N/A","N/A","N/A",{"$f":"HYPERLINK(\"https://www.msleague.fr/?page_id=1502&um_user=BFR_Mr_dose\", \"BFR_Mr_dose\")","v":"BFR_Mr_dose"},"Julien","Cailloux",{"$f":"_xlfn.XLOOKUP(A60,BDD!A56:A10054,BDD!B56:B10054,\" \",0,1)","v":"Cailcail28@hotmail.fr"},46.020533880903493,16809,"BFR_Mr_dose BFR 25/03/1978 🇫🇷 French N/A PlayStation 5 N/A Volant Fanatec A+ S Legend 95 Safe 0 N/A N/A N/A N/A BFR_Mr_dose Julien Cailloux Cailcail28@hotmail.fr"]
["BFR_N1Ce","BFR","4/08/1988","🇫🇷 French","Fibre","PlayStation 4","Filaire","Volant Thrustmaster","A+","S","Legend",100,"Safe",0,2,0.5,16,0.375,{"$f":"HYPERLINK(\"https://www.msleague.fr/?page_id=1502&um_user=BFR_N1Ce\", \"BFR_N1Ce\")","v":"BFR_N1Ce"},"Nicolas","Chaussy",{"$f":"_xlfn.XLOOKUP(A61,BDD!A57:A10055,BDD!B57:B10055,\" \",0,1)","v":"bfrtv15@gmail.com"},35.657768651608485,13024,"BFR_N1Ce BFR 4/08/1988 🇫🇷 French Fibre PlayStation 4 Filaire Volant Thrustmaster A+ S Legend 100 Safe 0 2 0,5 16 0,375 BFR_N1Ce Nicolas Chaussy bfrtv15@gmail.com"]
["BFR_OTK71","BFR","17/06/1993","🇫🇷 French","N/A","PlayStation 5","N/A","Volant Fanatec","A+","S","Legend",95,"Safe",0,"N/A","N/A","N/A","N/A",{"$f":"HYPERLINK(\"https://www.msleague.fr/?page_id=1502&um_user=BFR_OTK71\", \"BFR_OTK71\")","v":"BFR_OTK71"},"Gaetan","Humbey",{"$f":"_xlfn.XLOOKUP(A62,BDD!A58:A10056,BDD!B58:B10056,\" \",0,1)","v":"gaetanhumbey@gmail.com"},30.78986995208761,11246,"BFR_OTK71 BFR 17/06/1993 🇫🇷 French N/A PlayStation 5 N/A Volant Fanatec A+ S Legend 95 Safe 0 N/A N/A N/A N/A BFR_OTK71 Gaetan Humbey gaetanhumbey@gmail.com"]
["BFR_PANIFICATEUR","BFR","3/05/1977","🇫🇷 French","N/A","PlayStation 5","N/A","Volant Fanatec","A+","S","Legend",91.2,"Safe",0,1,"N/A",6,"N/A",{"$f":"HYPERLINK(\"https://www.msleague.fr/?page_id=1502&um_user=BFR_PANIFICATEUR\", \"BFR_PANIFICATEUR\")","v":"BFR_PANIFICATEUR"},"Jerome","Kieffer",{"$f":"_xlfn.XLOOKUP(A63,BDD!A59:A10057,BDD!B59:B10057,\" \",0,1)","v":"lepanificateur25@gmail.com"},46.913073237508556,17135,"BFR_PANIFICATEUR BFR 3/05/1977 🇫🇷 French N/A PlayStation 5 N/A Volant Fanatec A+ S Legend 91,2 Safe 0 1 N/A 6 N/A BFR_PANIFICATEUR Jerome Kieffer lepanificateur25@gmail.com"]
["BFR_Pista","BFR","26/10/2000","🇫🇷 French","N/A","PlayStation 5","N/A","Volant Thrustmaster","A+","S","Legend",95,"Safe",0,"N/A","N/A","N/A","N/A",{"$f":"HYPERLINK(\"https://www.msleague.fr/?page_id=1502&um_user=BFR_Pista\", \"BFR_Pista\")","v":"BFR_Pista"},"Ludovic","Weinhard",{"$f":"_xlfn.XLOOKUP(A64,BDD!A60:A10058,BDD!B60:B10058,\" \",0,1)","v":"weinhard.ludovic@my.com"},23.430527036276523,8558,"BFR_Pista BFR 26/10/2000 🇫🇷 French N/A PlayStation 5 N/A Volant Thrustmaster A+ S Legend 95 Safe 0 N/A N/A N/A N/A BFR_Pista Ludovic Weinhard weinhard.ludovic@my.com"]
["Big_blind","Indép.","16/03/1986","🇨🇦 Canada","N/A","PlayStation 5","N/A","Volant Thrustmaster","A","S","Platinum",80,"Safe",0,"N/A","N/A","N/A","N/A",{"$f":"HYPERLINK(\"https://www.msleague.fr/?page_id=1502&um_user=Big_blind\", \"Big_blind\")","v":"Big_blind"},"Jeanphilippe","Pépin",{"$f":"_xlfn.XLOOKUP(A65,BDD!A61:A10059,BDD!B61:B10059,\" \",0,1)","v":"jypeez16@hotmail.ca"},38.045174537987677,13896,"Big_blind Indép. 16/03/1986 🇨🇦 Canada N/A PlayStation 5 N/A Volant Thrustmaster A S Platinum 80 Safe 0 N/A N/A N/A N/A Big_blind Jeanphilippe Pépin jypeez16@hotmail.ca"]
["BKC_Chris","BKC","21/04/1975","🇫🇷 French","N/A","PlayStation 5","N/A","Volant Thrustmaster","B","S","Gold",60,"Safe",0,"N/A","N/A",0,"N/A",{"$f":"HYPERLINK(\"https://www.msleague.fr/?page_id=1502&um_user=BKC_Chris\", \"BKC_Chris\")","v":"BKC_Chris"},"Christophe","Dané",{"$f":"_xlfn.XLOOKUP(A66,BDD!A62:A10060,BDD!B62:B10060,\" \",0,1)","v":"Ckiki36@gmail.com"},48.947296372347708,17878,"BKC_Chris BKC 21/04/1975 🇫🇷 French N/A PlayStation 5 N/A Volant Thrustmaster B S Gold 60 Safe 0 N/A N/A 0 N/A BKC_Chris Christophe Dané Ckiki36@gmail.com"]
["BKC_Forkas06","BKC","26/05/1975","🇫🇷 French","Fibre","PlayStation 5","Filaire","Volant Logitech","D","S","Bronze",20,"Safe",0,"N/A","N/A","N/A","N/A",{"$f":"HYPERLINK(\"https://www.msleague.fr/?page_id=1502&um_user=BKC_Forkas06\", \"BKC_Forkas06\")","v":"BKC_Forkas06"},"CHRISTOPHE","FALLOUR",{"$f":"_xlfn.XLOOKUP(A67,BDD!A63:A10061,BDD!B63:B10061,\" \",0,1)","v":"christophe.fallour@gmail.com"},48.851471594798085,17843,"BKC_Forkas06 BKC 26/05/1975 🇫🇷 French Fibre PlayStation 5 Filaire Volant Logitech D S Bronze 20 Safe 0 N/A N/A N/A N/A BKC_Forkas06 CHRISTOPHE FALLOUR christophe.fallour@gmail.com"]
["BKC_Josgri752","BKC","29/11/1981","🇧🇪 Belgium","Fibre","PlayStation 5","Filaire","Volant Fanatec","B","S","Gold",60,"Safe",0,"N/A","N/A",0,"N/A",{"$f":"HYPERLINK(\"https://www.msleague.fr/?page_id=1502&um_user=BKC_Josgri752\", \"BKC_Josgri752\")","v":"BKC_Josgri752"},"José","Grignard",{"$f":"_xlfn.XLOOKUP(A68,BDD!A64:A10062,BDD!B64:B10062,\" \",0,1)","v":"josgrignard@msn.com"},42.338124572210816,15464,"BKC_Josgri752 BKC 29/11/1981 🇧🇪 Belgium Fibre PlayStation 5 Filaire Volant Fanatec B S Gold 60 Safe 0 N/A N/A 0 N/A BKC_Josgri752 José Grignard josgrignard@msn.com"]
["BKC_Supra2jz13","BKC","18/03/1995","🇫🇷 French","N/A","PlayStation 5","N/A","Manette","B","A","Gold",60,"Batailleur",0,"N/A","N/A",0,"N/A",{"$f":"HYPERLINK(\"https://www.msleague.fr/?page_id=1502&um_user=BKC_Supra2jz13\", \"BKC_Supra2jz13\")","v":"BKC_Supra2jz13"},"Enzo","Peron",{"$f":"_xlfn.XLOOKUP(A69,BDD!A65:A10063,BDD!B65:B10063,\" \",0,1)","v":"Enzoperon8@gmail.com"},{"$f":"IF(X69=\"\",\"\",CONVERT(X69,\"day\",\"yr\"))","v":29.0403832991102},10607,"BKC_Supra2jz13 BKC 18/03/1995 🇫🇷 French N/A PlayStation 5 N/A Manette B A Gold 60 Batailleur 0 N/A N/A 0 N/A BKC_Supra2jz13 Enzo Peron Enzoperon8@gmail.com"]
["Bkc_Taz","BKC","12/10/1984","🇧🇪 Belgium","N/A","PlayStation 5","N/A","Manette","A","S","Platinum",80,"Safe",0,"N/A","N/A",0,"N/A",{"$f":"HYPERLINK(\"https://www.msleague.fr/?page_id=1502&um_user=Bkc_Taz\", \"Bkc_Taz\")","v":"Bkc_Taz"},"Loïc","Mattana",{"$f":"_xlfn.XLOOKUP(A70,BDD!A66:A10064,BDD!B66:B10064,\" \",0,1)","v":"Loic1984mattana@hotmail.com"},39.468856947296374,14416,{"$f":"A70 & \" \" & B70 & \" \" & C70 & \" \" & D70 & \" \" & E70 & \" \" & F70 & \" \" & G70 & \" \" & H70 & \" \" & I70 & \" \" & J70 & \" \" & K70 & \" \" & L70 & \" \" & M70 & \" \" & N70 & \" \" & O70 & \" \" & P70 & \" \" &Q70 & \" \" & R70 & \" \" & S70 & \" \" & T70 & \" \" & U70 & \" \" & V70","v":"Bkc_Taz BKC 12/10/1984 🇧🇪 Belgium N/A PlayStation 5 N/A Manette A S Platinum 80 Safe 0 N/A N/A 0 N/A Bkc_Taz Loïc Mattana Loic1984mattana@hotmail.com"}]
["BLD_Juju","PRT","1/04/1998","🇫🇷 French","N/A","PlayStation 5","N/A","Manette","B","S","Gold",58.83,"Safe",0,1,"N/A",1,"N/A",{"$f":"HYPERLINK(\"https://www.msleague.fr/?page_id=1502&um_user=BLD_Juju\", \"BLD_Juju\")","v":"BLD_Juju"},"Amory","Gavel",{"$f":"_xlfn.XLOOKUP(A71,BDD!A67:A10065,BDD!B67:B10065,\" \",0,1)","v":"amorygavel@gmail.com"},26.001368925393567,9497,"BLD_Juju PRT 1/04/1998 🇫🇷 French N/A PlayStation 5 N/A Manette B S Gold 58,83 Safe 0 1 N/A 1 N/A BLD_Juju Amory Gavel amorygavel@gmail.com"]
["BlooD_Kaneki666","LPG","6/10/1995","🇫🇷 French","N/A","PlayStation 5","N/A","Volant Thrustmaster","B","S","Gold",57.51,"Dirty",0,1,"N/A",6,"N/A",{"$f":"HYPERLINK(\"https://www.msleague.fr/?page_id=1502&um_user=BlooD_Kaneki666\", \"BlooD_Kaneki666\")","v":"BlooD_Kaneki666"},"Maxime","Hubert",{"$f":"_xlfn.XLOOKUP(A72,BDD!A68:A10066,BDD!B68:B10066,\" \",0,1)","v":"Maximehubert34@gmail.com"},28.487337440109513,10405,"BlooD_Kaneki666 LPG 6/10/1995 🇫🇷 French N/A PlayStation 5 N/A Volant Thrustmaster B S Gold 57,51 Dirty 0 1 N/A 6 N/A BlooD_Kaneki666 Maxime Hubert Maximehubert34@gmail.com"]
["Bob34three","Indép.","10/12/1972","🇫🇷 French","N/A","PlayStation 5","N/A","Volant Thrustmaster","B","S","Gold",60,"Safe",0,"N/A","N/A",0,"N/A",{"$f":"HYPERLINK(\"https://www.msleague.fr/?page_id=1502&um_user=Bob34three\", \"Bob34three\")","v":"Bob34three"},"Régis","Jean",{"$f":"_xlfn.XLOOKUP(A73,BDD!A69:A10067,BDD!B69:B10067,\" \",0,1)","v":"rgsjean@gmail.com"},51.307323750855581,18740,"Bob34three Indép. 10/12/1972 🇫🇷 French N/A PlayStation 5 N/A Volant Thrustmaster B S Gold 60 Safe 0 N/A N/A 0 N/A Bob34three Régis Jean rgsjean@gmail.com"]
["BOX_DavidVC","BOX","22/03/1985","🇫🇷 French","N/A","PlayStation 5","N/A","Volant Logitech","D","A","Bronze",20,"Fair-Play",0,"N/A","N/A","N/A","N/A",{"$f":"HYPERLINK(\"https://www.msleague.fr/?page_id=1502&um_user=BOX_DavidVC\", \"BOX_DavidVC\")","v":"BOX_DavidVC"},"David","Larousserie",{"$f":"_xlfn.XLOOKUP(A74,BDD!A70:A10068,BDD!B70:B10068,\" \",0,1)","v":"david.larousserie@gmail.com"},39.028062970568101,14255,"BOX_DavidVC BOX 22/03/1985 🇫🇷 French N/A PlayStation 5 N/A Volant Logitech D A Bronze 20 Fair-Play 0 N/A N/A N/A N/A BOX_DavidVC David Larousserie david.larousserie@gmail.com"]
["BOX_Extrem-V8","BOX","6/12/1994","🇫🇷 French","N/A","PlayStation 4","N/A","Volant Thrustmaster","A","S","Platinum",80,"Safe",0,"N/A","N/A","N/A","N/A",{"$f":"HYPERLINK(\"https://www.msleague.fr/?page_id=1502&um_user=BOX_Extrem-V8\", \"BOX_Extrem-V8\")","v":"BOX_Extrem-V8"},"Lucas","Dimur",{"$f":"_xlfn.XLOOKUP(A75,BDD!A71:A10069,BDD!B71:B10069,\" \",0,1)","v":"lucasdimur@live.fr"},29.319644079397673,10709,"BOX_Extrem-V8 BOX 6/12/1994 🇫🇷 French N/A PlayStation 4 N/A Volant Thrustmaster A S Platinum 80 Safe 0 N/A N/A N/A N/A BOX_Extrem-V8 Lucas Dimur lucasdimur@live.fr"]
["Box_melo7141","BOX","15/02/1984","🇧🇪 Belgium","N/A","PlayStation 5","N/A","Manette","B","S","Gold",60,"Safe",0,"N/A","N/A",0,"N/A",{"$f":"HYPERLINK(\"https://www.msleague.fr/?page_id=1502&um_user=Box_melo7141\", \"Box_melo7141\")","v":"Box_melo7141"},"Carmelo","Bruccoleri",{"$f":"_xlfn.XLOOKUP(A76,BDD!A72:A10070,BDD!B72:B10070,\" \",0,1)","v":"Atelierartemano@gmail.com"},40.125941136208077,14656,"Box_melo7141 BOX 15/02/1984 🇧🇪 Belgium N/A PlayStation 5 N/A Manette B S Gold 60 Safe 0 N/A N/A 0 N/A Box_melo7141 Carmelo Bruccoleri Atelierartemano@gmail.com"]
["BROT_Daniel","BROT","24/01/1990","🇧🇷 Brazil","ADSL","PlayStation 4","Filaire","Volant Logitech","B","S","Gold",60,"Safe",null,"N/A","N/A","N/A","N/A",{"$f":"HYPERLINK(\"https://www.msleague.fr/?page_id=1502&um_user=BROT_Daniel\", \"BROT_Daniel\")","v":"BROT_Daniel"},"BROT Daniel","Daniel Pedro",{"$f":"_xlfn.XLOOKUP(A77,BDD!A73:A10071,BDD!B73:B10071,\" \",0,1)","v":"danielmotta_300@hotmail.com"},34.18480492813142,12486,"BROT_Daniel BROT 24/01/1990 🇧🇷 Brazil ADSL PlayStation 4 Filaire Volant Logitech B S Gold 60 Safe  N/A N/A N/A N/A BROT_Daniel BROT Daniel Daniel Pedro danielmotta_300@hotmail.com"]
["Brunokx","Indép.","22/01/1972","🇫🇷 French","N/A","PlayStation 5","N/A","Volant Fanatec","B","S","Gold",60,"Safe",0,"N/A","N/A",0,"N/A",{"$f":"HYPERLINK(\"https://www.msleague.fr/?page_id=1502&um_user=Brunokx\", \"Brunokx\")","v":"Brunokx"},"Bruno","Carrier",{"$f":"_xlfn.XLOOKUP(A78,BDD!A74:A10072,BDD!B74:B10072,\" \",0,1)","v":"Simracerbrunokxtv@gmail.com"},52.191649555099247,19063,"Brunokx Indép. 22/01/1972 🇫🇷 French N/A PlayStation 5 N/A Volant Fanatec B S Gold 60 Safe 0 N/A N/A 0 N/A Brunokx Bruno Carrier Simracerbrunokxtv@gmail.com"]
["BSF_Jow","BSF","15/04/1983","🇫🇷 French","N/A","PlayStation 5","N/A","Volant Thrustmaster","A","S","Platinum",80,"Safe",0,"N/A","N/A",0,"N/A",{"$f":"HYPERLINK(\"https://www.msleague.fr/?page_id=1502&um_user=BSF_Jow\", \"BSF_Jow\")","v":"BSF_Jow"},"Joachim","Idri",{"$f":"_xlfn.XLOOKUP(A79,BDD!A75:A10073,BDD!B75:B10073,\" \",0,1)","v":"54joachim@gmail.com"},40.963723477070502,14962,"BSF_Jow BSF 15/04/1983 🇫🇷 French N/A PlayStation 5 N/A Volant Thrustmaster A S Platinum 80 Safe 0 N/A N/A 0 N/A BSF_Jow Joachim Idri 54joachim@gmail.com"]
["BSF_max","BSF","26/02/1990","🇫🇷 French","N/A","PlayStation 4","N/A","Volant Logitech","B","S","Gold",60,"Safe",0,"N/A","N/A",0,"N/A",{"$f":"HYPERLINK(\"https://www.msleague.fr/?page_id=1502&um_user=BSF_max\", \"BSF_max\")","v":"BSF_max"},"Max","Desquilbet",{"$f":"_xlfn.XLOOKUP(A80,BDD!A76:A10074,BDD!B76:B10074,\" \",0,1)","v":"contact.desquilbetmaxime@gmail.com"},34.094455852156059,12453,"BSF_max BSF 26/02/1990 🇫🇷 French N/A PlayStation 4 N/A Volant Logitech B S Gold 60 Safe 0 N/A N/A 0 N/A BSF_max Max Desquilbet contact.desquilbetmaxime@gmail.com"]
["BSR_Ackor","BSR","7/11/1997","🇫🇷 French","N/A","PlayStation 4","N/A","Volant Thrustmaster","A+","S","Legend",95,"Safe",0,"N/A","N/A","N/A","N/A",{"$f":"HYPERLINK(\"https://www.msleague.fr/?page_id=1502&um_user=BSR_Ackor\", \"BSR_Ackor\")","v":"BSR_Ackor"},"Steven","Sylvain",{"$f":"_xlfn.XLOOKUP(A81,BDD!A77:A10075,BDD!B77:B10075,\" \",0,1)","v":"steven.sylvain7@gmail.com"},26.39835728952772,9642,"BSR_Ackor BSR 7/11/1997 🇫🇷 French N/A PlayStation 4 N/A Volant Thrustmaster A+ S Legend 95 Safe 0 N/A N/A N/A N/A BSR_Ackor Steven Sylvain steven.sylvain7@gmail.com"]
["BSR_DARK_KNIGHT","BSR","5/11/1980","🇧🇪 Belgium","N/A","PlayStation 5","N/A","Volant Thrustmaster","C","S","Silver",40,"Batailleur",0,"N/A","N/A",0,"N/A",{"$f":"HYPERLINK(\"https://www.msleague.fr/?page_id=1502&um_user=BSR_DARK_KNIGHT\", \"BSR_DARK_KNIGHT\")","v":"BSR_DARK_KNIGHT"},"Johnny","Rodriguez",{"$f":"_xlfn.XLOOKUP(A82,BDD!A78:A10076,BDD!B78:B10076,\" \",0,1)","v":"Grandmaitre05@gmail.com"},43.403148528405204,15853,"BSR_DARK_KNIGHT BSR 5/11/1980 🇧🇪 Belgium N/A PlayStation 5 N/A Volant Thrustmaster C S Silver 40 Batailleur 0 N/A N/A 0 N/A BSR_DARK_KNIGHT Johnny Rodriguez Grandmaitre05@gmail.com"]
["BSR_Mickael21","BSR","21/11/2001","🇧🇪 Belgium","N/A","PlayStation 5","N/A","Manette","C","C","Silver",40,"Casse-Cou",0,"N/A","N/A",0,"N/A",{"$f":"HYPERLINK(\"https://www.msleague.fr/?page_id=1502&um_user=BSR_Mickael21\", \"BSR_Mickael21\")","v":"BSR_Mickael21"},"Mickael","Thomas",{"$f":"_xlfn.XLOOKUP(A83,BDD!A79:A10077,BDD!B79:B10077,\" \",0,1)","v":"thomasmickael865@gmail.com"},22.360027378507873,8167,"BSR_Mickael21 BSR 21/11/2001 🇧🇪 Belgium N/A PlayStation 5 N/A Manette C C Silver 40 Casse-Cou 0 N/A N/A 0 N/A BSR_Mickael21 Mickael Thomas thomasmickael865@gmail.com"]
["BSR_PAUL-LE-BARBU","BSR","5/10/1989","🇧🇪 Belgium","Câble","PlayStation 5","Filaire","Volant Logitech","C","S","Silver",40,"Safe",null,"N/A","N/A","N/A","N/A",{"$f":"HYPERLINK(\"https://www.msleague.fr/?page_id=1502&um_user=BSR_PAUL-LE-BARBU\", \"BSR_PAUL-LE-BARBU\")","v":"BSR_PAUL-LE-BARBU"},"Paul","Burniaux",{"$f":"_xlfn.XLOOKUP(A84,BDD!A80:A10078,BDD!B80:B10078,\" \",0,1)","v":"Burniauxpaul@gmail.com"},34.488706365503077,12597,"BSR_PAUL-LE-BARBU BSR 5/10/1989 🇧🇪 Belgium Câble PlayStation 5 Filaire Volant Logitech C S Silver 40 Safe  N/A N/A N/A N/A BSR_PAUL-LE-BARBU Paul Burniaux Burniauxpaul@gmail.com"]
["BSR_SAM43","BSR","26/02/2009","🇧🇪 Belgium","Câble","PlayStation 4","Filaire","Volant Thrustmaster","A","S","Gold",60,"Safe",null,"N/A","N/A","N/A","N/A",{"$f":"HYPERLINK(\"https://www.msleague.fr/?page_id=1502&um_user=BSR_SAM43\", \"BSR_SAM43\")","v":"BSR_SAM43"},"Samuel","Frenay",{"$f":"_xlfn.XLOOKUP(A85,BDD!A81:A10079,BDD!B81:B10079,\" \",0,1)","v":"suprasamuel74@gmail.com"},15.093771389459274,5513,"BSR_SAM43 BSR 26/02/2009 🇧🇪 Belgium Câble PlayStation 4 Filaire Volant Thrustmaster A S Gold 60 Safe  N/A N/A N/A N/A BSR_SAM43 Samuel Frenay suprasamuel74@gmail.com"]
["BSR_Vincao11","BSR","2/06/1981","🇧🇪 Belgium","N/A","PlayStation 5","N/A","Volant Thrustmaster","A","S","Platinum",80,"Safe",0,"N/A","N/A","N/A","N/A",{"$f":"HYPERLINK(\"https://www.msleague.fr/?page_id=1502&um_user=BSR_Vincao11\", \"BSR_Vincao11\")","v":"BSR_Vincao11"},"Vincent","Röder",{"$f":"_xlfn.XLOOKUP(A86,BDD!A82:A10080,BDD!B82:B10080,\" \",0,1)","v":"Vincao.rscl@gmail.com"},42.830937713894592,15644,"BSR_Vincao11 BSR 2/06/1981 🇧🇪 Belgium N/A PlayStation 5 N/A Volant Thrustmaster A S Platinum 80 Safe 0 N/A N/A N/A N/A BSR_Vincao11 Vincent Röder Vincao.rscl@gmail.com"]
["Bwerion","WertsVRT","31/03/1982","🇧🇪 Belgium","N/A","PlayStation 5","N/A","Volant Thrustmaster","D","S","Bronze",20,"Safe",0,"N/A","N/A",0,"N/A",{"$f":"HYPERLINK(\"https://www.msleague.fr/?page_id=1502&um_user=Bwerion\", \"Bwerion\")","v":"Bwerion"},"Benoît","Wérion",{"$f":"_xlfn.XLOOKUP(A87,BDD!A83:A10081,BDD!B83:B10081,\" \",0,1)","v":"benoit@werion.be"},42.004106776180699,15342,"Bwerion WertsVRT 31/03/1982 🇧🇪 Belgium N/A PlayStation 5 N/A Volant Thrustmaster D S Bronze 20 Safe 0 N/A N/A 0 N/A Bwerion Benoît Wérion benoit@werion.be"]
["BZH22kat","Indép.","1/01/1965","🇫🇷 French","N/A","PlayStation 5","N/A","Volant Thrustmaster","A","S","Platinum",76.709999999999994,"Safe",0,1,"N/A",1,"N/A",{"$f":"HYPERLINK(\"https://www.msleague.fr/?page_id=1502&um_user=BZH22kat\", \"BZH22kat\")","v":"BZH22kat"},"bruno","HERVE",{"$f":"_xlfn.XLOOKUP(A88,BDD!A84:A10082,BDD!B84:B10082,\" \",0,1)","v":"nonokat@sfr.fr"},59.247091033538673,21640,"BZH22kat Indép. 1/01/1965 🇫🇷 French N/A PlayStation 5 N/A Volant Thrustmaster A S Platinum 76,71 Safe 0 1 N/A 1 N/A BZH22kat bruno HERVE nonokat@sfr.fr"]
["CadocK","Indép.","17/11/1977","🇫🇷 French","ADSL","PlayStation 4","Wifi","Volant Thrustmaster","B","S","Gold",60,"Safe",0,"N/A","N/A","N/A","N/A",{"$f":"HYPERLINK(\"https://www.msleague.fr/?page_id=1502&um_user=CadocK\", \"CadocK\")","v":"CadocK"},"Guillaume","OLIER",{"$f":"_xlfn.XLOOKUP(A89,BDD!A85:A10083,BDD!B85:B10083,\" \",0,1)","v":"o.guillaume.pro@gmail.com"},46.370978781656397,{"$f":"IF(C89=\"N/A\",\"\",TODAY()-$C89)","v":16937},"CadocK Indép. 17/11/1977 🇫🇷 French ADSL PlayStation 4 Wifi Volant Thrustmaster B S Gold 60 Safe 0 N/A N/A N/A N/A CadocK Guillaume OLIER o.guillaume.pro@gmail.com"]
["CAHOUET13","FRK","13/04/1970","🇫🇷 French","N/A","PlayStation 4","N/A","Volant Thrustmaster","C","S","Bronze",29.59,"Safe",0,1,0,1,0,{"$f":"HYPERLINK(\"https://www.msleague.fr/?page_id=1502&um_user=CAHOUET13\", \"CAHOUET13\")","v":"CAHOUET13"},"jean marc","MINATCHY",{"$f":"_xlfn.XLOOKUP(A90,BDD!A86:A10084,BDD!B86:B10084,\" \",0,1)","v":"minatchy_jean-marc@orange.fr"},53.968514715947983,19712,"CAHOUET13 FRK 13/04/1970 🇫🇷 French N/A PlayStation 4 N/A Volant Thrustmaster C S Bronze 29,59 Safe 0 1 0 1 0 CAHOUET13 jean marc MINATCHY minatchy_jean-marc@orange.fr"]
["Canardwc61","OMT","29/04/1988","🇫🇷 French","N/A","PlayStation 4","N/A","Manette","C","S","Silver",40,"Safe",0,"N/A","N/A",0,"N/A",{"$f":"HYPERLINK(\"https://www.msleague.fr/?page_id=1502&um_user=Canardwc61\", \"Canardwc61\")","v":"Canardwc61"},"Benoit","Charles",{"$f":"_xlfn.XLOOKUP(A91,BDD!A87:A10085,BDD!B87:B10085,\" \",0,1)","v":"canard1988@live.fr"},35.923340177960299,13121,"Canardwc61 OMT 29/04/1988 🇫🇷 French N/A PlayStation 4 N/A Manette C S Silver 40 Safe 0 N/A N/A 0 N/A Canardwc61 Benoit Charles canard1988@live.fr"]
["Ced_0017","Indép.","22/01/1978","🇧🇪 Belgium","N/A","PlayStation 5","N/A","Volant Thrustmaster","B","S","Gold",60,"Safe",0,"N/A","N/A","N/A","N/A",{"$f":"HYPERLINK(\"https://www.msleague.fr/?page_id=1502&um_user=Ced_0017\", \"Ced_0017\")","v":"Ced_0017"},"Cédric","Malherbe",{"$f":"_xlfn.XLOOKUP(A92,BDD!A88:A10086,BDD!B88:B10086,\" \",0,1)","v":"cmalherbe@me.com"},46.190280629705683,16871,"Ced_0017 Indép. 22/01/1978 🇧🇪 Belgium N/A PlayStation 5 N/A Volant Thrustmaster B S Gold 60 Safe 0 N/A N/A N/A N/A Ced_0017 Cédric Malherbe cmalherbe@me.com"]
["CGT_Lligadas-JR","CGT","9/12/2006","🇪🇸 Spain","Câble","PlayStation 5","Filaire","Volant Thrustmaster","A+","S","Legend",95,"Safe",null,"N/A","N/A","N/A","N/A",{"$f":"HYPERLINK(\"https://www.msleague.fr/?page_id=1502&um_user=CGT_Lligadas-JR\", \"CGT_Lligadas-JR\")","v":"CGT_Lligadas-JR"},"Ignasi","Lligadas",{"$f":"_xlfn.XLOOKUP(A93,BDD!A89:A10087,BDD!B89:B10087,\" \",0,1)","v":"ignasiracing06@gmail.com"},17.311430527036276,6323,"CGT_Lligadas-JR CGT 9/12/2006 🇪🇸 Spain Câble PlayStation 5 Filaire Volant Thrustmaster A+ S Legend 95 Safe  N/A N/A N/A N/A CGT_Lligadas-JR Ignasi Lligadas ignasiracing06@gmail.com"]
["Chicune01","Indép.","28/08/1977","🇫🇷 French","ADSL","PlayStation 5","Filaire","Volant Logitech","C","S","Silver",40,"Safe",null,"N/A","N/A","N/A","N/A",{"$f":"HYPERLINK(\"https://www.msleague.fr/?page_id=1502&um_user=Chicune01\", \"Chicune01\")","v":"Chicune01"},"julien","millot",{"$f":"_xlfn.XLOOKUP(A94,BDD!A90:A10088,BDD!B90:B10088,\" \",0,1)","v":"julien.millot@icloud.com"},46.592744695414098,17018,"Chicune01 Indép. 28/08/1977 🇫🇷 French ADSL PlayStation 5 Filaire Volant Logitech C S Silver 40 Safe  N/A N/A N/A N/A Chicune01 julien millot julien.millot@icloud.com"]
["ChipReese","VPR","22/09/1980","🇺🇸 United States","Fibre","PlayStation 5","Filaire","Volant Thrustmaster","A","S","Platinum",80,"Safe",0,"N/A","N/A","N/A","N/A",{"$f":"HYPERLINK(\"https://www.msleague.fr/?page_id=1502&um_user=ChipReese\", \"ChipReese\")","v":"ChipReese"},"Michael","Tajalle",{"$f":"_xlfn.XLOOKUP(A95,BDD!A91:A10089,BDD!B91:B10089,\" \",0,1)","v":"repelghosts@hotmail.com"},43.523613963039011,15897,"ChipReese VPR 22/09/1980 🇺🇸 United States Fibre PlayStation 5 Filaire Volant Thrustmaster A S Platinum 80 Safe 0 N/A N/A N/A N/A ChipReese Michael Tajalle repelghosts@hotmail.com"]
["Chris69-FTE","FTE","3/04/1973","🇫🇷 French","Fibre","PlayStation 5","Wifi","Volant Thrustmaster","B","S","Gold",60,"Safe",0,"N/A","N/A","N/A","N/A",{"$f":"HYPERLINK(\"https://www.msleague.fr/?page_id=1502&um_user=Chris69-FTE\", \"Chris69-FTE\")","v":"Chris69-FTE"},"Christophe","Goussard",{"$f":"_xlfn.XLOOKUP(A96,BDD!A92:A10090,BDD!B92:B10090,\" \",0,1)","v":"chris-goussard@hotmail.fr"},50.99520876112252,18626,"Chris69-FTE FTE 3/04/1973 🇫🇷 French Fibre PlayStation 5 Wifi Volant Thrustmaster B S Gold 60 Safe 0 N/A N/A N/A N/A Chris69-FTE Christophe Goussard chris-goussard@hotmail.fr"]
["COe_Flobot","COe","23/11/2005","🇫🇷 French","Fibre","PlayStation 5","Filaire","Volant Fanatec","A+","S","Legend",95,"Safe",0,"N/A","N/A","N/A","N/A",{"$f":"HYPERLINK(\"https://www.msleague.fr/?page_id=1502&um_user=COe_Flobot\", \"COe_Flobot\")","v":"COe_Flobot"},"Florian","Botton",{"$f":"_xlfn.XLOOKUP(A97,BDD!A93:A10091,BDD!B93:B10091,\" \",0,1)","v":"Florianb33470@gmail.com"},18.354551676933607,6704,"COe_Flobot COe 23/11/2005 🇫🇷 French Fibre PlayStation 5 Filaire Volant Fanatec A+ S Legend 95 Safe 0 N/A N/A N/A N/A COe_Flobot Florian Botton Florianb33470@gmail.com"]
["COe_Juteon","COe","27/03/2011","🇫🇷 French","Fibre","PlayStation 4","Wifi","Volant Thrustmaster","A+","S","Legend",95,"Safe",null,"N/A","N/A","N/A","N/A",{"$f":"HYPERLINK(\"https://www.msleague.fr/?page_id=1502&um_user=COe_Juteon\", \"COe_Juteon\")","v":"COe_Juteon"},"Romain","Hafez",{"$f":"_xlfn.XLOOKUP(A98,BDD!A94:A10092,BDD!B94:B10092,\" \",0,1)","v":"nitro.romain78@gmail.com"},13.015742642026009,4754,"COe_Juteon COe 27/03/2011 🇫🇷 French Fibre PlayStation 4 Wifi Volant Thrustmaster A+ S Legend 95 Safe  N/A N/A N/A N/A COe_Juteon Romain Hafez nitro.romain78@gmail.com"]
["COe_Nalax","COe","8/06/1994","🇫🇷 French","N/A","PlayStation 5","N/A","Volant Fanatec","A+","S","Legend",95,"Safe",0,"N/A","N/A","N/A","N/A",{"$f":"HYPERLINK(\"https://www.msleague.fr/?page_id=1502&um_user=COe_Nalax\", \"COe_Nalax\")","v":"COe_Nalax"},"Alan","Pommier",{"$f":"_xlfn.XLOOKUP(A99,BDD!A95:A10093,BDD!B95:B10093,\" \",0,1)","v":"alan.pommier@hotmail.fr"},29.815195071868583,10890,"COe_Nalax COe 8/06/1994 🇫🇷 French N/A PlayStation 5 N/A Volant Fanatec A+ S Legend 95 Safe 0 N/A N/A N/A N/A COe_Nalax Alan Pommier alan.pommier@hotmail.fr"]
["COe_PiBou","COe","24/06/1983","🇨🇭 Switzerland","Fibre","PlayStation 5","Filaire","Volant Thrustmaster","A+","S","Legend",95,"Safe",null,"N/A","N/A","N/A","N/A",{"$f":"HYPERLINK(\"https://www.msleague.fr/?page_id=1502&um_user=COe_PiBou\", \"COe_PiBou\")","v":"COe_PiBou"},"Pierre","Boursier",{"$f":"_xlfn.XLOOKUP(A100,BDD!A96:A10094,BDD!B96:B10094,\" \",0,1)","v":"pierre.boursier@hotmail.fr"},40.772073921971256,14892,"COe_PiBou COe 24/06/1983 🇨🇭 Switzerland Fibre PlayStation 5 Filaire Volant Thrustmaster A+ S Legend 95 Safe  N/A N/A N/A N/A COe_PiBou Pierre Boursier pierre.boursier@hotmail.fr"]
["CORTES_RACING1","GDSR","31/03/1976","🇧🇪 Belgium","N/A","PlayStation 5","N/A","Volant Thrustmaster","C","S","Silver",40,"Safe",0,"N/A","N/A","N/A","N/A",{"$f":"HYPERLINK(\"https://www.msleague.fr/?page_id=1502&um_user=CORTES_RACING1\", \"CORTES_RACING1\")","v":"CORTES_RACING1"},"Stefan","Bachy",{"$f":"_xlfn.XLOOKUP(A101,BDD!A97:A10095,BDD!B97:B10095,\" \",0,1)","v":"stefan.bachy@live.fr"},48.002737850787135,17533,"CORTES_RACING1 GDSR 31/03/1976 🇧🇪 Belgium N/A PlayStation 5 N/A Volant Thrustmaster C S Silver 40 Safe 0 N/A N/A N/A N/A CORTES_RACING1 Stefan Bachy stefan.bachy@live.fr"]
["Cotkawa_","Indép.","25/07/1981","🇧🇪 Belgium","N/A","PlayStation 5","N/A","Volant Fanatec","C","C","Silver",40,"Casse-Cou",0,"N/A","N/A",0,"N/A",{"$f":"HYPERLINK(\"https://www.msleague.fr/?page_id=1502&um_user=Cotkawa_\", \"Cotkawa_\")","v":"Cotkawa_"},"Christophe","michel",{"$f":"_xlfn.XLOOKUP(A102,BDD!A98:A10096,BDD!B98:B10096,\" \",0,1)","v":"cotkawa2@gmail.com"},42.685831622176593,15591,"Cotkawa_ Indép. 25/07/1981 🇧🇪 Belgium N/A PlayStation 5 N/A Volant Fanatec C C Silver 40 Casse-Cou 0 N/A N/A 0 N/A Cotkawa_ Christophe michel cotkawa2@gmail.com"]
["couraredji","Indép.","30/03/1955","🇧🇪 Belgium","N/A","PlayStation 5","N/A","Volant Logitech","C","S","Silver",40,"Safe",0,"N/A","N/A",0,"N/A",{"$f":"HYPERLINK(\"https://www.msleague.fr/?page_id=1502&um_user=couraredji\", \"couraredji\")","v":"couraredji"},"Pierre","Lizarraga",{"$f":"_xlfn.XLOOKUP(A103,BDD!A99:A10097,BDD!B99:B10097,\" \",0,1)","v":"pierrelizarraga1@gmail.com"},69.007529089664615,25205,"couraredji Indép. 30/03/1955 🇧🇪 Belgium N/A PlayStation 5 N/A Volant Logitech C S Silver 40 Safe 0 N/A N/A 0 N/A couraredji Pierre Lizarraga pierrelizarraga1@gmail.com"]
["CSR-kevin49","CSR","22/10/1999","🇫🇷 French","ADSL","PlayStation 5","Filaire","Volant Thrustmaster","A+","S","Legend",95,"Safe",null,"N/A","N/A","N/A","N/A",{"$f":"HYPERLINK(\"https://www.msleague.fr/?page_id=1502&um_user=CSR-kevin49\", \"CSR-kevin49\")","v":"CSR-kevin49"},"Kevin","Jolivet",{"$f":"_xlfn.XLOOKUP(A104,BDD!A100:A10098,BDD!B100:B10098,\" \",0,1)","v":"kevin.jolivet@outlook.fr"},24.4435318275154,8928,"CSR-kevin49 CSR 22/10/1999 🇫🇷 French ADSL PlayStation 5 Filaire Volant Thrustmaster A+ S Legend 95 Safe  N/A N/A N/A N/A CSR-kevin49 Kevin Jolivet kevin.jolivet@outlook.fr"]
["cuerdo1505","LRST","12/03/2005","🇪🇸 Spain","N/A","PlayStation 4","N/A","Volant Logitech","A","S","Platinum",82.47,"Safe",0,1,"N/A",1,"N/A",{"$f":"HYPERLINK(\"https://www.msleague.fr/?page_id=1502&um_user=cuerdo1505\", \"cuerdo1505\")","v":"cuerdo1505"},"Efram","Alvarez",{"$f":"_xlfn.XLOOKUP(A105,BDD!A101:A10099,BDD!B101:B10099,\" \",0,1)","v":"efram12032005@gmail.com"},19.055441478439427,6960,"cuerdo1505 LRST 12/03/2005 🇪🇸 Spain N/A PlayStation 4 N/A Volant Logitech A S Platinum 82,47 Safe 0 1 N/A 1 N/A cuerdo1505 Efram Alvarez efram12032005@gmail.com"]
["Dajo top","GTB","18/04/2005","🇨🇿 Czechia","Câble","PlayStation 5","Filaire","Volant Thrustmaster","A+","S","Legend",95,"Safe",null,"N/A","N/A","N/A","N/A",{"$f":"HYPERLINK(\"https://www.msleague.fr/?page_id=1502&um_user=Dajo top\", \"Dajo top\")","v":"Dajo top"},"Dalibor","Ćmiel",{"$f":"_xlfn.XLOOKUP(A106,BDD!A102:A10100,BDD!B102:B10100,\" \",0,1)","v":"908dajo@gmail.com"},18.954140999315538,6923,"Dajo top GTB 18/04/2005 🇨🇿 Czechia Câble PlayStation 5 Filaire Volant Thrustmaster A+ S Legend 95 Safe  N/A N/A N/A N/A Dajo top Dalibor Ćmiel 908dajo@gmail.com"]
["Damien_14","Indép.","14/11/1991","🇨🇭 Switzerland","N/A","PlayStation 5","N/A","Volant Thrustmaster","B","S","Gold",60,"Safe",0,"N/A","N/A",0,"N/A",{"$f":"HYPERLINK(\"https://www.msleague.fr/?page_id=1502&um_user=Damien_14\", \"Damien_14\")","v":"Damien_14"},"Damien","Egg",{"$f":"_xlfn.XLOOKUP(A107,BDD!A103:A10101,BDD!B103:B10101,\" \",0,1)","v":"damien_91@hotmail.com"},32.380561259411365,11827,"Damien_14 Indép. 14/11/1991 🇨🇭 Switzerland N/A PlayStation 5 N/A Volant Thrustmaster B S Gold 60 Safe 0 N/A N/A 0 N/A Damien_14 Damien Egg damien_91@hotmail.com"]
["Dark-Vados","Indép.","1/05/1976","🇫🇷 French","N/A","PlayStation 5","N/A","Volant Thrustmaster","C","C","Silver",40,"Casse-Cou",0,"N/A","N/A","N/A","N/A",{"$f":"HYPERLINK(\"https://www.msleague.fr/?page_id=1502&um_user=Dark-Vados\", \"Dark-Vados\")","v":"Dark-Vados"},"Grégory","GENTIL",{"$f":"_xlfn.XLOOKUP(A108,BDD!A104:A10102,BDD!B104:B10102,\" \",0,1)","v":"gentil.gregory@hotmail.com"},47.917864476386036,17502,"Dark-Vados Indép. 1/05/1976 🇫🇷 French N/A PlayStation 5 N/A Volant Thrustmaster C C Silver 40 Casse-Cou 0 N/A N/A N/A N/A Dark-Vados Grégory GENTIL gentil.gregory@hotmail.com"]
["Darkheros42240","STORM","1/10/2006","🇫🇷 French","N/A","PlayStation 4","N/A","Volant Logitech","B","S","Gold",61.5,"Safe",0,1,"N/A",6,"16,66",{"$f":"HYPERLINK(\"https://www.msleague.fr/?page_id=1502&um_user=Darkheros42240\", \"Darkheros42240\")","v":"Darkheros42240"},"Lilian","Ferréol",{"$f":"_xlfn.XLOOKUP(A109,BDD!A105:A10103,BDD!B105:B10103,\" \",0,1)","v":"lilian.ferreol2006@gmail.com"},17.500342231348391,6392,"Darkheros42240 STORM 1/10/2006 🇫🇷 French N/A PlayStation 4 N/A Volant Logitech B S Gold 61,5 Safe 0 1 N/A 6 16,66 Darkheros42240 Lilian Ferréol lilian.ferreol2006@gmail.com"]
["DAX_adrienlaff","DAX","17/01/1997","🇫🇷 French","N/A","PlayStation 4","N/A","Manette","B","S","Gold",60,"Safe",0,"N/A","N/A",0,"N/A",{"$f":"HYPERLINK(\"https://www.msleague.fr/?page_id=1502&um_user=DAX_adrienlaff\", \"DAX_adrienlaff\")","v":"DAX_adrienlaff"},"Adrien","Laffineur",{"$f":"_xlfn.XLOOKUP(A110,BDD!A106:A10104,BDD!B106:B10104,\" \",0,1)","v":"adrienlaffineur60@gmail.com"},27.20328542094456,9936,"DAX_adrienlaff DAX 17/01/1997 🇫🇷 French N/A PlayStation 4 N/A Manette B S Gold 60 Safe 0 N/A N/A 0 N/A DAX_adrienlaff Adrien Laffineur adrienlaffineur60@gmail.com"]
["DAZz","WertsVRT","25/02/2005","🇧🇪 Belgium","N/A","PlayStation 5","N/A","Volant Thrustmaster","A+","S","Legend",91.27,"Safe",0,1,"N/A",8,"N/A",{"$f":"HYPERLINK(\"https://www.msleague.fr/?page_id=1502&um_user=DAZz\", \"DAZz\")","v":"DAZz"},"Damien","Wauthoz",{"$f":"_xlfn.XLOOKUP(A111,BDD!A107:A10105,BDD!B107:B10105,\" \",0,1)","v":"damien.wauthoz@gmail.com"},19.096509240246405,6975,"DAZz WertsVRT 25/02/2005 🇧🇪 Belgium N/A PlayStation 5 N/A Volant Thrustmaster A+ S Legend 91,27 Safe 0 1 N/A 8 N/A DAZz Damien Wauthoz damien.wauthoz@gmail.com"]
["dds06-","HRC","2/02/2007","🇫🇷 French","Fibre","PlayStation 5","Wifi","Volant Logitech","B","S","Gold",60,"Safe",null,"N/A","N/A","N/A","N/A",{"$f":"HYPERLINK(\"https://www.msleague.fr/?page_id=1502&um_user=dds06-\", \"dds06-\")","v":"dds06-"},"Florian","Dos Santos",{"$f":"_xlfn.XLOOKUP(A112,BDD!A108:A10106,BDD!B108:B10106,\" \",0,1)","v":"flo.ds06@gmail.com"},17.160848733744011,6268,"dds06- HRC 2/02/2007 🇫🇷 French Fibre PlayStation 5 Wifi Volant Logitech B S Gold 60 Safe  N/A N/A N/A N/A dds06- Florian Dos Santos flo.ds06@gmail.com"]
["deathshoot57","Indép.","6/08/1994","🇫🇷 French","N/A","PlayStation 5","N/A","Volant Thrustmaster","B","S","Gold",60,"Safe",null,"N/A","N/A","N/A","N/A",{"$f":"HYPERLINK(\"https://www.msleague.fr/?page_id=1502&um_user=deathshoot57\", \"deathshoot57\")","v":"deathshoot57"},"François","Garcia",{"$f":"_xlfn.XLOOKUP(A113,BDD!A109:A10107,BDD!B109:B10107,\" \",0,1)","v":"cisko57990@gmail.com"},29.65366187542779,10831,"deathshoot57 Indép. 6/08/1994 🇫🇷 French N/A PlayStation 5 N/A Volant Thrustmaster B S Gold 60 Safe  N/A N/A N/A N/A deathshoot57 François Garcia cisko57990@gmail.com"]
["delenn38","JV2","27/03/1965","🇫🇷 French","N/A","PlayStation 5","N/A","Volant Fanatec","B","S","Gold",60,"Safe",0,"N/A","N/A","N/A","N/A",{"$f":"HYPERLINK(\"https://www.msleague.fr/?page_id=1502&um_user=delenn38\", \"delenn38\")","v":"delenn38"},"james","chedal raudet",{"$f":"_xlfn.XLOOKUP(A114,BDD!A110:A10108,BDD!B110:B10108,\" \",0,1)","v":"james.chedal@gmail.com"},59.014373716632441,21555,"delenn38 JV2 27/03/1965 🇫🇷 French N/A PlayStation 5 N/A Volant Fanatec B S Gold 60 Safe 0 N/A N/A N/A N/A delenn38 james chedal raudet james.chedal@gmail.com"]
["denisfr78","DTS","24/02/1972","🇫🇷 French","Fibre","PlayStation 5","Filaire","Volant Thrustmaster","B","S","Gold",60,"Safe",0,"N/A","N/A","N/A","N/A",{"$f":"HYPERLINK(\"https://www.msleague.fr/?page_id=1502&um_user=denisfr78\", \"denisfr78\")","v":"denisfr78"},"denis","goria",{"$f":"_xlfn.XLOOKUP(A115,BDD!A111:A10109,BDD!B111:B10109,\" \",0,1)","v":"denisgoria@free.fr"},52.101300479123886,19030,"denisfr78 DTS 24/02/1972 🇫🇷 French Fibre PlayStation 5 Filaire Volant Thrustmaster B S Gold 60 Safe 0 N/A N/A N/A N/A denisfr78 denis goria denisgoria@free.fr"]
["Diabolo_du67","BAM","18/09/1973","🇫🇷 French","N/A","PlayStation 5","N/A","Manette","A","S","Platinum",80,"Safe",0,"N/A","N/A",0,"N/A",{"$f":"HYPERLINK(\"https://www.msleague.fr/?page_id=1502&um_user=Diabolo_du67\", \"Diabolo_du67\")","v":"Diabolo_du67"},"David","GEBUS",{"$f":"_xlfn.XLOOKUP(A116,BDD!A112:A10110,BDD!B112:B10110,\" \",0,1)","v":"laurence.baleau@orange.fr"},50.535249828884325,18458,"Diabolo_du67 BAM 18/09/1973 🇫🇷 French N/A PlayStation 5 N/A Manette A S Platinum 80 Safe 0 N/A N/A 0 N/A Diabolo_du67 David GEBUS laurence.baleau@orange.fr"]
["DiegoGuillenESP","GTS92","31/12/2003","🇪🇸 Spain","Câble","PlayStation 4","Filaire","Volant Logitech","B","S","Gold",60,"Safe",null,"N/A","N/A","N/A","N/A",{"$f":"HYPERLINK(\"https://www.msleague.fr/?page_id=1502&um_user=DiegoGuillenESP\", \"DiegoGuillenESP\")","v":"DiegoGuillenESP"},"Diego","Guillén",{"$f":"_xlfn.XLOOKUP(A117,BDD!A113:A10111,BDD!B113:B10111,\" \",0,1)","v":"diegoguillendavila@gmail.com"},20.251882272416154,7397,"DiegoGuillenESP GTS92 31/12/2003 🇪🇸 Spain Câble PlayStation 4 Filaire Volant Logitech B S Gold 60 Safe  N/A N/A N/A N/A DiegoGuillenESP Diego Guillén diegoguillendavila@gmail.com"]
["Dolka-42","PRT","20/11/1959","🇫🇷 French","N/A","PlayStation 4","Wifi","Manette","B","S","Gold",60,"Safe",null,"N/A","N/A","N/A","N/A",{"$f":"HYPERLINK(\"https://www.msleague.fr/?page_id=1502&um_user=Dolka-42\", \"Dolka-42\")","v":"Dolka-42"},"Jean luc","Cartal",{"$f":"_xlfn.XLOOKUP(A118,BDD!A114:A10112,BDD!B114:B10112,\" \",0,1)","v":"jean-luc420@hotmail.fr"},64.364134154688571,23509,"Dolka-42 PRT 20/11/1959 🇫🇷 French N/A PlayStation 4 Wifi Manette B S Gold 60 Safe  N/A N/A N/A N/A Dolka-42 Jean luc Cartal jean-luc420@hotmail.fr"]
["Douksy","Indép.","7/05/1984","🇫🇷 French","N/A","PlayStation 5","N/A","Volant Fanatec","B","S","Gold",60,"Safe",0,"N/A","N/A","N/A","N/A",{"$f":"HYPERLINK(\"https://www.msleague.fr/?page_id=1502&um_user=Douksy\", \"Douksy\")","v":"Douksy"},"Ulrich","Viranaicken",{"$f":"_xlfn.XLOOKUP(A119,BDD!A115:A10113,BDD!B115:B10113,\" \",0,1)","v":"Dks974@hotmail.fr"},39.901437371663242,14574,"Douksy Indép. 7/05/1984 🇫🇷 French N/A PlayStation 5 N/A Volant Fanatec B S Gold 60 Safe 0 N/A N/A N/A N/A Douksy Ulrich Viranaicken Dks974@hotmail.fr"]
["Dovic","Indép.","21/11/1986","🇫🇷 French","N/A","PlayStation 4","N/A","Manette","C","B","Silver",40,"Batailleur",0,"N/A","N/A",0,"N/A",{"$f":"HYPERLINK(\"https://www.msleague.fr/?page_id=1502&um_user=Dovic\", \"Dovic\")","v":"Dovic"},"Ludovic","Geoffroy",{"$f":"_xlfn.XLOOKUP(A120,BDD!A116:A10114,BDD!B116:B10114,\" \",0,1)","v":"geoffroy.ludovic@gmail.com"},37.360711841204655,13646,"Dovic Indép. 21/11/1986 🇫🇷 French N/A PlayStation 4 N/A Manette C B Silver 40 Batailleur 0 N/A N/A 0 N/A Dovic Ludovic Geoffroy geoffroy.ludovic@gmail.com"]
["DRACKOMORT17","RSR","4/03/1973","🇫🇷 French","Fibre","PlayStation 4","Filaire","Volant Fanatec","B","S","Gold",60,"Safe",null,"N/A","N/A","N/A","N/A",{"$f":"HYPERLINK(\"https://www.msleague.fr/?page_id=1502&um_user=DRACKOMORT17\", \"DRACKOMORT17\")","v":"DRACKOMORT17"},"Gerald","Bonnifet",{"$f":"_xlfn.XLOOKUP(A121,BDD!A117:A10115,BDD!B117:B10115,\" \",0,1)","v":"gerald.bonnifet@gmail.com"},51.077344284736483,18656,"DRACKOMORT17 RSR 4/03/1973 🇫🇷 French Fibre PlayStation 4 Filaire Volant Fanatec B S Gold 60 Safe  N/A N/A N/A N/A DRACKOMORT17 Gerald Bonnifet gerald.bonnifet@gmail.com"]
["DrGourou","Indép.","15/06/1978","🇫🇷 French","N/A","PlayStation 5","N/A","Volant Fanatec","C","S","Bronze",20,"Safe",0,"N/A","N/A",0,"N/A",{"$f":"HYPERLINK(\"https://www.msleague.fr/?page_id=1502&um_user=DrGourou\", \"DrGourou\")","v":"DrGourou"},"Matthieu","Vigouroux",{"$f":"_xlfn.XLOOKUP(A122,BDD!A118:A10116,BDD!B118:B10116,\" \",0,1)","v":"vigouroux.matthieu@gmail.com"},45.796030116358658,16727,"DrGourou Indép. 15/06/1978 🇫🇷 French N/A PlayStation 5 N/A Volant Fanatec C S Bronze 20 Safe 0 N/A N/A 0 N/A DrGourou Matthieu Vigouroux vigouroux.matthieu@gmail.com"]
["DRR syncope82","DRR","13/09/1982","🇧🇪 Belgium","N/A","PlayStation 5","N/A","Volant Fanatec","B","S","Gold",60,"Safe",0,"N/A","N/A","N/A","N/A",{"$f":"HYPERLINK(\"https://www.msleague.fr/?page_id=1502&um_user=DRR syncope82\", \"DRR syncope82\")","v":"DRR syncope82"},"Samuel","Delforge",{"$f":"_xlfn.XLOOKUP(A123,BDD!A119:A10117,BDD!B119:B10117,\" \",0,1)","v":"Samdelforge@hotmail.com"},41.549623545516766,15176,"DRR syncope82 DRR 13/09/1982 🇧🇪 Belgium N/A PlayStation 5 N/A Volant Fanatec B S Gold 60 Safe 0 N/A N/A N/A N/A DRR syncope82 Samuel Delforge Samdelforge@hotmail.com"]
["DRR_Belial","DRR","19/07/1988","🇫🇷 French","VDSL","PlayStation 4","Filaire","Volant Thrustmaster","B","S","Gold",66.599999999999994,"Safe",4,3,0,3,0,{"$f":"HYPERLINK(\"https://www.msleague.fr/?page_id=1502&um_user=DRR_Belial\", \"DRR_Belial\")","v":"DRR_Belial"},"Jérémy","PAULIN",{"$f":"_xlfn.XLOOKUP(A124,BDD!A120:A10118,BDD!B120:B10118,\" \",0,1)","v":"jeeremy.paulin@gmail.com"},35.701574264202598,13040,"DRR_Belial DRR 19/07/1988 🇫🇷 French VDSL PlayStation 4 Filaire Volant Thrustmaster B S Gold 66,6 Safe 4 3 0 3 0 DRR_Belial Jérémy PAULIN jeeremy.paulin@gmail.com"]
["DRR_GRAYOU-28","DRR","28/09/1989","🇫🇷 French","N/A","PlayStation 5","N/A","Volant Thrustmaster","A","S","Platinum",80,"Safe",0,1,"N/A",2,"N/A",{"$f":"HYPERLINK(\"https://www.msleague.fr/?page_id=1502&um_user=DRR_GRAYOU-28\", \"DRR_GRAYOU-28\")","v":"DRR_GRAYOU-28"},"Jeremy","ROGER",{"$f":"_xlfn.XLOOKUP(A125,BDD!A121:A10119,BDD!B121:B10119,\" \",0,1)","v":"Jeremy.roger89@gmail.com"},34.507871321013006,12604,"DRR_GRAYOU-28 DRR 28/09/1989 🇫🇷 French N/A PlayStation 5 N/A Volant Thrustmaster A S Platinum 80 Safe 0 1 N/A 2 N/A DRR_GRAYOU-28 Jeremy ROGER Jeremy.roger89@gmail.com"]
["Drr_little","DRR","20/12/2009","🇫🇷 French","N/A","PlayStation 5","N/A","Volant Thrustmaster","B","S","Gold",56.66,"Safe",0,1,"N/A",1,"N/A",{"$f":"HYPERLINK(\"https://www.msleague.fr/?page_id=1502&um_user=Drr_little\", \"Drr_little\")","v":"Drr_little"},"Aurelie","Alix",{"$f":"_xlfn.XLOOKUP(A126,BDD!A122:A10120,BDD!B122:B10120,\" \",0,1)","v":"kifkif_7@msn.com"},14.28062970568104,5216,"Drr_little DRR 20/12/2009 🇫🇷 French N/A PlayStation 5 N/A Volant Thrustmaster B S Gold 56,66 Safe 0 1 N/A 1 N/A Drr_little Aurelie Alix kifkif_7@msn.com"]
["Dstinct_Darkari","DST","29/12/2000","🇺🇸 United States","Fibre","PlayStation 5","Filaire","Volant Fanatec","S","S","Legend",95,"Safe",0,"N/A","N/A","N/A","N/A",{"$f":"HYPERLINK(\"https://www.msleague.fr/?page_id=1502&um_user=Dstinct_Darkari\", \"Dstinct_Darkari\")","v":"Dstinct_Darkari"},"Donovan","Donovan Parker",{"$f":"_xlfn.XLOOKUP(A127,BDD!A123:A10121,BDD!B123:B10121,\" \",0,1)","v":"wilparker17@gmail.com"},23.255304585900067,8494,"Dstinct_Darkari DST 29/12/2000 🇺🇸 United States Fibre PlayStation 5 Filaire Volant Fanatec S S Legend 95 Safe 0 N/A N/A N/A N/A Dstinct_Darkari Donovan Donovan Parker wilparker17@gmail.com"]
["Dstinct_Marti","Dstinct","10/02/2000","🇬🇷 Greece","VDSL","PlayStation 5","Filaire","Manette","A+","S","Legend",95,"Safe",null,"N/A","N/A","N/A","N/A",{"$f":"HYPERLINK(\"https://www.msleague.fr/?page_id=1502&um_user=Dstinct_Marti\", \"Dstinct_Marti\")","v":"Dstinct_Marti"},"Harrys","Martidis",{"$f":"_xlfn.XLOOKUP(A128,BDD!A124:A10122,BDD!B124:B10122,\" \",0,1)","v":"harismartidis@gmail.com"},24.139630390143736,8817,"Dstinct_Marti Dstinct 10/02/2000 🇬🇷 Greece VDSL PlayStation 5 Filaire Manette A+ S Legend 95 Safe  N/A N/A N/A N/A Dstinct_Marti Harrys Martidis harismartidis@gmail.com"]
["Dstinct_Naif","Err. PSN","N/A","N/A","N/A","N/A","N/A","N/A","N/A","N/A","N/A",null,"N/A",null,"N/A","N/A","N/A","N/A",{"$f":"HYPERLINK(\"https://www.msleague.fr/?page_id=1502&um_user=Dstinct_Naif\", \"Dstinct_Naif\")","v":"Dstinct_Naif"},"N/A","N/A",{"$f":"_xlfn.XLOOKUP(A129,BDD!A125:A10123,BDD!B125:B10123,\" \",0,1)","v":"naifalfaleh69@gmail.com"},"","","Dstinct_Naif Err. PSN N/A N/A N/A N/A N/A N/A N/A N/A N/A  N/A  N/A N/A N/A N/A Dstinct_Naif N/A N/A naifalfaleh69@gmail.com"]
["DTS_Ludz","DTS","21/01/1999","🇫🇷 French","Fibre","PlayStation 5","Filaire","Manette","A+","S","Platinum",80,"Safe",0,"N/A","N/A",0,"N/A",{"$f":"HYPERLINK(\"https://www.msleague.fr/?page_id=1502&um_user=DTS_Ludz\", \"DTS_Ludz\")","v":"DTS_Ludz"},"Ludovic","Lhermite",{"$f":"_xlfn.XLOOKUP(A130,BDD!A126:A10124,BDD!B126:B10124,\" \",0,1)","v":"ludoviclhermite64@gmail.com"},25.193702943189596,9202,"DTS_Ludz DTS 21/01/1999 🇫🇷 French Fibre PlayStation 5 Filaire Manette A+ S Platinum 80 Safe 0 N/A N/A 0 N/A DTS_Ludz Ludovic Lhermite ludoviclhermite64@gmail.com"]
["DTS-Frentzen","DTS","25/12/1981","🇫🇷 French","N/A","PlayStation 5","N/A","Volant Fanatec","B","S","Gold",60,"Safe",0,"N/A","N/A",0,"N/A",{"$f":"HYPERLINK(\"https://www.msleague.fr/?page_id=1502&um_user=DTS-Frentzen\", \"DTS-Frentzen\")","v":"DTS-Frentzen"},"sylvain","chevalier",{"$f":"_xlfn.XLOOKUP(A131,BDD!A127:A10125,BDD!B127:B10125,\" \",0,1)","v":"julrox1106@gmail.com"},42.266940451745377,15438,"DTS-Frentzen DTS 25/12/1981 🇫🇷 French N/A PlayStation 5 N/A Volant Fanatec B S Gold 60 Safe 0 N/A N/A 0 N/A DTS-Frentzen sylvain chevalier julrox1106@gmail.com"]
["Dylan Barbittch","Indép.","17/07/1995","🇫🇷 French","Fibre","PlayStation 5","Filaire","Volant Thrustmaster","E","B","Rookie",5,"Batailleur",null,"N/A","N/A","N/A","N/A",{"$f":"HYPERLINK(\"https://www.msleague.fr/?page_id=1502&um_user=Dylan Barbittch\", \"Dylan Barbittch\")","v":"Dylan Barbittch"},"Dylan","Barbitch",{"$f":"_xlfn.XLOOKUP(A132,BDD!A128:A10126,BDD!B128:B10126,\" \",0,1)","v":"drexos93110@gmail.com"},28.709103353867214,10486,"Dylan Barbittch Indép. 17/07/1995 🇫🇷 French Fibre PlayStation 5 Filaire Volant Thrustmaster E B Rookie 5 Batailleur  N/A N/A N/A N/A Dylan Barbittch Dylan Barbitch drexos93110@gmail.com"]
["Dylemm29","Indép.","24/10/1990","🇫🇷 French","N/A","PlayStation 5","N/A","Volant Thrustmaster","B","S","Gold",60,"Safe",0,"N/A","N/A","N/A","N/A",{"$f":"HYPERLINK(\"https://www.msleague.fr/?page_id=1502&um_user=Dylemm29\", \"Dylemm29\")","v":"Dylemm29"},"Yoann","Letellier",{"$f":"_xlfn.XLOOKUP(A133,BDD!A129:A10127,BDD!B129:B10127,\" \",0,1)","v":"yoann.letellier50@gmail.com"},{"$f":"IF(X133=\"\",\"\",CONVERT(X133,\"day\",\"yr\"))","v":33.437371663244356},12213,"Dylemm29 Indép. 24/10/1990 🇫🇷 French N/A PlayStation 5 N/A Volant Thrustmaster B S Gold 60 Safe 0 N/A N/A N/A N/A Dylemm29 Yoann Letellier yoann.letellier50@gmail.com"]
["Ederko-77","RSR","28/03/1971","🇫🇷 French","N/A","PlayStation 5","N/A","Volant Thrustmaster","B","S","Gold",60,"Safe",0,"N/A","N/A",0,"N/A",{"$f":"HYPERLINK(\"https://www.msleague.fr/?page_id=1502&um_user=Ederko-77\", \"Ederko-77\")","v":"Ederko-77"},"Bruno","Martinot",{"$f":"_xlfn.XLOOKUP(A134,BDD!A130:A10128,BDD!B130:B10128,\" \",0,1)","v":"Ederko@msn.com"},53.013004791238878,19363,{"$f":"A134 & \" \" & B134 & \" \" & C134 & \" \" & D134 & \" \" & E134 & \" \" & F134 & \" \" & G134 & \" \" & H134 & \" \" & I134 & \" \" & J134 & \" \" & K134 & \" \" & L134 & \" \" & M134 & \" \" & N134 & \" \" & O134 & \" \" & P134 & \" \" &Q134 & \" \" & R134 & \" \" & S134 & \" \" & T134 & \" \" & U134 & \" \" & V134","v":"Ederko-77 RSR 28/03/1971 🇫🇷 French N/A PlayStation 5 N/A Volant Thrustmaster B S Gold 60 Safe 0 N/A N/A 0 N/A Ederko-77 Bruno Martinot Ederko@msn.com"}]
["Effet_EnZ","BLDG","23/09/2005","🇫🇷 French","N/A","PlayStation 5","N/A","Volant Logitech","C","S","Silver",40,"Safe",0,"N/A","N/A","N/A","N/A",{"$f":"HYPERLINK(\"https://www.msleague.fr/?page_id=1502&um_user=Effet_EnZ\", \"Effet_EnZ\")","v":"Effet_EnZ"},"Enzo","Calatrava",{"$f":"_xlfn.XLOOKUP(A135,BDD!A131:A10129,BDD!B131:B10129,\" \",0,1)","v":"enzo.calatrava@gmail.com"},18.521560574948666,6765,"Effet_EnZ BLDG 23/09/2005 🇫🇷 French N/A PlayStation 5 N/A Volant Logitech C S Silver 40 Safe 0 N/A N/A N/A N/A Effet_EnZ Enzo Calatrava enzo.calatrava@gmail.com"]
["El-Loco_13","GTBE","13/12/1972","🇧🇪 Belgium","N/A","PlayStation 5","N/A","Volant Thrustmaster","B","S","Gold",60,"Safe",0,"N/A","N/A",0,"N/A",{"$f":"HYPERLINK(\"https://www.msleague.fr/?page_id=1502&um_user=El-Loco_13\", \"El-Loco_13\")","v":"El-Loco_13"},"Frédéric","Vergnanini",{"$f":"_xlfn.XLOOKUP(A136,BDD!A132:A10130,BDD!B132:B10130,\" \",0,1)","v":"el.loco.gt.tv@gmail.com"},51.299110198494184,18737,"El-Loco_13 GTBE 13/12/1972 🇧🇪 Belgium N/A PlayStation 5 N/A Volant Thrustmaster B S Gold 60 Safe 0 N/A N/A 0 N/A El-Loco_13 Frédéric Vergnanini el.loco.gt.tv@gmail.com"]
["ElNico--GT","OMT","2/12/1978","🇫🇷 French","N/A","PlayStation 5","N/A","Volant Thrustmaster","A","S","Platinum",80,"Safe",0,"N/A","N/A","N/A","N/A",{"$f":"HYPERLINK(\"https://www.msleague.fr/?page_id=1502&um_user=ElNico--GT\", \"ElNico--GT\")","v":"ElNico--GT"},"Nicolas","Dulot",{"$f":"_xlfn.XLOOKUP(A137,BDD!A133:A10131,BDD!B133:B10131,\" \",0,1)","v":"elnico28.gts@gmail.com"},45.330595482546201,16557,"ElNico--GT OMT 2/12/1978 🇫🇷 French N/A PlayStation 5 N/A Volant Thrustmaster A S Platinum 80 Safe 0 N/A N/A N/A N/A ElNico--GT Nicolas Dulot elnico28.gts@gmail.com"]
["EMI_Advan-18","EMI","30/04/1981","🇫🇷 French","N/A","PlayStation 5","N/A","Volant Fanatec","B","S","Gold",60,"Safe",0,"N/A","N/A","N/A","N/A",{"$f":"HYPERLINK(\"https://www.msleague.fr/?page_id=1502&um_user=EMI_Advan-18\", \"EMI_Advan-18\")","v":"EMI_Advan-18"},"Yvon","Habert",{"$f":"_xlfn.XLOOKUP(A138,BDD!A134:A10132,BDD!B134:B10132,\" \",0,1)","v":"yvon.habert.yh@gmail.com"},42.921286789869953,15677,"EMI_Advan-18 EMI 30/04/1981 🇫🇷 French N/A PlayStation 5 N/A Volant Fanatec B S Gold 60 Safe 0 N/A N/A N/A N/A EMI_Advan-18 Yvon Habert yvon.habert.yh@gmail.com"]
["EMI_e-sport","EMI","24/06/1985","🇫🇷 French","N/A","PlayStation 5","N/A","Volant Fanatec","C","S","Silver",40,"Safe",0,"N/A","N/A",0,"N/A",{"$f":"HYPERLINK(\"https://www.msleague.fr/?page_id=1502&um_user=EMI_e-sport\", \"EMI_e-sport\")","v":"EMI_e-sport"},"EMI","Eagle Motor Ice",{"$f":"_xlfn.XLOOKUP(A139,BDD!A135:A10133,BDD!B135:B10133,\" \",0,1)","v":"emi.e.sport18@gmail.com"},38.770704996577685,14161,"EMI_e-sport EMI 24/06/1985 🇫🇷 French N/A PlayStation 5 N/A Volant Fanatec C S Silver 40 Safe 0 N/A N/A 0 N/A EMI_e-sport EMI Eagle Motor Ice emi.e.sport18@gmail.com"]
["EMI_FuLsteaK711","EMI","12/03/1973","🇫🇷 French","N/A","PlayStation 4","N/A","Manette","C","S","Silver",40,"Safe",0,"N/A","N/A",0,"N/A",{"$f":"HYPERLINK(\"https://www.msleague.fr/?page_id=1502&um_user=EMI_FuLsteaK711\", \"EMI_FuLsteaK711\")","v":"EMI_FuLsteaK711"},"Fabrice","HULOT",{"$f":"_xlfn.XLOOKUP(A140,BDD!A136:A10134,BDD!B136:B10134,\" \",0,1)","v":"fabrice.hulot63@gmail.com"},51.055441478439427,18648,"EMI_FuLsteaK711 EMI 12/03/1973 🇫🇷 French N/A PlayStation 4 N/A Manette C S Silver 40 Safe 0 N/A N/A 0 N/A EMI_FuLsteaK711 Fabrice HULOT fabrice.hulot63@gmail.com"]
["EMI_Marduk1312","EMI","20/10/1972","🇫🇷 French","N/A","PlayStation 4","N/A","Volant Thrustmaster","B","S","Gold",60,"Safe",0,"N/A","N/A",0,"N/A",{"$f":"HYPERLINK(\"https://www.msleague.fr/?page_id=1502&um_user=EMI_Marduk1312\", \"EMI_Marduk1312\")","v":"EMI_Marduk1312"},"Hora","Pan",{"$f":"_xlfn.XLOOKUP(A141,BDD!A137:A10135,BDD!B137:B10135,\" \",0,1)","v":"voisindu44@live.fr"},51.446954140999317,18791,"EMI_Marduk1312 EMI 20/10/1972 🇫🇷 French N/A PlayStation 4 N/A Volant Thrustmaster B S Gold 60 Safe 0 N/A N/A 0 N/A EMI_Marduk1312 Hora Pan voisindu44@live.fr"]
["EMI_Senna-13240","EMI","2/02/1964","🇫🇷 French","N/A","PlayStation 5","N/A","Volant Fanatec","B","S","Gold",60,"Safe",0,"N/A","N/A",0,"N/A",{"$f":"HYPERLINK(\"https://www.msleague.fr/?page_id=1502&um_user=EMI_Senna-13240\", \"EMI_Senna-13240\")","v":"EMI_Senna-13240"},"Thierry","Piacentile",{"$f":"_xlfn.XLOOKUP(A142,BDD!A138:A10136,BDD!B138:B10136,\" \",0,1)","v":"conceptsysteme@gmail.com"},60.161533196440793,21974,"EMI_Senna-13240 EMI 2/02/1964 🇫🇷 French N/A PlayStation 5 N/A Volant Fanatec B S Gold 60 Safe 0 N/A N/A 0 N/A EMI_Senna-13240 Thierry Piacentile conceptsysteme@gmail.com"]
["EMI-Pegasus-raff","EMI","18/09/1972","🇫🇷 French","N/A","PlayStation 5","N/A","Volant Thrustmaster","A","S","Platinum",72.569999999999993,"Safe",0,1,0,7,0,{"$f":"HYPERLINK(\"https://www.msleague.fr/?page_id=1502&um_user=EMI-Pegasus-raff\", \"EMI-Pegasus-raff\")","v":"EMI-Pegasus-raff"},"Stephane","Raffier",{"$f":"_xlfn.XLOOKUP(A143,BDD!A139:A10137,BDD!B139:B10137,\" \",0,1)","v":"Raffierstephane72@gmail.com"},51.534565366187543,18823,"EMI-Pegasus-raff EMI 18/09/1972 🇫🇷 French N/A PlayStation 5 N/A Volant Thrustmaster A S Platinum 72,57 Safe 0 1 0 7 0 EMI-Pegasus-raff Stephane Raffier Raffierstephane72@gmail.com"]
["Emi-tenon46","EMI","3/05/1976","🇫🇷 French","N/A","PlayStation 4","N/A","Volant Thrustmaster","C","S","Silver",40,"Safe",0,"N/A","N/A",0,"N/A",{"$f":"HYPERLINK(\"https://www.msleague.fr/?page_id=1502&um_user=Emi-tenon46\", \"Emi-tenon46\")","v":"Emi-tenon46"},"Nordine","Vialle",{"$f":"_xlfn.XLOOKUP(A144,BDD!A140:A10138,BDD!B140:B10138,\" \",0,1)","v":"nordine.vialle@orange.fr"},47.912388774811774,17500,"Emi-tenon46 EMI 3/05/1976 🇫🇷 French N/A PlayStation 4 N/A Volant Thrustmaster C S Silver 40 Safe 0 N/A N/A 0 N/A Emi-tenon46 Nordine Vialle nordine.vialle@orange.fr"]
["ERC-Fret","ERC","14/08/1983","🇧🇪 Belgium","N/A","PlayStation 5","N/A","Volant Fanatec","A","S","Platinum",80,"Safe",0,"N/A","N/A",0,"N/A",{"$f":"HYPERLINK(\"https://www.msleague.fr/?page_id=1502&um_user=ERC-Fret\", \"ERC-Fret\")","v":"ERC-Fret"},"Frédéric","Noirhomme",{"$f":"_xlfn.XLOOKUP(A145,BDD!A141:A10139,BDD!B141:B10139,\" \",0,1)","v":"Fret619@hotmail.be"},40.632443531827512,14841,"ERC-Fret ERC 14/08/1983 🇧🇪 Belgium N/A PlayStation 5 N/A Volant Fanatec A S Platinum 80 Safe 0 N/A N/A 0 N/A ERC-Fret Frédéric Noirhomme Fret619@hotmail.be"]
["ERD_Iqbal","ERD","18/11/1998","🇯🇵 Japan","Fibre","PlayStation 5","Wifi","Volant Fanatec","S","S","Legend",95,"Safe",0,"N/A","N/A","N/A","N/A",{"$f":"HYPERLINK(\"https://www.msleague.fr/?page_id=1502&um_user=ERD_Iqbal\", \"ERD_Iqbal\")","v":"ERD_Iqbal"},"Iqbql","Suji",{"$f":"_xlfn.XLOOKUP(A146,BDD!A142:A10140,BDD!B142:B10140,\" \",0,1)","v":"iqbalsuji@gmail.com"},25.368925393566052,9266,"ERD_Iqbal ERD 18/11/1998 🇯🇵 Japan Fibre PlayStation 5 Wifi Volant Fanatec S S Legend 95 Safe 0 N/A N/A N/A N/A ERD_Iqbal Iqbql Suji iqbalsuji@gmail.com"]
["ERD_SirHell","LRST","6/12/1992","🇪🇸 Spain","N/A","PlayStation 4","N/A","Volant Logitech","A","S","Platinum",80,"Safe",0,"N/A","N/A","N/A","N/A",{"$f":"HYPERLINK(\"https://www.msleague.fr/?page_id=1502&um_user=ERD_SirHell\", \"ERD_SirHell\")","v":"ERD_SirHell"},"Ismael","Pérez",{"$f":"_xlfn.XLOOKUP(A147,BDD!A143:A10141,BDD!B143:B10141,\" \",0,1)","v":"ismaelanabel3@gmail.com"},31.318275154004105,11439,"ERD_SirHell LRST 6/12/1992 🇪🇸 Spain N/A PlayStation 4 N/A Volant Logitech A S Platinum 80 Safe 0 N/A N/A N/A N/A ERD_SirHell Ismael Pérez ismaelanabel3@gmail.com"]
["ERM_AdrianMG","ERM","25/11/1994","🇪🇸 Spain","Câble","PlayStation 5","Filaire","Volant Thrustmaster","A+","S","Legend",95,"Safe",null,"N/A","N/A","N/A","N/A",{"$f":"HYPERLINK(\"https://www.msleague.fr/?page_id=1502&um_user=ERM_AdrianMG\", \"ERM_AdrianMG\")","v":"ERM_AdrianMG"},"Adrian","Mayor",{"$f":"_xlfn.XLOOKUP(A148,BDD!A144:A10142,BDD!B144:B10142,\" \",0,1)","v":"adrianabanto5@gmail.com"},29.349760438056126,10720,"ERM_AdrianMG ERM 25/11/1994 🇪🇸 Spain Câble PlayStation 5 Filaire Volant Thrustmaster A+ S Legend 95 Safe  N/A N/A N/A N/A ERM_AdrianMG Adrian Mayor adrianabanto5@gmail.com"]
["ERM_AntonioSK","ERM","7/11/2006","🇫🇷 French","Fibre","PlayStation 5","Filaire","Volant Fanatec","A+","S","Legend",95,"Safe",null,"N/A","N/A","N/A","N/A",{"$f":"HYPERLINK(\"https://www.msleague.fr/?page_id=1502&um_user=ERM_AntonioSK\", \"ERM_AntonioSK\")","v":"ERM_AntonioSK"},"Antonio","Santos",{"$f":"_xlfn.XLOOKUP(A149,BDD!A145:A10143,BDD!B145:B10143,\" \",0,1)","v":"adrian21erm@gmail.com"},17.399041752224505,6355,"ERM_AntonioSK ERM 7/11/2006 🇫🇷 French Fibre PlayStation 5 Filaire Volant Fanatec A+ S Legend 95 Safe  N/A N/A N/A N/A ERM_AntonioSK Antonio Santos adrian21erm@gmail.com"]
["ERM_Joss","ERM","9/08/1999","🇧🇪 Belgium","N/A","PlayStation 5","N/A","Volant Thrustmaster","A+","S","Legend",95,"Safe",0,"N/A","N/A",0,"N/A",{"$f":"HYPERLINK(\"https://www.msleague.fr/?page_id=1502&um_user=ERM_Joss\", \"ERM_Joss\")","v":"ERM_Joss"},"Joss","Legrand",{"$f":"_xlfn.XLOOKUP(A150,BDD!A146:A10144,BDD!B146:B10144,\" \",0,1)","v":"mouche1999@hotmail.com"},24.646132785763175,9002,"ERM_Joss ERM 9/08/1999 🇧🇪 Belgium N/A PlayStation 5 N/A Volant Thrustmaster A+ S Legend 95 Safe 0 N/A N/A 0 N/A ERM_Joss Joss Legrand mouche1999@hotmail.com"]
["ERM_LoloRios","ERM","13/12/1987","🇪🇸 Spain","Câble","PlayStation 5","Filaire","Volant Fanatec","A+","S","Legend",95,"Safe",null,"N/A","N/A","N/A","N/A",{"$f":"HYPERLINK(\"https://www.msleague.fr/?page_id=1502&um_user=ERM_LoloRios\", \"ERM_LoloRios\")","v":"ERM_LoloRios"},"Jose Manuel","Rios Segovia",{"$f":"_xlfn.XLOOKUP(A151,BDD!A147:A10145,BDD!B147:B10145,\" \",0,1)","v":"jmanuel.rios@me.com"},36.301163586584529,13259,"ERM_LoloRios ERM 13/12/1987 🇪🇸 Spain Câble PlayStation 5 Filaire Volant Fanatec A+ S Legend 95 Safe  N/A N/A N/A N/A ERM_LoloRios Jose Manuel Rios Segovia jmanuel.rios@me.com"]
["ERM_Mehdi59","ERM","29/06/2002","🇫🇷 French","Fibre","PlayStation 5","Filaire","Volant Fanatec","S","S","Legend",95,"Safe",null,"N/A","N/A","N/A","N/A",{"$f":"HYPERLINK(\"https://www.msleague.fr/?page_id=1502&um_user=ERM_Mehdi59\", \"ERM_Mehdi59\")","v":"ERM_Mehdi59"},"Mehdi","Hafidi",{"$f":"_xlfn.XLOOKUP(A152,BDD!A148:A10146,BDD!B148:B10146,\" \",0,1)","v":"mhafidi83@gmail.com"},21.757700205338811,7947,"ERM_Mehdi59 ERM 29/06/2002 🇫🇷 French Fibre PlayStation 5 Filaire Volant Fanatec S S Legend 95 Safe  N/A N/A N/A N/A ERM_Mehdi59 Mehdi Hafidi mhafidi83@gmail.com"]
["ERS_Bezzi02","ERS","5/07/2002","🇵🇱 Poland","N/A","PlayStation 5","N/A","Volant Thrustmaster","A+","S","Legend",95,"Safe",null,"N/A","N/A","N/A","N/A",{"$f":"HYPERLINK(\"https://www.msleague.fr/?page_id=1502&um_user=ERS_Bezzi02\", \"ERS_Bezzi02\")","v":"ERS_Bezzi02"},"Marcin","Nowok",{"$f":"_xlfn.XLOOKUP(A153,BDD!A149:A10147,BDD!B149:B10147,\" \",0,1)","v":"marcinnowok02@gmail.com"},21.741273100616016,{"$f":"IF(C153=\"N/A\",\"\",TODAY()-$C153)","v":7941},"ERS_Bezzi02 ERS 5/07/2002 🇵🇱 Poland N/A PlayStation 5 N/A Volant Thrustmaster A+ S Legend 95 Safe  N/A N/A N/A N/A ERS_Bezzi02 Marcin Nowok marcinnowok02@gmail.com"]
["ERS_MACCA27","ERS","27/01/1999","🇬🇧 English","Câble","PlayStation 5","Filaire","Volant Fanatec","A+","S","Legend",95,"Safe",null,"N/A","N/A","N/A","N/A",{"$f":"HYPERLINK(\"https://www.msleague.fr/?page_id=1502&um_user=ERS_MACCA27\", \"ERS_MACCA27\")","v":"ERS_MACCA27"},"Mccauley","Davey",{"$f":"_xlfn.XLOOKUP(A154,BDD!A150:A10148,BDD!B150:B10148,\" \",0,1)","v":"mccauleydavey@googlemail.com"},25.177275838466805,9196,"ERS_MACCA27 ERS 27/01/1999 🇬🇧 English Câble PlayStation 5 Filaire Volant Fanatec A+ S Legend 95 Safe  N/A N/A N/A N/A ERS_MACCA27 Mccauley Davey mccauleydavey@googlemail.com"]
["ERS_Matthew07","ERS","28/07/1985","🇵🇱 Poland","N/A","PlayStation 5","N/A","Volant Fanatec","A+","S","Legend",95,"Safe",0,"N/A","N/A",0,"N/A",{"$f":"HYPERLINK(\"https://www.msleague.fr/?page_id=1502&um_user=ERS_Matthew07\", \"ERS_Matthew07\")","v":"ERS_Matthew07"},"Mateusz","Lesiczka",{"$f":"_xlfn.XLOOKUP(A155,BDD!A151:A10149,BDD!B151:B10149,\" \",0,1)","v":"Mateuszlesiczka1@gmail.com"},38.677618069815196,14127,"ERS_Matthew07 ERS 28/07/1985 🇵🇱 Poland N/A PlayStation 5 N/A Volant Fanatec A+ S Legend 95 Safe 0 N/A N/A 0 N/A ERS_Matthew07 Mateusz Lesiczka Mateuszlesiczka1@gmail.com"]
["ERS_Nixo09","ERS","20/04/2005","🇵🇱 Poland","N/A","PlayStation 5","N/A","Volant Thrustmaster","A+","S","Legend",95,"Safe",0,"N/A","N/A",0,"N/A",{"$f":"HYPERLINK(\"https://www.msleague.fr/?page_id=1502&um_user=ERS_Nixo09\", \"ERS_Nixo09\")","v":"ERS_Nixo09"},"Nikodem","Walkowiak",{"$f":"_xlfn.XLOOKUP(A156,BDD!A152:A10150,BDD!B152:B10150,\" \",0,1)","v":"nikodem.walkowiak2000@gmail.com"},18.948665297741272,6921,"ERS_Nixo09 ERS 20/04/2005 🇵🇱 Poland N/A PlayStation 5 N/A Volant Thrustmaster A+ S Legend 95 Safe 0 N/A N/A 0 N/A ERS_Nixo09 Nikodem Walkowiak nikodem.walkowiak2000@gmail.com"]
["ERS_piopaw90","ERS","23/04/2008","🇵🇱 Poland","N/A","PlayStation 5","N/A","Volant Fanatec","A","A","Platinum",80,"Fair-Play",null,"N/A","N/A","N/A","N/A",{"$f":"HYPERLINK(\"https://www.msleague.fr/?page_id=1502&um_user=ERS_piopaw90\", \"ERS_piopaw90\")","v":"ERS_piopaw90"},"Bartłomiej","Pawełczyk",{"$f":"_xlfn.XLOOKUP(A157,BDD!A153:A10151,BDD!B153:B10151,\" \",0,1)","v":"bartpawjr23@gmail.com"},15.939767282683095,5822,"ERS_piopaw90 ERS 23/04/2008 🇵🇱 Poland N/A PlayStation 5 N/A Volant Fanatec A A Platinum 80 Fair-Play  N/A N/A N/A N/A ERS_piopaw90 Bartłomiej Pawełczyk bartpawjr23@gmail.com"]
["ERS_Romsk89","Indép.","30/03/1989","🇵🇱 Poland","N/A","PlayStation 5","N/A","Volant Thrustmaster","A+","S","Legend",93.34,"Fair-Play",0,1,"N/A",6,"N/A",{"$f":"HYPERLINK(\"https://www.msleague.fr/?page_id=1502&um_user=ERS_Romsk89\", \"ERS_Romsk89\")","v":"ERS_Romsk89"},"Roman","Mirski",{"$f":"_xlfn.XLOOKUP(A158,BDD!A154:A10152,BDD!B154:B10152,\" \",0,1)","v":"romekmirski@gmail.com"},35.006160164271044,12786,"ERS_Romsk89 Indép. 30/03/1989 🇵🇱 Poland N/A PlayStation 5 N/A Volant Thrustmaster A+ S Legend 93,34 Fair-Play 0 1 N/A 6 N/A ERS_Romsk89 Roman Mirski romekmirski@gmail.com"]
["EsNK2712","Indép.","27/12/2010","🇫🇷 French","Fibre","PlayStation 4","Wifi","Volant Thrustmaster","E","B","Rookie",5,"Dirty",null,"N/A","N/A","N/A","N/A",{"$f":"HYPERLINK(\"https://www.msleague.fr/?page_id=1502&um_user=EsNK2712\", \"EsNK2712\")","v":"EsNK2712"},"Esteban","Khan Nicolas",{"$f":"_xlfn.XLOOKUP(A159,BDD!A155:A10153,BDD!B155:B10153,\" \",0,1)","v":"esteban.nicolas2712@gmail.com"},13.262149212867898,4844,"EsNK2712 Indép. 27/12/2010 🇫🇷 French Fibre PlayStation 4 Wifi Volant Thrustmaster E B Rookie 5 Dirty  N/A N/A N/A N/A EsNK2712 Esteban Khan Nicolas esteban.nicolas2712@gmail.com"]
["EtienneS51","SPR","11/07/1978","🇫🇷 French","N/A","PlayStation 5","N/A","Volant Fanatec","B","S","Gold",60,"Safe",0,"N/A","N/A","N/A","N/A",{"$f":"HYPERLINK(\"https://www.msleague.fr/?page_id=1502&um_user=EtienneS51\", \"EtienneS51\")","v":"EtienneS51"},"Etienne","SORLET",{"$f":"_xlfn.XLOOKUP(A160,BDD!A156:A10154,BDD!B156:B10154,\" \",0,1)","v":"e_sorlet@yahoo.fr"},45.724845995893226,16701,"EtienneS51 SPR 11/07/1978 🇫🇷 French N/A PlayStation 5 N/A Volant Fanatec B S Gold 60 Safe 0 N/A N/A N/A N/A EtienneS51 Etienne SORLET e_sorlet@yahoo.fr"]
["ExAlTiQuE_Taziks","JV2","20/08/2006","🇫🇷 French","N/A","PlayStation 5","N/A","Manette","B","S","Gold",60,"Safe",0,"N/A","N/A",0,"N/A",{"$f":"HYPERLINK(\"https://www.msleague.fr/?page_id=1502&um_user=ExAlTiQuE_Taziks\", \"ExAlTiQuE_Taziks\")","v":"ExAlTiQuE_Taziks"},"Iwen","Poirier",{"$f":"_xlfn.XLOOKUP(A161,BDD!A157:A10155,BDD!B157:B10155,\" \",0,1)","v":"iwen.poirier@orange.fr"},17.61533196440794,6434,"ExAlTiQuE_Taziks JV2 20/08/2006 🇫🇷 French N/A PlayStation 5 N/A Manette B S Gold 60 Safe 0 N/A N/A 0 N/A ExAlTiQuE_Taziks Iwen Poirier iwen.poirier@orange.fr"]
["eykxas","TGT","22/06/1992","🇫🇷 French","Fibre","PlayStation 5","Filaire","Volant Thrustmaster","B","S","Gold",60,"Safe",null,"N/A","N/A","N/A","N/A",{"$f":"HYPERLINK(\"https://www.msleague.fr/?page_id=1502&um_user=eykxas\", \"eykxas\")","v":"eykxas"},"Pierre","Blasco",{"$f":"_xlfn.XLOOKUP(A162,BDD!A158:A10156,BDD!B158:B10156,\" \",0,1)","v":"007pierre1@gmail.com"},31.775496235455169,11606,"eykxas TGT 22/06/1992 🇫🇷 French Fibre PlayStation 5 Filaire Volant Thrustmaster B S Gold 60 Safe  N/A N/A N/A N/A eykxas Pierre Blasco 007pierre1@gmail.com"]
["F1HL_ZIRA_Rudy","ZIRA","3/01/2001","🇭🇺 Hungary","N/A","PlayStation 5","N/A","Volant Fanatec","A+","S","Legend",90.19,"Safe",7,1,0,1,0,{"$f":"HYPERLINK(\"https://www.msleague.fr/?page_id=1502&um_user=F1HL_ZIRA_Rudy\", \"F1HL_ZIRA_Rudy\")","v":"F1HL_ZIRA_Rudy"},"Pinter","Rudolf",{"$f":"_xlfn.XLOOKUP(A163,BDD!A159:A10157,BDD!B159:B10157,\" \",0,1)","v":"rudy.pinter3@yahoo.com"},23.241615331964407,8489,"F1HL_ZIRA_Rudy ZIRA 3/01/2001 🇭🇺 Hungary N/A PlayStation 5 N/A Volant Fanatec A+ S Legend 90,19 Safe 7 1 0 1 0 F1HL_ZIRA_Rudy Pinter Rudolf rudy.pinter3@yahoo.com"]
["fenixian_95","RM","8/02/1995","🇵🇱 Poland","N/A","PlayStation 4","N/A","Volant Thrustmaster","A","S","Platinum",80,"Safe",0,"N/A","N/A",0,"N/A",{"$f":"HYPERLINK(\"https://www.msleague.fr/?page_id=1502&um_user=fenixian_95\", \"fenixian_95\")","v":"fenixian_95"},"Bartek","Zietal",{"$f":"_xlfn.XLOOKUP(A164,BDD!A160:A10158,BDD!B160:B10158,\" \",0,1)","v":"zietal8@gmail.com"},29.144421629021217,10645,"fenixian_95 RM 8/02/1995 🇵🇱 Poland N/A PlayStation 4 N/A Volant Thrustmaster A S Platinum 80 Safe 0 N/A N/A 0 N/A fenixian_95 Bartek Zietal zietal8@gmail.com"]
["FFK-Francis13","FRK","31/12/1984","🇫🇷 French","Fibre","PlayStation 5","Filaire","Volant Thrustmaster","A","S","Platinum",80,"Fair-Play",0,"N/A","N/A",0,"N/A",{"$f":"HYPERLINK(\"https://www.msleague.fr/?page_id=1502&um_user=FFK-Francis13\", \"FFK-Francis13\")","v":"FFK-Francis13"},"Francis","Laugier",{"$f":"_xlfn.XLOOKUP(A165,BDD!A161:A10159,BDD!B161:B10159,\" \",0,1)","v":"laugier.francis@outlook.fr"},39.249828884325801,14336,"FFK-Francis13 FRK 31/12/1984 🇫🇷 French Fibre PlayStation 5 Filaire Volant Thrustmaster A S Platinum 80 Fair-Play 0 N/A N/A 0 N/A FFK-Francis13 Francis Laugier laugier.francis@outlook.fr"]
["FGE_Lighty","GL","13/01/2008","🇸🇪 Sweden","Box/Partage 3G/4G","PlayStation 4","Wifi","Volant Fanatec","A+","S","Legend",91.54,"Safe",12,1,0,1,0,{"$f":"HYPERLINK(\"https://www.msleague.fr/?page_id=1502&um_user=FGE_Lighty\", \"FGE_Lighty\")","v":"FGE_Lighty"},"Lucas","Po",{"$f":"_xlfn.XLOOKUP(A166,BDD!A162:A10160,BDD!B162:B10160,\" \",0,1)","v":"LIGHTYBEAST@gmail.com"},16.216290212183434,5923,"FGE_Lighty GL 13/01/2008 🇸🇪 Sweden Box/Partage 3G/4G PlayStation 4 Wifi Volant Fanatec A+ S Legend 91,54 Safe 12 1 0 1 0 FGE_Lighty Lucas Po LIGHTYBEAST@gmail.com"]
["FGR_Dynamofan300","FGR","7/01/2005","🇩🇪 Germany","Fibre","PlayStation 4","Filaire","Volant Fanatec","A+","S","Legend",95,"Safe",null,"N/A","N/A","N/A","N/A",{"$f":"HYPERLINK(\"https://www.msleague.fr/?page_id=1502&um_user=FGR_Dynamofan300\", \"FGR_Dynamofan300\")","v":"FGR_Dynamofan300"},"Leon","Mißbach",{"$f":"_xlfn.XLOOKUP(A167,BDD!A163:A10161,BDD!B163:B10161,\" \",0,1)","v":"leon.missbach@gmx.de"},19.230663928815879,7024,"FGR_Dynamofan300 FGR 7/01/2005 🇩🇪 Germany Fibre PlayStation 4 Filaire Volant Fanatec A+ S Legend 95 Safe  N/A N/A N/A N/A FGR_Dynamofan300 Leon Mißbach leon.missbach@gmx.de"]
["FGR_Supergt","FGR","9/07/2007","🇩🇪 Germany","Satelite","PlayStation 5","Filaire","Volant Fanatec","A+","S","Legend",95,"Safe",null,"N/A","N/A","N/A","N/A",{"$f":"HYPERLINK(\"https://www.msleague.fr/?page_id=1502&um_user=FGR_Supergt\", \"FGR_Supergt\")","v":"FGR_Supergt"},"Julius","Jakobeit",{"$f":"_xlfn.XLOOKUP(A168,BDD!A164:A10162,BDD!B164:B10162,\" \",0,1)","v":"jj.jakobeit@icloud.com"},16.73100616016427,6111,"FGR_Supergt FGR 9/07/2007 🇩🇪 Germany Satelite PlayStation 5 Filaire Volant Fanatec A+ S Legend 95 Safe  N/A N/A N/A N/A FGR_Supergt Julius Jakobeit jj.jakobeit@icloud.com"]
["fhoogy","Indép.","23/10/2000","🇫🇷 French","N/A","PlayStation 5","N/A","Volant Thrustmaster","A","S","Platinum",80,"Safe",0,"N/A","N/A","N/A","N/A",{"$f":"HYPERLINK(\"https://www.msleague.fr/?page_id=1502&um_user=fhoogy\", \"fhoogy\")","v":"fhoogy"},"Thibault","Trambouze",{"$f":"_xlfn.XLOOKUP(A169,BDD!A165:A10163,BDD!B165:B10163,\" \",0,1)","v":"thibault.trambouze@gmail.com"},23.43874058863792,8561,"fhoogy Indép. 23/10/2000 🇫🇷 French N/A PlayStation 5 N/A Volant Thrustmaster A S Platinum 80 Safe 0 N/A N/A N/A N/A fhoogy Thibault Trambouze thibault.trambouze@gmail.com"]
["FifiManos","Indép.","2/07/1979","🇫🇷 French","N/A","PlayStation 5","N/A","Volant Thrustmaster","A","S","Platinum",80,"Safe",0,"N/A","N/A",0,"N/A",{"$f":"HYPERLINK(\"https://www.msleague.fr/?page_id=1502&um_user=FifiManos\", \"FifiManos\")","v":"FifiManos"},"Philippe","Lefort",{"$f":"_xlfn.XLOOKUP(A170,BDD!A166:A10164,BDD!B166:B10164,\" \",0,1)","v":"philipop.lefort@gmail.com"},44.750171115674199,16345,"FifiManos Indép. 2/07/1979 🇫🇷 French N/A PlayStation 5 N/A Volant Thrustmaster A S Platinum 80 Safe 0 N/A N/A 0 N/A FifiManos Philippe Lefort philipop.lefort@gmail.com"]
["Firepvp743","Indép.","28/09/2010","🇫🇷 French","Fibre","PlayStation 4","Filaire","Volant Thrustmaster","E","D","Rookie",5,"Dirty",null,"N/A","N/A","N/A","N/A",{"$f":"HYPERLINK(\"https://www.msleague.fr/?page_id=1502&um_user=Firepvp743\", \"Firepvp743\")","v":"Firepvp743"},"Romain","Goettelmann",{"$f":"_xlfn.XLOOKUP(A171,BDD!A167:A10165,BDD!B167:B10165,\" \",0,1)","v":"firepvp743@gmail.com"},13.508555783709788,4934,"Firepvp743 Indép. 28/09/2010 🇫🇷 French Fibre PlayStation 4 Filaire Volant Thrustmaster E D Rookie 5 Dirty  N/A N/A N/A N/A Firepvp743 Romain Goettelmann firepvp743@gmail.com"]
["Flihnt_K","NRW","7/05/1979","🇩🇪 Germany","N/A","PlayStation 5","N/A","Volant Fanatec","A","S","Platinum",80,"Safe",0,"N/A","N/A",0,"N/A",{"$f":"HYPERLINK(\"https://www.msleague.fr/?page_id=1502&um_user=Flihnt_K\", \"Flihnt_K\")","v":"Flihnt_K"},"Jens","Krauser",{"$f":"_xlfn.XLOOKUP(A172,BDD!A168:A10166,BDD!B168:B10166,\" \",0,1)","v":"flihnt@googlemail.com"},44.903490759753595,16401,"Flihnt_K NRW 7/05/1979 🇩🇪 Germany N/A PlayStation 5 N/A Volant Fanatec A S Platinum 80 Safe 0 N/A N/A 0 N/A Flihnt_K Jens Krauser flihnt@googlemail.com"]
["footfcgb1881","Indép.","2/04/2005","🇫🇷 French","N/A","PlayStation 4","N/A","Manette","B","B","Gold",60,"Batailleur",0,"N/A","N/A","N/A","N/A",{"$f":"HYPERLINK(\"https://www.msleague.fr/?page_id=1502&um_user=footfcgb1881\", \"footfcgb1881\")","v":"footfcgb1881"},"Maxime","Haberland",{"$f":"_xlfn.XLOOKUP(A173,BDD!A169:A10167,BDD!B169:B10167,\" \",0,1)","v":"haberlandmaxime@gmail.com"},18.997946611909651,6939,"footfcgb1881 Indép. 2/04/2005 🇫🇷 French N/A PlayStation 4 N/A Manette B B Gold 60 Batailleur 0 N/A N/A N/A N/A footfcgb1881 Maxime Haberland haberlandmaxime@gmail.com"]
["Forza-italia1310","Indép.","1/05/1990","🇫🇷 French","Fibre","PlayStation 5","Wifi","Volant Fanatec","B","S","Gold",60,"Safe",null,"N/A","N/A","N/A","N/A",{"$f":"HYPERLINK(\"https://www.msleague.fr/?page_id=1502&um_user=Forza-italia1310\", \"Forza-italia1310\")","v":"Forza-italia1310"},"Christopher","Viviani",{"$f":"_xlfn.XLOOKUP(A174,BDD!A170:A10168,BDD!B170:B10168,\" \",0,1)","v":"Viviani.christopher@gmail.com"},33.9192334017796,12389,"Forza-italia1310 Indép. 1/05/1990 🇫🇷 French Fibre PlayStation 5 Wifi Volant Fanatec B S Gold 60 Safe  N/A N/A N/A N/A Forza-italia1310 Christopher Viviani Viviani.christopher@gmail.com"]
["Fouiny_99","PRT","25/09/1990","🇫🇷 French","Câble","PlayStation 5","Filaire","Volant Logitech","A","S","Platinum",80,"Safe",null,"N/A","N/A","N/A","N/A",{"$f":"HYPERLINK(\"https://www.msleague.fr/?page_id=1502&um_user=Fouiny_99\", \"Fouiny_99\")","v":"Fouiny_99"},"Axel","Toussaint",{"$f":"_xlfn.XLOOKUP(A175,BDD!A171:A10169,BDD!B171:B10169,\" \",0,1)","v":"Axel.toussaint57@hotmail.fr"},33.516769336071185,12242,"Fouiny_99 PRT 25/09/1990 🇫🇷 French Câble PlayStation 5 Filaire Volant Logitech A S Platinum 80 Safe  N/A N/A N/A N/A Fouiny_99 Axel Toussaint Axel.toussaint57@hotmail.fr"]
["Foxylady_2001","Indép.","3/08/1975","🇨🇭 Switzerland","N/A","PlayStation 5","N/A","Volant Thrustmaster","A+","S","Legend",95,"Safe",0,"N/A","N/A",0,"N/A",{"$f":"HYPERLINK(\"https://www.msleague.fr/?page_id=1502&um_user=Foxylady_2001\", \"Foxylady_2001\")","v":"Foxylady_2001"},"Stéphane","Terrier",{"$f":"_xlfn.XLOOKUP(A176,BDD!A172:A10170,BDD!B172:B10170,\" \",0,1)","v":"naturelh69@gmail.com"},48.662559890485966,17774,"Foxylady_2001 Indép. 3/08/1975 🇨🇭 Switzerland N/A PlayStation 5 N/A Volant Thrustmaster A+ S Legend 95 Safe 0 N/A N/A 0 N/A Foxylady_2001 Stéphane Terrier naturelh69@gmail.com"]
["FPR-Azumanmc","FPR-972","4/11/1981","🇫🇷 French","Fibre","PlayStation 5","Filaire","Volant Fanatec","C","S","Silver",40,"Safe",0,"N/A","N/A","N/A","N/A",{"$f":"HYPERLINK(\"https://www.msleague.fr/?page_id=1502&um_user=FPR-Azumanmc\", \"FPR-Azumanmc\")","v":"FPR-Azumanmc"},"Lionel","ESPERANCA",{"$f":"_xlfn.XLOOKUP(A177,BDD!A173:A10171,BDD!B173:B10171,\" \",0,1)","v":"l.esperanca@laposte.net"},42.406570841889121,15489,"FPR-Azumanmc FPR-972 4/11/1981 🇫🇷 French Fibre PlayStation 5 Filaire Volant Fanatec C S Silver 40 Safe 0 N/A N/A N/A N/A FPR-Azumanmc Lionel ESPERANCA l.esperanca@laposte.net"]
["FPR-FF33","FPR-972","4/04/1980","🇫🇷 French","ADSL","PlayStation 5","Filaire","Volant Fanatec","A+","S","Legend",95,"Safe",null,"N/A","N/A","N/A","N/A",{"$f":"HYPERLINK(\"https://www.msleague.fr/?page_id=1502&um_user=FPR-FF33\", \"FPR-FF33\")","v":"FPR-FF33"},"Fabricio","Fernandes",{"$f":"_xlfn.XLOOKUP(A178,BDD!A174:A10172,BDD!B174:B10172,\" \",0,1)","v":"ff33000@yahoo.fr"},43.991786447638603,16068,"FPR-FF33 FPR-972 4/04/1980 🇫🇷 French ADSL PlayStation 5 Filaire Volant Fanatec A+ S Legend 95 Safe  N/A N/A N/A N/A FPR-FF33 Fabricio Fernandes ff33000@yahoo.fr"]
["FPR-jerome76ACL","FPR-972","19/05/1976","🇫🇷 French","ADSL","PlayStation 5","Wifi","Volant Fanatec","B","S","Gold",60,"Safe",0,"N/A","N/A","N/A","N/A",{"$f":"HYPERLINK(\"https://www.msleague.fr/?page_id=1502&um_user=FPR-jerome76ACL\", \"FPR-jerome76ACL\")","v":"FPR-jerome76ACL"},"jerome","laplanche",{"$f":"_xlfn.XLOOKUP(A179,BDD!A175:A10173,BDD!B175:B10173,\" \",0,1)","v":"jenaamca33@hotmail.fr"},47.868583162217661,17484,"FPR-jerome76ACL FPR-972 19/05/1976 🇫🇷 French ADSL PlayStation 5 Wifi Volant Fanatec B S Gold 60 Safe 0 N/A N/A N/A N/A FPR-jerome76ACL jerome laplanche jenaamca33@hotmail.fr"]
["FPR-Melibabou","FPR-972","5/10/1964","🇫🇷 French","Câble","PlayStation 5","Filaire","Volant Fanatec","A","S","Platinum",79.14,"Safe",0,2,0,8,0,{"$f":"HYPERLINK(\"https://www.msleague.fr/?page_id=1502&um_user=FPR-Melibabou\", \"FPR-Melibabou\")","v":"FPR-Melibabou"},"Karim","Fares",{"$f":"_xlfn.XLOOKUP(A180,BDD!A176:A10174,BDD!B176:B10174,\" \",0,1)","v":"karim.fares14@gmail.com"},59.488021902806295,21728,"FPR-Melibabou FPR-972 5/10/1964 🇫🇷 French Câble PlayStation 5 Filaire Volant Fanatec A S Platinum 79,14 Safe 0 2 0 8 0 FPR-Melibabou Karim Fares karim.fares14@gmail.com"]
["FPR-Samcuda_","FPR-972","22/06/1964","🇫🇷 French","Câble","PlayStation 5","Filaire","Volant Fanatec","D","S","Bronze",20,"Safe",0,"N/A","N/A","N/A","N/A",{"$f":"HYPERLINK(\"https://www.msleague.fr/?page_id=1502&um_user=FPR-Samcuda_\", \"FPR-Samcuda_\")","v":"FPR-Samcuda_"},"Samuel","REMISSE",{"$f":"_xlfn.XLOOKUP(A181,BDD!A177:A10175,BDD!B177:B10175,\" \",0,1)","v":"fpr972@outlook.com"},59.775496235455165,21833,"FPR-Samcuda_ FPR-972 22/06/1964 🇫🇷 French Câble PlayStation 5 Filaire Volant Fanatec D S Bronze 20 Safe 0 N/A N/A N/A N/A FPR-Samcuda_ Samuel REMISSE fpr972@outlook.com"]
["FPR-spartiate_73","FPR-972","12/11/1973","🇫🇷 French","Fibre","PlayStation 4","Filaire","Volant Thrustmaster","B","S","Gold",60,"Safe",0,"N/A","N/A",0,"N/A",{"$f":"HYPERLINK(\"https://www.msleague.fr/?page_id=1502&um_user=FPR-spartiate_73\", \"FPR-spartiate_73\")","v":"FPR-spartiate_73"},"Bruno","Hoehn",{"$f":"_xlfn.XLOOKUP(A182,BDD!A178:A10176,BDD!B178:B10176,\" \",0,1)","v":"hoehn.bruno@orange.fr"},50.384668035592057,18403,"FPR-spartiate_73 FPR-972 12/11/1973 🇫🇷 French Fibre PlayStation 4 Filaire Volant Thrustmaster B S Gold 60 Safe 0 N/A N/A 0 N/A FPR-spartiate_73 Bruno Hoehn hoehn.bruno@orange.fr"]
["Fr_Keko","GRT","14/09/1997","🇧🇪 Belgium","N/A","PlayStation 5","N/A","Manette","B","S","Gold",60,"Safe",0,"N/A","N/A",0,"N/A",{"$f":"HYPERLINK(\"https://www.msleague.fr/?page_id=1502&um_user=Fr_Keko\", \"Fr_Keko\")","v":"Fr_Keko"},"Francesco","Vitale",{"$f":"_xlfn.XLOOKUP(A183,BDD!A179:A10177,BDD!B179:B10177,\" \",0,1)","v":"v.francesco14@hotmail.com"},26.546201232032853,9696,"Fr_Keko GRT 14/09/1997 🇧🇪 Belgium N/A PlayStation 5 N/A Manette B S Gold 60 Safe 0 N/A N/A 0 N/A Fr_Keko Francesco Vitale v.francesco14@hotmail.com"]
["Frecorse","Indép.","2/09/1990","🇵🇹 Portugal","N/A","PlayStation 4","N/A","Manette","D","S","Bronze",20,"Safe",0,"N/A","N/A","N/A","N/A",{"$f":"HYPERLINK(\"https://www.msleague.fr/?page_id=1502&um_user=Frecorse\", \"Frecorse\")","v":"Frecorse"},"Frédéric","Gomes",{"$f":"_xlfn.XLOOKUP(A184,BDD!A180:A10178,BDD!B180:B10178,\" \",0,1)","v":"fredericorse@gmail.com"},33.57973990417522,12265,"Frecorse Indép. 2/09/1990 🇵🇹 Portugal N/A PlayStation 4 N/A Manette D S Bronze 20 Safe 0 N/A N/A N/A N/A Frecorse Frédéric Gomes fredericorse@gmail.com"]
["Fred foufou 14","Indép.","1/04/1978","🇧🇪 Belgium","N/A","PlayStation 4","N/A","Volant Thrustmaster","B","S","Gold",60,"Safe",0,"N/A","N/A",0,"N/A",{"$f":"HYPERLINK(\"https://www.msleague.fr/?page_id=1502&um_user=Fred foufou 14\", \"Fred foufou 14\")","v":"Fred foufou 14"},"Frédéric","Fournaux",{"$f":"_xlfn.XLOOKUP(A185,BDD!A181:A10179,BDD!B181:B10179,\" \",0,1)","v":"Fournaux_frederic@live.fr"},46.001368925393564,16802,"Fred foufou 14 Indép. 1/04/1978 🇧🇪 Belgium N/A PlayStation 4 N/A Volant Thrustmaster B S Gold 60 Safe 0 N/A N/A 0 N/A Fred foufou 14 Frédéric Fournaux Fournaux_frederic@live.fr"]
["Fredsnow","RP1","30/03/1978","🇫🇷 French","N/A","PlayStation 5","N/A","Volant Fanatec","A","S","Platinum",80,"Safe",0,"N/A","N/A","N/A","N/A",{"$f":"HYPERLINK(\"https://www.msleague.fr/?page_id=1502&um_user=Fredsnow\", \"Fredsnow\")","v":"Fredsnow"},"Frédéric","Viviani",{"$f":"_xlfn.XLOOKUP(A186,BDD!A182:A10180,BDD!B182:B10180,\" \",0,1)","v":"frederic.viviani@gmail.com"},46.006844626967833,16804,"Fredsnow RP1 30/03/1978 🇫🇷 French N/A PlayStation 5 N/A Volant Fanatec A S Platinum 80 Safe 0 N/A N/A N/A N/A Fredsnow Frédéric Viviani frederic.viviani@gmail.com"]
["FRK_ALPHA-MOLOCH","FRK","6/01/1974","🇫🇷 French","N/A","PlayStation 5","N/A","Volant Thrustmaster","B","S","Gold",58.79,"Safe",0,1,0,1,0,{"$f":"HYPERLINK(\"https://www.msleague.fr/?page_id=1502&um_user=FRK_ALPHA-MOLOCH\", \"FRK_ALPHA-MOLOCH\")","v":"FRK_ALPHA-MOLOCH"},"Mickael","Cuzon",{"$f":"_xlfn.XLOOKUP(A187,BDD!A183:A10181,BDD!B183:B10181,\" \",0,1)","v":"Sltcmic@hotmail.fr"},50.234086242299796,18348,"FRK_ALPHA-MOLOCH FRK 6/01/1974 🇫🇷 French N/A PlayStation 5 N/A Volant Thrustmaster B S Gold 58,79 Safe 0 1 0 1 0 FRK_ALPHA-MOLOCH Mickael Cuzon Sltcmic@hotmail.fr"]
["FRK_icewan","FRK","17/02/1970","🇫🇷 French","N/A","PlayStation 5","N/A","Volant Fanatec","A+","A","Legend",95,"Fair-Play",0,"N/A","N/A",0,"N/A",{"$f":"HYPERLINK(\"https://www.msleague.fr/?page_id=1502&um_user=FRK_icewan\", \"FRK_icewan\")","v":"FRK_icewan"},"Fabian","Cholet",{"$f":"_xlfn.XLOOKUP(A188,BDD!A184:A10182,BDD!B184:B10182,\" \",0,1)","v":"Icegibbs@yahoo.fr"},54.119096509240244,19767,"FRK_icewan FRK 17/02/1970 🇫🇷 French N/A PlayStation 5 N/A Volant Fanatec A+ A Legend 95 Fair-Play 0 N/A N/A 0 N/A FRK_icewan Fabian Cholet Icegibbs@yahoo.fr"]
["FRK_monda61","FRK","23/09/1973","🇫🇷 French","N/A","PlayStation 5","N/A","Volant Fanatec","B","S","Gold",60,"Safe",0,"N/A","N/A","N/A","N/A",{"$f":"HYPERLINK(\"https://www.msleague.fr/?page_id=1502&um_user=FRK_monda61\", \"FRK_monda61\")","v":"FRK_monda61"},"David","MARTIN",{"$f":"_xlfn.XLOOKUP(A189,BDD!A185:A10183,BDD!B185:B10183,\" \",0,1)","v":"martinmonda61@orange.fr"},50.521560574948666,18453,"FRK_monda61 FRK 23/09/1973 🇫🇷 French N/A PlayStation 5 N/A Volant Fanatec B S Gold 60 Safe 0 N/A N/A N/A N/A FRK_monda61 David MARTIN martinmonda61@orange.fr"]
["FRK_viking0179","FRK","8/03/1979","🇫🇷 French","N/A","PlayStation 4","N/A","Volant Fanatec","B","S","Gold",60,"Safe",0,"N/A","N/A","N/A","N/A",{"$f":"HYPERLINK(\"https://www.msleague.fr/?page_id=1502&um_user=FRK_viking0179\", \"FRK_viking0179\")","v":"FRK_viking0179"},"Alexandre","Rodet",{"$f":"_xlfn.XLOOKUP(A190,BDD!A186:A10184,BDD!B186:B10184,\" \",0,1)","v":"alex.rodet@hotmail.fr"},45.067761806981522,16461,"FRK_viking0179 FRK 8/03/1979 🇫🇷 French N/A PlayStation 4 N/A Volant Fanatec B S Gold 60 Safe 0 N/A N/A N/A N/A FRK_viking0179 Alexandre Rodet alex.rodet@hotmail.fr"]
["FRM_PRibeiro","FRM","15/08/1985","🇵🇹 Portugal","Fibre","PlayStation 5","Filaire","Volant Thrustmaster","B","S","Gold",60,"Safe",null,"N/A","N/A","N/A","N/A",{"$f":"HYPERLINK(\"https://www.msleague.fr/?page_id=1502&um_user=FRM_PRibeiro\", \"FRM_PRibeiro\")","v":"FRM_PRibeiro"},"Pedro","Ribeiro",{"$f":"_xlfn.XLOOKUP(A191,BDD!A187:A10185,BDD!B187:B10185,\" \",0,1)","v":"pribeiro1581985@gmail.com"},38.628336755646821,14109,"FRM_PRibeiro FRM 15/08/1985 🇵🇹 Portugal Fibre PlayStation 5 Filaire Volant Thrustmaster B S Gold 60 Safe  N/A N/A N/A N/A FRM_PRibeiro Pedro Ribeiro pribeiro1581985@gmail.com"]
["FTR_AKIRA","FTR","10/09/1974","🇫🇷 French","Fibre","PlayStation 4","Wifi","Volant Thrustmaster","B","S","Gold",60,"Safe",null,"N/A","N/A","N/A","N/A",{"$f":"HYPERLINK(\"https://www.msleague.fr/?page_id=1502&um_user=FTR_AKIRA\", \"FTR_AKIRA\")","v":"FTR_AKIRA"},"Sébastien","giaj merlera",{"$f":"_xlfn.XLOOKUP(A192,BDD!A188:A10186,BDD!B188:B10186,\" \",0,1)","v":"giaj-merlera.sebastien@orange.fr"},49.557837097878163,18101,"FTR_AKIRA FTR 10/09/1974 🇫🇷 French Fibre PlayStation 4 Wifi Volant Thrustmaster B S Gold 60 Safe  N/A N/A N/A N/A FTR_AKIRA Sébastien giaj merlera giaj-merlera.sebastien@orange.fr"]
["FTR_Atomic24","FTR","27/11/1991","🇫🇷 French","Fibre","PlayStation 5","CPL","Volant Thrustmaster","A+","S","Legend",95,"Safe",null,"N/A","N/A","N/A","N/A",{"$f":"HYPERLINK(\"https://www.msleague.fr/?page_id=1502&um_user=FTR_Atomic24\", \"FTR_Atomic24\")","v":"FTR_Atomic24"},"Jordan","Perroy",{"$f":"_xlfn.XLOOKUP(A193,BDD!A189:A10187,BDD!B189:B10187,\" \",0,1)","v":"jojo.kart.94@hotmail.fr"},32.344969199178642,11814,"FTR_Atomic24 FTR 27/11/1991 🇫🇷 French Fibre PlayStation 5 CPL Volant Thrustmaster A+ S Legend 95 Safe  N/A N/A N/A N/A FTR_Atomic24 Jordan Perroy jojo.kart.94@hotmail.fr"]
["FTR_iNextOne","FTR","24/02/1988","🇫🇷 French","Fibre","PlayStation 5","Filaire","Volant Thrustmaster","A+","S","Platinum",87.89,"Safe",0,1,0,8,"12,5%",{"$f":"HYPERLINK(\"https://www.msleague.fr/?page_id=1502&um_user=FTR_iNextOne\", \"FTR_iNextOne\")","v":"FTR_iNextOne"},"Christopher","Dejardin",{"$f":"_xlfn.XLOOKUP(A194,BDD!A190:A10188,BDD!B190:B10188,\" \",0,1)","v":"Dejardin.christopher@outlook.fr"},36.101300479123886,13186,"FTR_iNextOne FTR 24/02/1988 🇫🇷 French Fibre PlayStation 5 Filaire Volant Thrustmaster A+ S Platinum 87,89 Safe 0 1 0 8 12,5% FTR_iNextOne Christopher Dejardin Dejardin.christopher@outlook.fr"]
["FTR_jAYninho","Indép.","15/11/1980","🇧🇪 Belgium","N/A","PlayStation 5","N/A","Volant Fanatec","A+","S","Legend",95,"Safe",0,"N/A","N/A",0,"N/A",{"$f":"HYPERLINK(\"https://www.msleague.fr/?page_id=1502&um_user=FTR_jAYninho\", \"FTR_jAYninho\")","v":"FTR_jAYninho"},"Jérémy","Haubruge",{"$f":"_xlfn.XLOOKUP(A195,BDD!A191:A10189,BDD!B191:B10189,\" \",0,1)","v":"jayninhofullgaz@gmail.com"},43.375770020533878,15843,"FTR_jAYninho Indép. 15/11/1980 🇧🇪 Belgium N/A PlayStation 5 N/A Volant Fanatec A+ S Legend 95 Safe 0 N/A N/A 0 N/A FTR_jAYninho Jérémy Haubruge jayninhofullgaz@gmail.com"]
["FTR_juniordu11","FTR","8/09/1986","🇫🇷 French","Fibre","PlayStation 5","Filaire","Volant Thrustmaster","A","S","Platinum",80.760000000000005,"Safe",0,1,"N/A",1,"N/A",{"$f":"HYPERLINK(\"https://www.msleague.fr/?page_id=1502&um_user=FTR_juniordu11\", \"FTR_juniordu11\")","v":"FTR_juniordu11"},"Marc","Mirabells",{"$f":"_xlfn.XLOOKUP(A196,BDD!A192:A10190,BDD!B192:B10190,\" \",0,1)","v":"juniordu11@hotmail.fr"},37.563312799452433,13720,"FTR_juniordu11 FTR 8/09/1986 🇫🇷 French Fibre PlayStation 5 Filaire Volant Thrustmaster A S Platinum 80,76 Safe 0 1 N/A 1 N/A FTR_juniordu11 Marc Mirabells juniordu11@hotmail.fr"]
["FTR_Kiko","FTR","17/02/1995","🇫🇷 French","N/A","PlayStation 5","N/A","Volant Thrustmaster","A+","S","Legend",96.22,"Safe",0,2,"N/A",2,"N/A",{"$f":"HYPERLINK(\"https://www.msleague.fr/?page_id=1502&um_user=FTR_Kiko\", \"FTR_Kiko\")","v":"FTR_Kiko"},"Christophe","Roulier",{"$f":"_xlfn.XLOOKUP(A197,BDD!A193:A10191,BDD!B193:B10191,\" \",0,1)","v":"kiko13220@gmail.com"},{"$f":"IF(X197=\"\",\"\",CONVERT(X197,\"day\",\"yr\"))","v":29.119780971937029},10636,"FTR_Kiko FTR 17/02/1995 🇫🇷 French N/A PlayStation 5 N/A Volant Thrustmaster A+ S Legend 96,22 Safe 0 2 N/A 2 N/A FTR_Kiko Christophe Roulier kiko13220@gmail.com"]
["FTR_LANDO_NOVICE","FTR","23/02/1983","🇫🇷 French","Fibre","PlayStation 5","Filaire","Volant Fanatec","A+","S","Legend",94.31,"Safe",9,1,0,1,0,{"$f":"HYPERLINK(\"https://www.msleague.fr/?page_id=1502&um_user=FTR_LANDO_NOVICE\", \"FTR_LANDO_NOVICE\")","v":"FTR_LANDO_NOVICE"},"Bastien","Cane",{"$f":"_xlfn.XLOOKUP(A198,BDD!A194:A10192,BDD!B194:B10192,\" \",0,1)","v":"bastien.cane@laposte.net"},41.103353867214238,15013,{"$f":"A198 & \" \" & B198 & \" \" & C198 & \" \" & D198 & \" \" & E198 & \" \" & F198 & \" \" & G198 & \" \" & H198 & \" \" & I198 & \" \" & J198 & \" \" & K198 & \" \" & L198 & \" \" & M198 & \" \" & N198 & \" \" & O198 & \" \" & P198 & \" \" &Q198 & \" \" & R198 & \" \" & S198 & \" \" & T198 & \" \" & U198 & \" \" & V198","v":"FTR_LANDO_NOVICE FTR 23/02/1983 🇫🇷 French Fibre PlayStation 5 Filaire Volant Fanatec A+ S Legend 94,31 Safe 9 1 0 1 0 FTR_LANDO_NOVICE Bastien Cane bastien.cane@laposte.net"}]
["FTR_Miros","FTR","12/10/1983","🇫🇷 French","VDSL","PlayStation 5","Filaire","Volant Fanatec","A","S","Gold",64.81,"Safe",9,2,0,2,0,{"$f":"HYPERLINK(\"https://www.msleague.fr/?page_id=1502&um_user=FTR_Miros\", \"FTR_Miros\")","v":"FTR_Miros"},"Loiseau","Lionel",{"$f":"_xlfn.XLOOKUP(A199,BDD!A195:A10193,BDD!B195:B10193,\" \",0,1)","v":"Loiseau.lionel@gmail.com"},40.470910335386719,14782,"FTR_Miros FTR 12/10/1983 🇫🇷 French VDSL PlayStation 5 Filaire Volant Fanatec A S Gold 64,81 Safe 9 2 0 2 0 FTR_Miros Loiseau Lionel Loiseau.lionel@gmail.com"]
["FTR_niko67","FTR","18/07/1984","🇫🇷 French","N/A","PlayStation 5","N/A","Volant Thrustmaster","A","S","Platinum",82.26,"Safe",0,1,0,1,0,{"$f":"HYPERLINK(\"https://www.msleague.fr/?page_id=1502&um_user=FTR_niko67\", \"FTR_niko67\")","v":"FTR_niko67"},"Nicolas","Lotko",{"$f":"_xlfn.XLOOKUP(A200,BDD!A196:A10194,BDD!B196:B10194,\" \",0,1)","v":"nicolas.lotko@gmail.com"},39.704312114989733,14502,"FTR_niko67 FTR 18/07/1984 🇫🇷 French N/A PlayStation 5 N/A Volant Thrustmaster A S Platinum 82,26 Safe 0 1 0 1 0 FTR_niko67 Nicolas Lotko nicolas.lotko@gmail.com"]
["FTR_Nounours","FTR","7/09/1990","🇫🇷 French","Fibre","PlayStation 5","Wifi","Volant Fanatec","A","S","Platinum",80,"Safe",0,"N/A","N/A",0,"N/A",{"$f":"HYPERLINK(\"https://www.msleague.fr/?page_id=1502&um_user=FTR_Nounours\", \"FTR_Nounours\")","v":"FTR_Nounours"},"Guillaume","Gagnaire",{"$f":"_xlfn.XLOOKUP(A201,BDD!A197:A10195,BDD!B197:B10195,\" \",0,1)","v":"contact@scrola.net"},33.566050650239561,12260,"FTR_Nounours FTR 7/09/1990 🇫🇷 French Fibre PlayStation 5 Wifi Volant Fanatec A S Platinum 80 Safe 0 N/A N/A 0 N/A FTR_Nounours Guillaume Gagnaire contact@scrola.net"]
["FTR_ONDESYSMIK-","FTR","9/07/1986","🇫🇷 French","N/A","PlayStation 5","N/A","Volant Thrustmaster","A","S","Platinum",83.36,"Safe",0,2,"N/A",8,"N/A",{"$f":"HYPERLINK(\"https://www.msleague.fr/?page_id=1502&um_user=FTR_ONDESYSMIK-\", \"FTR_ONDESYSMIK-\")","v":"FTR_ONDESYSMIK-"},"Peter","Rousseau",{"$f":"_xlfn.XLOOKUP(A202,BDD!A198:A10196,BDD!B198:B10196,\" \",0,1)","v":"pannikpannik86@gmail.com"},37.730321697467488,13781,"FTR_ONDESYSMIK- FTR 9/07/1986 🇫🇷 French N/A PlayStation 5 N/A Volant Thrustmaster A S Platinum 83,36 Safe 0 2 N/A 8 N/A FTR_ONDESYSMIK- Peter Rousseau pannikpannik86@gmail.com"]
["FTR_PaRaDoX","FTR","23/06/1996","🇫🇷 French","N/A","PlayStation 4","N/A","Volant Thrustmaster","A+","S","Platinum",87.62,"Safe",9,3,0,8,"12,50 %",{"$f":"HYPERLINK(\"https://www.msleague.fr/?page_id=1502&um_user=FTR_PaRaDoX\", \"FTR_PaRaDoX\")","v":"FTR_PaRaDoX"},"Alexis","Paradis",{"$f":"_xlfn.XLOOKUP(A203,BDD!A199:A10197,BDD!B199:B10197,\" \",0,1)","v":"alexisparadis@live.fr"},27.772758384668034,10144,"FTR_PaRaDoX FTR 23/06/1996 🇫🇷 French N/A PlayStation 4 N/A Volant Thrustmaster A+ S Platinum 87,62 Safe 9 3 0 8 12,50 % FTR_PaRaDoX Alexis Paradis alexisparadis@live.fr"]
["FTR_Portos806","FTR","3/04/1990","🇫🇷 French","Fibre","PlayStation 5","Filaire","Volant Thrustmaster","A+","S","Legend",95,"Safe",0,"N/A","N/A","N/A","N/A",{"$f":"HYPERLINK(\"https://www.msleague.fr/?page_id=1502&um_user=FTR_Portos806\", \"FTR_Portos806\")","v":"FTR_Portos806"},"Carlos","Da Silva",{"$f":"_xlfn.XLOOKUP(A204,BDD!A200:A10198,BDD!B200:B10198,\" \",0,1)","v":"c.dasilva211@outlook.fr"},33.995893223819301,12417,"FTR_Portos806 FTR 3/04/1990 🇫🇷 French Fibre PlayStation 5 Filaire Volant Thrustmaster A+ S Legend 95 Safe 0 N/A N/A N/A N/A FTR_Portos806 Carlos Da Silva c.dasilva211@outlook.fr"]
["FTR_Prost30","FTR","28/08/1990","🇫🇷 French","Fibre","PlayStation 5","Filaire","Volant Fanatec","A+","S","Platinum",86.81,"Safe",9,2,0,9,"11,10 %",{"$f":"HYPERLINK(\"https://www.msleague.fr/?page_id=1502&um_user=FTR_Prost30\", \"FTR_Prost30\")","v":"FTR_Prost30"},"Guillaume","Salanoubat",{"$f":"_xlfn.XLOOKUP(A205,BDD!A201:A10199,BDD!B201:B10199,\" \",0,1)","v":"guillaume.salanoubat@gmail.com"},33.593429158110879,12270,"FTR_Prost30 FTR 28/08/1990 🇫🇷 French Fibre PlayStation 5 Filaire Volant Fanatec A+ S Platinum 86,81 Safe 9 2 0 9 11,10 % FTR_Prost30 Guillaume Salanoubat guillaume.salanoubat@gmail.com"]
["FTR_r_coty","FTR","13/06/1992","🇫🇷 French","Fibre","PlayStation 5","Wifi","Volant Thrustmaster","A+","S","Legend",95,"Safe",null,"N/A","N/A","N/A","N/A",{"$f":"HYPERLINK(\"https://www.msleague.fr/?page_id=1502&um_user=FTR_r_coty\", \"FTR_r_coty\")","v":"FTR_r_coty"},"Pierre","Almeida",{"$f":"_xlfn.XLOOKUP(A206,BDD!A202:A10200,BDD!B202:B10200,\" \",0,1)","v":"pierrealmeidaa@gmail.com"},31.800136892539356,11615,"FTR_r_coty FTR 13/06/1992 🇫🇷 French Fibre PlayStation 5 Wifi Volant Thrustmaster A+ S Legend 95 Safe  N/A N/A N/A N/A FTR_r_coty Pierre Almeida pierrealmeidaa@gmail.com"]
["FTR_Strato","FTR","27/09/1988","🇫🇷 French","N/A","PlayStation 5","N/A","Volant Fanatec","A+","S","Legend",90.85,"Safe",0,2,0,2,0,{"$f":"HYPERLINK(\"https://www.msleague.fr/?page_id=1502&um_user=FTR_Strato\", \"FTR_Strato\")","v":"FTR_Strato"},"Simon","WEDERHAKE",{"$f":"_xlfn.XLOOKUP(A207,BDD!A203:A10201,BDD!B203:B10201,\" \",0,1)","v":"simonwederhake@gmail.com"},35.509924709103352,12970,"FTR_Strato FTR 27/09/1988 🇫🇷 French N/A PlayStation 5 N/A Volant Fanatec A+ S Legend 90,85 Safe 0 2 0 2 0 FTR_Strato Simon WEDERHAKE simonwederhake@gmail.com"]
["FTR_Taurace","FTR","8/05/1969","🇫🇷 French","ADSL","PlayStation 4","Filaire","Volant Thrustmaster","B","S","Platinum",80,"Safe",0,"N/A","N/A","N/A","N/A",{"$f":"HYPERLINK(\"https://www.msleague.fr/?page_id=1502&um_user=FTR_Taurace\", \"FTR_Taurace\")","v":"FTR_Taurace"},"Franck","Minier",{"$f":"_xlfn.XLOOKUP(A208,BDD!A204:A10202,BDD!B204:B10202,\" \",0,1)","v":"taurace2@gmail.com"},54.899383983572896,20052,"FTR_Taurace FTR 8/05/1969 🇫🇷 French ADSL PlayStation 4 Filaire Volant Thrustmaster B S Platinum 80 Safe 0 N/A N/A N/A N/A FTR_Taurace Franck Minier taurace2@gmail.com"]
["FTR_TazSwaz","FTR","10/05/1991","🇫🇷 French","Fibre","PlayStation 5","Wifi","Volant Fanatec","A","S","Gold",60,"Safe",0,"N/A","N/A",0,"N/A",{"$f":"HYPERLINK(\"https://www.msleague.fr/?page_id=1502&um_user=FTR_TazSwaz\", \"FTR_TazSwaz\")","v":"FTR_TazSwaz"},"Jonathan","Sala",{"$f":"_xlfn.XLOOKUP(A209,BDD!A205:A10203,BDD!B205:B10203,\" \",0,1)","v":"jonathansala1@gmail.com"},32.895277207392198,12015,"FTR_TazSwaz FTR 10/05/1991 🇫🇷 French Fibre PlayStation 5 Wifi Volant Fanatec A S Gold 60 Safe 0 N/A N/A 0 N/A FTR_TazSwaz Jonathan Sala jonathansala1@gmail.com"]
["FTR_wAzJO","FTR","21/10/1992","🇫🇷 French","Fibre","PlayStation 5","Wifi","Volant Fanatec","A+","S","Legend",92.27,"Safe",0,2,0,8,0,{"$f":"HYPERLINK(\"https://www.msleague.fr/?page_id=1502&um_user=FTR_wAzJO\", \"FTR_wAzJO\")","v":"FTR_wAzJO"},"Jonathan","COLLINET",{"$f":"_xlfn.XLOOKUP(A210,BDD!A206:A10204,BDD!B206:B10204,\" \",0,1)","v":"johnparadise@hotmail.fr"},31.444216290212182,11485,"FTR_wAzJO FTR 21/10/1992 🇫🇷 French Fibre PlayStation 5 Wifi Volant Fanatec A+ S Legend 92,27 Safe 0 2 0 8 0 FTR_wAzJO Jonathan COLLINET johnparadise@hotmail.fr"]
["Furious Gorilla","Err. PSN","N/A","N/A","N/A","N/A","N/A","N/A","N/A","N/A","N/A",null,"N/A",null,"N/A","N/A","N/A","N/A",{"$f":"HYPERLINK(\"https://www.msleague.fr/?page_id=1502&um_user=Furious Gorilla\", \"Furious Gorilla\")","v":"Furious Gorilla"},"N/A","N/A",{"$f":"_xlfn.XLOOKUP(A211,BDD!A207:A10205,BDD!B207:B10205,\" \",0,1)","v":"frxle.nimbus4d@gmail.com"},"","","Furious Gorilla Err. PSN N/A N/A N/A N/A N/A N/A N/A N/A N/A  N/A  N/A N/A N/A N/A Furious Gorilla N/A N/A frxle.nimbus4d@gmail.com"]
["Fushi_FR","N/A","10/03/1998","🇫🇷 French","N/A","PlayStation 5","N/A","Volant Logitech","D","D","Bronze",20,"Dirty",0,"N/A","N/A",0,"N/A",{"$f":"HYPERLINK(\"https://www.msleague.fr/?page_id=1502&um_user=Fushi_FR\", \"Fushi_FR\")","v":"Fushi_FR"},"Antony","Thuillier",{"$f":"_xlfn.XLOOKUP(A212,BDD!A208:A10206,BDD!B208:B10206,\" \",0,1)","v":"FushiGaming80@gmail.com"},26.061601642710471,9519,"Fushi_FR N/A 10/03/1998 🇫🇷 French N/A PlayStation 5 N/A Volant Logitech D D Bronze 20 Dirty 0 N/A N/A 0 N/A Fushi_FR Antony Thuillier FushiGaming80@gmail.com"]
["G29Kitsune","Indép.","25/12/1999","🇧🇷 Brazil","Câble","PlayStation 4","Filaire","Volant Logitech","B","S","Gold",60,"Safe",null,"N/A","N/A","N/A","N/A",{"$f":"HYPERLINK(\"https://www.msleague.fr/?page_id=1502&um_user=G29Kitsune\", \"G29Kitsune\")","v":"G29Kitsune"},"Josué","Queiroz",{"$f":"_xlfn.XLOOKUP(A213,BDD!A209:A10207,BDD!B209:B10207,\" \",0,1)","v":"g29kitsuneyorha@gmail.com"},24.268309377138944,8864,"G29Kitsune Indép. 25/12/1999 🇧🇷 Brazil Câble PlayStation 4 Filaire Volant Logitech B S Gold 60 Safe  N/A N/A N/A N/A G29Kitsune Josué Queiroz g29kitsuneyorha@gmail.com"]
["gabristan07","BLDG","21/05/2006","🇫🇷 French","ADSL","PlayStation 5","Filaire","Volant Fanatec","A","S","Platinum",80,"Safe",null,"N/A","N/A","N/A","N/A",{"$f":"HYPERLINK(\"https://www.msleague.fr/?page_id=1502&um_user=gabristan07\", \"gabristan07\")","v":"gabristan07"},"Gabriel","Bertron",{"$f":"_xlfn.XLOOKUP(A214,BDD!A210:A10208,BDD!B210:B10208,\" \",0,1)","v":"gabristan07@gmail.com"},17.864476386036962,6525,"gabristan07 BLDG 21/05/2006 🇫🇷 French ADSL PlayStation 5 Filaire Volant Fanatec A S Platinum 80 Safe  N/A N/A N/A N/A gabristan07 Gabriel Bertron gabristan07@gmail.com"]
["GCK_AlnBrabus","GCK","5/08/1998","🇫🇷 French","N/A","PlayStation 5","N/A","Volant Thrustmaster","A","S","Platinum",76.150000000000006,"Safe",0,1,0,7,0,{"$f":"HYPERLINK(\"https://www.msleague.fr/?page_id=1502&um_user=GCK_AlnBrabus\", \"GCK_AlnBrabus\")","v":"GCK_AlnBrabus"},"Allan","Daas",{"$f":"_xlfn.XLOOKUP(A215,BDD!A211:A10209,BDD!B211:B10209,\" \",0,1)","v":"Allandaas6969@gmail.com"},25.656399726214921,9371,"GCK_AlnBrabus GCK 5/08/1998 🇫🇷 French N/A PlayStation 5 N/A Volant Thrustmaster A S Platinum 76,15 Safe 0 1 0 7 0 GCK_AlnBrabus Allan Daas Allandaas6969@gmail.com"]
["GCK_Atton31","GCK","31/07/1991","🇫🇷 French","N/A","PlayStation 5","N/A","Volant Thrustmaster","A","S","Platinum",80,"Safe",0,"N/A","N/A","N/A","N/A",{"$f":"HYPERLINK(\"https://www.msleague.fr/?page_id=1502&um_user=GCK_Atton31\", \"GCK_Atton31\")","v":"GCK_Atton31"},"Loris","Aroumougom",{"$f":"_xlfn.XLOOKUP(A216,BDD!A212:A10210,BDD!B212:B10210,\" \",0,1)","v":"aroumougom.loris@gmail.com"},32.670773442847363,11933,"GCK_Atton31 GCK 31/07/1991 🇫🇷 French N/A PlayStation 5 N/A Volant Thrustmaster A S Platinum 80 Safe 0 N/A N/A N/A N/A GCK_Atton31 Loris Aroumougom aroumougom.loris@gmail.com"]
["GCK_DarkDz73","GCK","25/06/1982","🇫🇷 French","N/A","PlayStation 5","N/A","Volant Fanatec","A","S","Platinum",80.459999999999994,"Safe",0,1,0,7,0,{"$f":"HYPERLINK(\"https://www.msleague.fr/?page_id=1502&um_user=GCK_DarkDz73\", \"GCK_DarkDz73\")","v":"GCK_DarkDz73"},"Malik","Recoche",{"$f":"_xlfn.XLOOKUP(A217,BDD!A213:A10211,BDD!B213:B10211,\" \",0,1)","v":"malik.recoche@gmail.com"},41.768651608487339,{"$f":"IF(C217=\"N/A\",\"\",TODAY()-$C217)","v":15256},"GCK_DarkDz73 GCK 25/06/1982 🇫🇷 French N/A PlayStation 5 N/A Volant Fanatec A S Platinum 80,46 Safe 0 1 0 7 0 GCK_DarkDz73 Malik Recoche malik.recoche@gmail.com"]
["GCK_Mad-Mike","GCK","16/06/2023","🇫🇷 French","ADSL","PlayStation 5","Filaire","Volant Thrustmaster","A","S","Platinum",76.66,"Safe",0,2,0,9,0,{"$f":"HYPERLINK(\"https://www.msleague.fr/?page_id=1502&um_user=GCK_Mad-Mike\", \"GCK_Mad-Mike\")","v":"GCK_Mad-Mike"},"Mickael","Pessel",{"$f":"_xlfn.XLOOKUP(A218,BDD!A214:A10212,BDD!B214:B10212,\" \",0,1)","v":"mickaelpessel@gmail.com"},0.79397672826830934,290,"GCK_Mad-Mike GCK 16/06/2023 🇫🇷 French ADSL PlayStation 5 Filaire Volant Thrustmaster A S Platinum 76,66 Safe 0 2 0 9 0 GCK_Mad-Mike Mickael Pessel mickaelpessel@gmail.com"]
["GCK_SakaLyte73","GCK","24/06/1977","🇫🇷 French","N/A","PlayStation 4","N/A","Volant Thrustmaster","A+","S","Platinum",81.75,"Safe",0,1,0,7,0,{"$f":"HYPERLINK(\"https://www.msleague.fr/?page_id=1502&um_user=GCK_SakaLyte73\", \"GCK_SakaLyte73\")","v":"GCK_SakaLyte73"},"Loic","Mucel",{"$f":"_xlfn.XLOOKUP(A219,BDD!A215:A10213,BDD!B215:B10213,\" \",0,1)","v":"Lois73@hotmail.fr"},46.770704996577685,17083,"GCK_SakaLyte73 GCK 24/06/1977 🇫🇷 French N/A PlayStation 4 N/A Volant Thrustmaster A+ S Platinum 81,75 Safe 0 1 0 7 0 GCK_SakaLyte73 Loic Mucel Lois73@hotmail.fr"]
["GDSR_clyde86","GDSR","14/04/1986","🇧🇪 Belgium","N/A","PlayStation 5","N/A","Volant Thrustmaster","B","S","Gold",60,"Safe",0,"N/A","N/A","N/A","N/A",{"$f":"HYPERLINK(\"https://www.msleague.fr/?page_id=1502&um_user=GDSR_clyde86\", \"GDSR_clyde86\")","v":"GDSR_clyde86"},"Laurent","Lecocq",{"$f":"_xlfn.XLOOKUP(A220,BDD!A216:A10214,BDD!B216:B10214,\" \",0,1)","v":"clyde_46@hotmail.com"},37.965776865160848,13867,"GDSR_clyde86 GDSR 14/04/1986 🇧🇪 Belgium N/A PlayStation 5 N/A Volant Thrustmaster B S Gold 60 Safe 0 N/A N/A N/A N/A GDSR_clyde86 Laurent Lecocq clyde_46@hotmail.com"]
["GDSR_Kevin16","GDSR","16/07/1988","🇧🇪 Belgium","N/A","PlayStation 5","N/A","Volant Thrustmaster","B","S","Gold",60,"Safe",0,"N/A","N/A","N/A","N/A",{"$f":"HYPERLINK(\"https://www.msleague.fr/?page_id=1502&um_user=GDSR_Kevin16\", \"GDSR_Kevin16\")","v":"GDSR_Kevin16"},"Kevin","Freson",{"$f":"_xlfn.XLOOKUP(A221,BDD!A217:A10215,BDD!B217:B10215,\" \",0,1)","v":"fresonkevin88@gmail.com"},35.709787816563995,13043,"GDSR_Kevin16 GDSR 16/07/1988 🇧🇪 Belgium N/A PlayStation 5 N/A Volant Thrustmaster B S Gold 60 Safe 0 N/A N/A N/A N/A GDSR_Kevin16 Kevin Freson fresonkevin88@gmail.com"]
["GDSR_Salva_70","GDSR","17/08/1970","🇮🇹 Italy","N/A","PlayStation 4","N/A","Volant Logitech","B","S","Gold",60,"Safe",0,"N/A","N/A","N/A","N/A",{"$f":"HYPERLINK(\"https://www.msleague.fr/?page_id=1502&um_user=GDSR_Salva_70\", \"GDSR_Salva_70\")","v":"GDSR_Salva_70"},"Salvatore","Barba",{"$f":"_xlfn.XLOOKUP(A222,BDD!A218:A10216,BDD!B218:B10216,\" \",0,1)","v":"barbasalva70@gmail.com"},53.623545516769333,19586,"GDSR_Salva_70 GDSR 17/08/1970 🇮🇹 Italy N/A PlayStation 4 N/A Volant Logitech B S Gold 60 Safe 0 N/A N/A N/A N/A GDSR_Salva_70 Salvatore Barba barbasalva70@gmail.com"]
["Geckonexion","Indép.","25/06/1995","🇫🇷 French","N/A","PlayStation 4","N/A","Volant Logitech","C","S","Silver",40,"Safe",0,"N/A","N/A",0,"N/A",{"$f":"HYPERLINK(\"https://www.msleague.fr/?page_id=1502&um_user=Geckonexion\", \"Geckonexion\")","v":"Geckonexion"},"Nicolas","Tuffreau",{"$f":"_xlfn.XLOOKUP(A223,BDD!A219:A10217,BDD!B219:B10217,\" \",0,1)","v":"nicolas.tuffreau91@gmail.com"},28.769336071184121,10508,"Geckonexion Indép. 25/06/1995 🇫🇷 French N/A PlayStation 4 N/A Volant Logitech C S Silver 40 Safe 0 N/A N/A 0 N/A Geckonexion Nicolas Tuffreau nicolas.tuffreau91@gmail.com"]
["Geocapcom","Indép.","4/07/1984","🇧🇪 Belgium","Câble","PlayStation 5","Filaire","Manette","A","S","Platinum",80,"Safe",0,"N/A","N/A",0,"N/A",{"$f":"HYPERLINK(\"https://www.msleague.fr/?page_id=1502&um_user=Geocapcom\", \"Geocapcom\")","v":"Geocapcom"},"Geoffrey","Deroux",{"$f":"_xlfn.XLOOKUP(A224,BDD!A220:A10218,BDD!B220:B10218,\" \",0,1)","v":"geoffreyderoux053@gmail.com"},39.742642026009584,14516,"Geocapcom Indép. 4/07/1984 🇧🇪 Belgium Câble PlayStation 5 Filaire Manette A S Platinum 80 Safe 0 N/A N/A 0 N/A Geocapcom Geoffrey Deroux geoffreyderoux053@gmail.com"]
["GL_BigBang","GL","10/04/2008","🇫🇷 French","N/A","PlayStation 4","N/A","Volant Thrustmaster","A+","S","Legend",96.34,"Safe",12,1,0,1,0,{"$f":"HYPERLINK(\"https://www.msleague.fr/?page_id=1502&um_user=GL_BigBang\", \"GL_BigBang\")","v":"GL_BigBang"},"Merlin","Kardous",{"$f":"_xlfn.XLOOKUP(A225,BDD!A221:A10219,BDD!B221:B10219,\" \",0,1)","v":"kmerlin17@outlook.fr"},15.975359342915811,5835,"GL_BigBang GL 10/04/2008 🇫🇷 French N/A PlayStation 4 N/A Volant Thrustmaster A+ S Legend 96,34 Safe 12 1 0 1 0 GL_BigBang Merlin Kardous kmerlin17@outlook.fr"]
["GL_Graigoue","MnT","11/07/2004","🇫🇷 French","N/A","PlayStation 4","N/A","Volant Logitech","A+","S","Legend",95,"Safe",0,"N/A","N/A",0,"N/A",{"$f":"HYPERLINK(\"https://www.msleague.fr/?page_id=1502&um_user=GL_Graigoue\", \"GL_Graigoue\")","v":"GL_Graigoue"},"Grégoire","Humbert",{"$f":"_xlfn.XLOOKUP(A226,BDD!A222:A10220,BDD!B222:B10220,\" \",0,1)","v":"g.humbert11@gmail.com"},19.723477070499658,7204,"GL_Graigoue MnT 11/07/2004 🇫🇷 French N/A PlayStation 4 N/A Volant Logitech A+ S Legend 95 Safe 0 N/A N/A 0 N/A GL_Graigoue Grégoire Humbert g.humbert11@gmail.com"]
["GL_KimiMatt","GL","5/11/1991","🇳🇱 Netherland","Fibre","PlayStation 5","Filaire","Volant Fanatec","A+","S","Legend",95.01,"Safe",14,1,0,1,0,{"$f":"HYPERLINK(\"https://www.msleague.fr/?page_id=1502&um_user=GL_KimiMatt\", \"GL_KimiMatt\")","v":"GL_KimiMatt"},"Matt","Vorachen",{"$f":"_xlfn.XLOOKUP(A227,BDD!A223:A10221,BDD!B223:B10221,\" \",0,1)","v":"Kimi_matt@hotmail.com"},32.40520191649555,11836,"GL_KimiMatt GL 5/11/1991 🇳🇱 Netherland Fibre PlayStation 5 Filaire Volant Fanatec A+ S Legend 95,01 Safe 14 1 0 1 0 GL_KimiMatt Matt Vorachen Kimi_matt@hotmail.com"]
["GL_Neteyam","Indép.","15/09/1998","🇫🇷 French","N/A","PlayStation 5","N/A","Volant Thrustmaster","A+","S","Legend",97.74,"Safe",0,3,0,9,0,{"$f":"HYPERLINK(\"https://www.msleague.fr/?page_id=1502&um_user=GL_Neteyam\", \"GL_Neteyam\")","v":"GL_Neteyam"},"Yohan","Ferrat",{"$f":"_xlfn.XLOOKUP(A228,BDD!A224:A10222,BDD!B224:B10222,\" \",0,1)","v":"Yoyofer98@gmail.com"},25.544147843942504,9330,"GL_Neteyam Indép. 15/09/1998 🇫🇷 French N/A PlayStation 5 N/A Volant Thrustmaster A+ S Legend 97,74 Safe 0 3 0 9 0 GL_Neteyam Yohan Ferrat Yoyofer98@gmail.com"]
["GL_Timekiller","GL","15/10/1994","🇩🇪 Germany","Câble","PlayStation 5","Filaire","Volant Fanatec","A+","S","Legend",95,"Safe",0,"N/A","N/A","N/A","N/A",{"$f":"HYPERLINK(\"https://www.msleague.fr/?page_id=1502&um_user=GL_Timekiller\", \"GL_Timekiller\")","v":"GL_Timekiller"},"Markus","Tudsen",{"$f":"_xlfn.XLOOKUP(A229,BDD!A225:A10223,BDD!B225:B10223,\" \",0,1)","v":"timekiller0011@googlemail.com"},29.462012320328544,10761,"GL_Timekiller GL 15/10/1994 🇩🇪 Germany Câble PlayStation 5 Filaire Volant Fanatec A+ S Legend 95 Safe 0 N/A N/A N/A N/A GL_Timekiller Markus Tudsen timekiller0011@googlemail.com"]
["GL_Xidivoo","GL","2/04/2005","🇫🇷 French","Fibre","PlayStation 4","Wifi","Volant Thrustmaster","A+","S","Legend",95,"Safe",0,"N/A","N/A","N/A","N/A",{"$f":"HYPERLINK(\"https://www.msleague.fr/?page_id=1502&um_user=GL_Xidivoo\", \"GL_Xidivoo\")","v":"GL_Xidivoo"},"Antoine","Drault",{"$f":"_xlfn.XLOOKUP(A230,BDD!A226:A10224,BDD!B226:B10224,\" \",0,1)","v":"xidivoogg@gmail.com"},18.997946611909651,6939,"GL_Xidivoo GL 2/04/2005 🇫🇷 French Fibre PlayStation 4 Wifi Volant Thrustmaster A+ S Legend 95 Safe 0 N/A N/A N/A N/A GL_Xidivoo Antoine Drault xidivoogg@gmail.com"]
["GnimisTv","DRR","3/11/1991","🇫🇷 French","N/A","PlayStation 4","N/A","Volant Logitech","B","S","Gold",62.33,"Safe",4,2,0,3,0,{"$f":"HYPERLINK(\"https://www.msleague.fr/?page_id=1502&um_user=GnimisTv\", \"GnimisTv\")","v":"GnimisTv"},"camille","adam",{"$f":"_xlfn.XLOOKUP(A231,BDD!A227:A10225,BDD!B227:B10225,\" \",0,1)","v":"adam.camille69@gmail.com"},32.410677618069812,11838,"GnimisTv DRR 3/11/1991 🇫🇷 French N/A PlayStation 4 N/A Volant Logitech B S Gold 62,33 Safe 4 2 0 3 0 GnimisTv camille adam adam.camille69@gmail.com"]
["Godof_FR","RSR","19/02/1994","🇫🇷 French","Fibre","PlayStation 5","Wifi","Volant Thrustmaster","B","S","Gold",60,"Safe",null,"N/A","N/A","N/A","N/A",{"$f":"HYPERLINK(\"https://www.msleague.fr/?page_id=1502&um_user=Godof_FR\", \"Godof_FR\")","v":"Godof_FR"},"Geoffroy","TEISSEIRE",{"$f":"_xlfn.XLOOKUP(A232,BDD!A228:A10226,BDD!B228:B10226,\" \",0,1)","v":"gteisseire@hotmail.fr"},30.113620807665981,10999,"Godof_FR RSR 19/02/1994 🇫🇷 French Fibre PlayStation 5 Wifi Volant Thrustmaster B S Gold 60 Safe  N/A N/A N/A N/A Godof_FR Geoffroy TEISSEIRE gteisseire@hotmail.fr"]
["gomalex6245","BLDG","21/03/2010","🇫🇷 French","Fibre","PlayStation 5","Wifi","Volant Logitech","D","A","Bronze",20,"Fair-Play",null,"N/A","N/A","N/A","N/A",{"$f":"HYPERLINK(\"https://www.msleague.fr/?page_id=1502&um_user=gomalex6245\", \"gomalex6245\")","v":"gomalex6245"},"Alexis","Evrard",{"$f":"_xlfn.XLOOKUP(A233,BDD!A229:A10227,BDD!B229:B10227,\" \",0,1)","v":"alexisevrard420@gmail.com"},14.031485284052019,5125,"gomalex6245 BLDG 21/03/2010 🇫🇷 French Fibre PlayStation 5 Wifi Volant Logitech D A Bronze 20 Fair-Play  N/A N/A N/A N/A gomalex6245 Alexis Evrard alexisevrard420@gmail.com"]
["Gouydo","HRC","28/04/1979","🇫🇷 French","Fibre","PlayStation 5","Filaire","Volant Logitech","B","S","Gold",60,"Safe",null,"N/A","N/A","N/A","N/A",{"$f":"HYPERLINK(\"https://www.msleague.fr/?page_id=1502&um_user=Gouydo\", \"Gouydo\")","v":"Gouydo"},"Pierryck","DUPONT",{"$f":"_xlfn.XLOOKUP(A234,BDD!A230:A10228,BDD!B230:B10228,\" \",0,1)","v":"gouydo@gmail.com"},44.928131416837779,16410,"Gouydo HRC 28/04/1979 🇫🇷 French Fibre PlayStation 5 Filaire Volant Logitech B S Gold 60 Safe  N/A N/A N/A N/A Gouydo Pierryck DUPONT gouydo@gmail.com"]
["GR-E_john-p","Indép.","7/03/1987","🇧🇪 Belgium","N/A","PlayStation 5","N/A","Volant Thrustmaster","A","S","Platinum",80,"Safe",0,"N/A","N/A",0,"N/A",{"$f":"HYPERLINK(\"https://www.msleague.fr/?page_id=1502&um_user=GR-E_john-p\", \"GR-E_john-p\")","v":"GR-E_john-p"},"John","Petit",{"$f":"_xlfn.XLOOKUP(A235,BDD!A231:A10229,BDD!B231:B10229,\" \",0,1)","v":"dark_angelus_01@hotmail.com"},37.07049965776865,13540,"GR-E_john-p Indép. 7/03/1987 🇧🇪 Belgium N/A PlayStation 5 N/A Volant Thrustmaster A S Platinum 80 Safe 0 N/A N/A 0 N/A GR-E_john-p John Petit dark_angelus_01@hotmail.com"]
["GRT_BLACK-CAT","GRT","6/08/1984","🇧🇪 Belgium","N/A","PlayStation 4","N/A","Volant Thrustmaster","B","S","Gold",60,"Safe",0,"N/A","N/A","N/A","N/A",{"$f":"HYPERLINK(\"https://www.msleague.fr/?page_id=1502&um_user=GRT_BLACK-CAT\", \"GRT_BLACK-CAT\")","v":"GRT_BLACK-CAT"},"Grégory","Aiello",{"$f":"_xlfn.XLOOKUP(A236,BDD!A232:A10230,BDD!B232:B10230,\" \",0,1)","v":"aiellogregory84@gmail.com"},39.652292950034223,14483,"GRT_BLACK-CAT GRT 6/08/1984 🇧🇪 Belgium N/A PlayStation 4 N/A Volant Thrustmaster B S Gold 60 Safe 0 N/A N/A N/A N/A GRT_BLACK-CAT Grégory Aiello aiellogregory84@gmail.com"]
["GRT_DAYOTI","GRT","19/09/1977","🇫🇷 French","N/A","PlayStation 4","N/A","Volant Thrustmaster","B","S","Gold",60,"Safe",0,"N/A","N/A","N/A","N/A",{"$f":"HYPERLINK(\"https://www.msleague.fr/?page_id=1502&um_user=GRT_DAYOTI\", \"GRT_DAYOTI\")","v":"GRT_DAYOTI"},"David","Stamm",{"$f":"_xlfn.XLOOKUP(A237,BDD!A233:A10231,BDD!B233:B10231,\" \",0,1)","v":"Stammdavid68800@yahoo.com"},46.53251197809719,16996,"GRT_DAYOTI GRT 19/09/1977 🇫🇷 French N/A PlayStation 4 N/A Volant Thrustmaster B S Gold 60 Safe 0 N/A N/A N/A N/A GRT_DAYOTI David Stamm Stammdavid68800@yahoo.com"]
["GRT_Gyzmo","GRT","7/11/1972","🇱🇺 Luxembourg","N/A","PlayStation 5","N/A","Volant Logitech","B","S","Gold",60,"Safe",0,"N/A","N/A","N/A","N/A",{"$f":"HYPERLINK(\"https://www.msleague.fr/?page_id=1502&um_user=GRT_Gyzmo\", \"GRT_Gyzmo\")","v":"GRT_Gyzmo"},"Albert","Donkols",{"$f":"_xlfn.XLOOKUP(A238,BDD!A234:A10232,BDD!B234:B10232,\" \",0,1)","v":"gyzmo711@hotmail.com"},51.397672826830934,18773,"GRT_Gyzmo GRT 7/11/1972 🇱🇺 Luxembourg N/A PlayStation 5 N/A Volant Logitech B S Gold 60 Safe 0 N/A N/A N/A N/A GRT_Gyzmo Albert Donkols gyzmo711@hotmail.com"]
["GRT_Lynch","GRT","27/03/1984","🇧🇪 Belgium","N/A","PlayStation 5","N/A","Volant Logitech","A","S","Gold",69.209999999999994,"Safe",0,1,0,7,0,{"$f":"HYPERLINK(\"https://www.msleague.fr/?page_id=1502&um_user=GRT_Lynch\", \"GRT_Lynch\")","v":"GRT_Lynch"},"Gabriel","Tison",{"$f":"_xlfn.XLOOKUP(A239,BDD!A235:A10233,BDD!B235:B10233,\" \",0,1)","v":"lyncheur@hotmail.com"},40.013689253935659,14615,"GRT_Lynch GRT 27/03/1984 🇧🇪 Belgium N/A PlayStation 5 N/A Volant Logitech A S Gold 69,21 Safe 0 1 0 7 0 GRT_Lynch Gabriel Tison lyncheur@hotmail.com"]
["GRT_NICTAF","GRT","9/07/1986","🇧🇪 Belgium","N/A","PlayStation 5","N/A","Volant Fanatec","A+","S","Legend",94.25,"Safe",0,1,0,7,0,{"$f":"HYPERLINK(\"https://www.msleague.fr/?page_id=1502&um_user=GRT_NICTAF\", \"GRT_NICTAF\")","v":"GRT_NICTAF"},"Cédric","Stas",{"$f":"_xlfn.XLOOKUP(A240,BDD!A236:A10234,BDD!B236:B10234,\" \",0,1)","v":"cedricstas744@hotmail.com"},37.730321697467488,13781,"GRT_NICTAF GRT 9/07/1986 🇧🇪 Belgium N/A PlayStation 5 N/A Volant Fanatec A+ S Legend 94,25 Safe 0 1 0 7 0 GRT_NICTAF Cédric Stas cedricstas744@hotmail.com"]
["GRT_Scoe","GRT","7/01/1973","🇫🇷 French","N/A","PlayStation 4","N/A","Volant Thrustmaster","A","S","Platinum",80,"Safe",0,"N/A","N/A","N/A","N/A",{"$f":"HYPERLINK(\"https://www.msleague.fr/?page_id=1502&um_user=GRT_Scoe\", \"GRT_Scoe\")","v":"GRT_Scoe"},"Daniel","Verouil",{"$f":"_xlfn.XLOOKUP(A241,BDD!A237:A10235,BDD!B237:B10235,\" \",0,1)","v":"daniel.verouil@sfr.fr"},51.230663928815879,18712,"GRT_Scoe GRT 7/01/1973 🇫🇷 French N/A PlayStation 4 N/A Volant Thrustmaster A S Platinum 80 Safe 0 N/A N/A N/A N/A GRT_Scoe Daniel Verouil daniel.verouil@sfr.fr"]
["GRT_Yann05","GRT","5/02/1986","🇫🇷 French","N/A","PlayStation 5","N/A","Volant Thrustmaster","A","S","Platinum",80,"Safe",0,"N/A","N/A","N/A","N/A",{"$f":"HYPERLINK(\"https://www.msleague.fr/?page_id=1502&um_user=GRT_Yann05\", \"GRT_Yann05\")","v":"GRT_Yann05"},"yannick","masson",{"$f":"_xlfn.XLOOKUP(A242,BDD!A238:A10236,BDD!B238:B10236,\" \",0,1)","v":"yannick34102@live.fr"},38.151950718685832,13935,"GRT_Yann05 GRT 5/02/1986 🇫🇷 French N/A PlayStation 5 N/A Volant Thrustmaster A S Platinum 80 Safe 0 N/A N/A N/A N/A GRT_Yann05 yannick masson yannick34102@live.fr"]
["GT_bananajosh1","Indép.","4/10/1999","🇦🇺 Australia","N/A","PlayStation 5","N/A","Manette","A+","S","Legend",95,"Safe",0,"N/A","N/A","N/A","N/A",{"$f":"HYPERLINK(\"https://www.msleague.fr/?page_id=1502&um_user=GT_bananajosh1\", \"GT_bananajosh1\")","v":"GT_bananajosh1"},"Joshua","Law",{"$f":"_xlfn.XLOOKUP(A243,BDD!A239:A10237,BDD!B239:B10237,\" \",0,1)","v":"bananajosh.law@gmail.com"},24.492813141683779,8946,"GT_bananajosh1 Indép. 4/10/1999 🇦🇺 Australia N/A PlayStation 5 N/A Manette A+ S Legend 95 Safe 0 N/A N/A N/A N/A GT_bananajosh1 Joshua Law bananajosh.law@gmail.com"]
["GT_KRS_Gin","GT_KRS","3/01/1970","🇧🇪 Belgium","N/A","PlayStation 4","N/A","Volant Thrustmaster","A+","S","Legend",95,"Safe",0,"N/A","N/A",0,"N/A",{"$f":"HYPERLINK(\"https://www.msleague.fr/?page_id=1502&um_user=GT_KRS_Gin\", \"GT_KRS_Gin\")","v":"GT_KRS_Gin"},"Giulio","Imbiscuso",{"$f":"_xlfn.XLOOKUP(A244,BDD!A240:A10238,BDD!B240:B10238,\" \",0,1)","v":"Imbiscuso.g@hotmail.com"},54.242299794661193,19812,"GT_KRS_Gin GT_KRS 3/01/1970 🇧🇪 Belgium N/A PlayStation 4 N/A Volant Thrustmaster A+ S Legend 95 Safe 0 N/A N/A 0 N/A GT_KRS_Gin Giulio Imbiscuso Imbiscuso.g@hotmail.com"]
["GT_KRS_Herve","GT_KRS","29/01/1967","🇫🇷 French","N/A","PlayStation 4","N/A","Volant Fanatec","A","S","Platinum",80,"Safe",0,"N/A","N/A","N/A","N/A",{"$f":"HYPERLINK(\"https://www.msleague.fr/?page_id=1502&um_user=GT_KRS_Herve\", \"GT_KRS_Herve\")","v":"GT_KRS_Herve"},"herve","macke",{"$f":"_xlfn.XLOOKUP(A245,BDD!A241:A10239,BDD!B241:B10239,\" \",0,1)","v":"rv.macke@gmail.com"},57.171800136892543,20882,"GT_KRS_Herve GT_KRS 29/01/1967 🇫🇷 French N/A PlayStation 4 N/A Volant Fanatec A S Platinum 80 Safe 0 N/A N/A N/A N/A GT_KRS_Herve herve macke rv.macke@gmail.com"]
["GT_KRS_Jerome","GT_KRS","22/06/1968","🇫🇷 French","N/A","PlayStation 4","N/A","Volant Thrustmaster","A","S","Platinum",80,"Safe",0,"N/A","N/A","N/A","N/A",{"$f":"HYPERLINK(\"https://www.msleague.fr/?page_id=1502&um_user=GT_KRS_Jerome\", \"GT_KRS_Jerome\")","v":"GT_KRS_Jerome"},"Jérôme","SEGOUIN",{"$f":"_xlfn.XLOOKUP(A246,BDD!A242:A10240,BDD!B242:B10240,\" \",0,1)","v":"segouin.j@hotmail.fr"},55.775496235455165,20372,"GT_KRS_Jerome GT_KRS 22/06/1968 🇫🇷 French N/A PlayStation 4 N/A Volant Thrustmaster A S Platinum 80 Safe 0 N/A N/A N/A N/A GT_KRS_Jerome Jérôme SEGOUIN segouin.j@hotmail.fr"]
["GT_KRS_v-tec","GTK_RS","12/05/1966","🇫🇷 French","ADSL","PlayStation 4","Wifi","Volant Thrustmaster","A","S","Platinum",80,"Safe",0,"N/A","N/A","N/A","N/A",{"$f":"HYPERLINK(\"https://www.msleague.fr/?page_id=1502&um_user=GT_KRS_v-tec\", \"GT_KRS_v-tec\")","v":"GT_KRS_v-tec"},"Christophe","Bermejo",{"$f":"_xlfn.XLOOKUP(A247,BDD!A243:A10241,BDD!B243:B10241,\" \",0,1)","v":"tofy.maelie@gmail.com"},57.889117043121146,21144,"GT_KRS_v-tec GTK_RS 12/05/1966 🇫🇷 French ADSL PlayStation 4 Wifi Volant Thrustmaster A S Platinum 80 Safe 0 N/A N/A N/A N/A GT_KRS_v-tec Christophe Bermejo tofy.maelie@gmail.com"]
["GT_Rasbow","Indép.","23/01/2006","🇧🇪 Belgium","N/A","PlayStation 4","N/A","Volant Thrustmaster","A","S","Platinum",80,"Safe",0,"N/A","N/A","N/A","N/A",{"$f":"HYPERLINK(\"https://www.msleague.fr/?page_id=1502&um_user=GT_Rasbow\", \"GT_Rasbow\")","v":"GT_Rasbow"},"Killian","Vinckx",{"$f":"_xlfn.XLOOKUP(A248,BDD!A244:A10242,BDD!B244:B10242,\" \",0,1)","v":"killian.vinckx@gmail.com"},18.187542778918548,6643,"GT_Rasbow Indép. 23/01/2006 🇧🇪 Belgium N/A PlayStation 4 N/A Volant Thrustmaster A S Platinum 80 Safe 0 N/A N/A N/A N/A GT_Rasbow Killian Vinckx killian.vinckx@gmail.com"]
["GTB Woodrider","GTB","25/10/1993","🇨🇿 Czechia","Box/Partage 3G/4G","PlayStation 5","Wifi","Volant Thrustmaster","B","S","Gold",60,"Safe",null,"N/A","N/A","N/A","N/A",{"$f":"HYPERLINK(\"https://www.msleague.fr/?page_id=1502&um_user=GTB Woodrider\", \"GTB Woodrider\")","v":"GTB Woodrider"},"Ondřej","Mizsár",{"$f":"_xlfn.XLOOKUP(A249,BDD!A245:A10243,BDD!B245:B10243,\" \",0,1)","v":"mizsar@centrum.cz"},30.433949349760439,11116,"GTB Woodrider GTB 25/10/1993 🇨🇿 Czechia Box/Partage 3G/4G PlayStation 5 Wifi Volant Thrustmaster B S Gold 60 Safe  N/A N/A N/A N/A GTB Woodrider Ondřej Mizsár mizsar@centrum.cz"]
["GTB_Frydlis37","GTB","14/01/1992","🇨🇿 Czechia","Câble","PlayStation 5","Wifi","Volant Thrustmaster","A","S","Platinum",80,"Safe",null,"N/A","N/A","N/A","N/A",{"$f":"HYPERLINK(\"https://www.msleague.fr/?page_id=1502&um_user=GTB_Frydlis37\", \"GTB_Frydlis37\")","v":"GTB_Frydlis37"},"Filip","Frýdl",{"$f":"_xlfn.XLOOKUP(A250,BDD!A246:A10244,BDD!B246:B10244,\" \",0,1)","v":"frydlis37@gmail.com"},32.213552361396303,11766,"GTB_Frydlis37 GTB 14/01/1992 🇨🇿 Czechia Câble PlayStation 5 Wifi Volant Thrustmaster A S Platinum 80 Safe  N/A N/A N/A N/A GTB_Frydlis37 Filip Frýdl frydlis37@gmail.com"]
["GTBE-PIPO_OLI","GTBE","29/10/1982","🇧🇪 Belgium","N/A","PlayStation 5","N/A","Volant Fanatec","A+","S","Legend",95,"Safe",0,"N/A","N/A","N/A","N/A",{"$f":"HYPERLINK(\"https://www.msleague.fr/?page_id=1502&um_user=GTBE-PIPO_OLI\", \"GTBE-PIPO_OLI\")","v":"GTBE-PIPO_OLI"},"Olivier","Deluc",{"$f":"_xlfn.XLOOKUP(A251,BDD!A247:A10245,BDD!B247:B10245,\" \",0,1)","v":"delucolivier@hotmail.com"},41.42368240930869,15130,"GTBE-PIPO_OLI GTBE 29/10/1982 🇧🇪 Belgium N/A PlayStation 5 N/A Volant Fanatec A+ S Legend 95 Safe 0 N/A N/A N/A N/A GTBE-PIPO_OLI Olivier Deluc delucolivier@hotmail.com"]
["GTFR_Greggy_95","GTFR","6/05/1984","🇫🇷 French","Fibre","PlayStation 5","Filaire","Volant Fanatec","A+","S","Legend",95,"Safe",null,"N/A","N/A","N/A","N/A",{"$f":"HYPERLINK(\"https://www.msleague.fr/?page_id=1502&um_user=GTFR_Greggy_95\", \"GTFR_Greggy_95\")","v":"GTFR_Greggy_95"},"Gregory","Cavazzini",{"$f":"_xlfn.XLOOKUP(A252,BDD!A248:A10246,BDD!B248:B10246,\" \",0,1)","v":"greg@greggy-motorsport.fr"},39.904175222450377,14575,"GTFR_Greggy_95 GTFR 6/05/1984 🇫🇷 French Fibre PlayStation 5 Filaire Volant Fanatec A+ S Legend 95 Safe  N/A N/A N/A N/A GTFR_Greggy_95 Gregory Cavazzini greg@greggy-motorsport.fr"]
["GTFR_JBT1","GTFR","8/08/1973","🇫🇷 French","Fibre","PlayStation 5","Filaire","Volant Fanatec","A+","S","Legend",95,"Safe",null,"N/A","N/A","N/A","N/A",{"$f":"HYPERLINK(\"https://www.msleague.fr/?page_id=1502&um_user=GTFR_JBT1\", \"GTFR_JBT1\")","v":"GTFR_JBT1"},"JLuc","Blanc",{"$f":"_xlfn.XLOOKUP(A253,BDD!A249:A10247,BDD!B249:B10247,\" \",0,1)","v":"edbracame2018@yahoo.com"},50.647501711156742,18499,"GTFR_JBT1 GTFR 8/08/1973 🇫🇷 French Fibre PlayStation 5 Filaire Volant Fanatec A+ S Legend 95 Safe  N/A N/A N/A N/A GTFR_JBT1 JLuc Blanc edbracame2018@yahoo.com"]
["GTFR_Pass","GTFR","7/10/1974","🇫🇷 French","Fibre","PlayStation 5","Filaire","Volant Fanatec","A+","S","Legend",95,"Safe",null,"N/A","N/A","N/A","N/A",{"$f":"HYPERLINK(\"https://www.msleague.fr/?page_id=1502&um_user=GTFR_Pass\", \"GTFR_Pass\")","v":"GTFR_Pass"},"Olivier","PASSOT",{"$f":"_xlfn.XLOOKUP(A254,BDD!A250:A10248,BDD!B250:B10248,\" \",0,1)","v":"opassot@gmail.com"},49.483915126625597,18074,"GTFR_Pass GTFR 7/10/1974 🇫🇷 French Fibre PlayStation 5 Filaire Volant Fanatec A+ S Legend 95 Safe  N/A N/A N/A N/A GTFR_Pass Olivier PASSOT opassot@gmail.com"]
["GTGC_chlibas84","GTGC","15/01/1984","🇬🇷 Greece","N/A","PlayStation 5","N/A","Volant Fanatec","A+","S","Legend",92.55,"Safe",0,1,0,7,0,{"$f":"HYPERLINK(\"https://www.msleague.fr/?page_id=1502&um_user=GTGC_chlibas84\", \"GTGC_chlibas84\")","v":"GTGC_chlibas84"},"CHRISTOS","LIBANOVNOS",{"$f":"_xlfn.XLOOKUP(A255,BDD!A251:A10249,BDD!B251:B10249,\" \",0,1)","v":"christoslibanovnos@gmail.com"},40.210814510609168,14687,"GTGC_chlibas84 GTGC 15/01/1984 🇬🇷 Greece N/A PlayStation 5 N/A Volant Fanatec A+ S Legend 92,55 Safe 0 1 0 7 0 GTGC_chlibas84 CHRISTOS LIBANOVNOS christoslibanovnos@gmail.com"]
["GTGC_KULINEN","GTGC","12/09/1968","🇬🇷 Greece","N/A","PlayStation 5","N/A","Volant Fanatec","A+","S","Legend",95,"Safe",0,"N/A","N/A",0,"N/A",{"$f":"HYPERLINK(\"https://www.msleague.fr/?page_id=1502&um_user=GTGC_KULINEN\", \"GTGC_KULINEN\")","v":"GTGC_KULINEN"},"Kyriakos","Marinos",{"$f":"_xlfn.XLOOKUP(A256,BDD!A252:A10250,BDD!B252:B10250,\" \",0,1)","v":"Kyriakos13marin@hotmail.com"},55.550992470910337,20290,"GTGC_KULINEN GTGC 12/09/1968 🇬🇷 Greece N/A PlayStation 5 N/A Volant Fanatec A+ S Legend 95 Safe 0 N/A N/A 0 N/A GTGC_KULINEN Kyriakos Marinos Kyriakos13marin@hotmail.com"]
["GTGC_Pihakos","GTGC","16/12/1988","🇬🇷 Greece","N/A","PlayStation 5","N/A","Volant Fanatec","A+","S","Legend",95,"Safe",0,"N/A","N/A",0,"N/A",{"$f":"HYPERLINK(\"https://www.msleague.fr/?page_id=1502&um_user=GTGC_Pihakos\", \"GTGC_Pihakos\")","v":"GTGC_Pihakos"},"ATHANASIOS","PICHAS",{"$f":"_xlfn.XLOOKUP(A257,BDD!A253:A10251,BDD!B253:B10251,\" \",0,1)","v":"sparaskeyi@yahoo.gr"},35.290896646132786,12890,"GTGC_Pihakos GTGC 16/12/1988 🇬🇷 Greece N/A PlayStation 5 N/A Volant Fanatec A+ S Legend 95 Safe 0 N/A N/A 0 N/A GTGC_Pihakos ATHANASIOS PICHAS sparaskeyi@yahoo.gr"]
["GTGC_TONY","GTGC","13/02/1985","🇬🇷 Greece","N/A","PlayStation 5","N/A","Volant Fanatec","A+","S","Legend",95,"Safe",0,"N/A","N/A",0,"N/A",{"$f":"HYPERLINK(\"https://www.msleague.fr/?page_id=1502&um_user=GTGC_TONY\", \"GTGC_TONY\")","v":"GTGC_TONY"},"ANTONIOS","Kapsalis",{"$f":"_xlfn.XLOOKUP(A258,BDD!A254:A10252,BDD!B254:B10252,\" \",0,1)","v":"antoniskaps@hotmail.com"},39.129363449691994,14292,"GTGC_TONY GTGC 13/02/1985 🇬🇷 Greece N/A PlayStation 5 N/A Volant Fanatec A+ S Legend 95 Safe 0 N/A N/A 0 N/A GTGC_TONY ANTONIOS Kapsalis antoniskaps@hotmail.com"]
["GTHH_peti1988","Indép.","6/12/1988","🇭🇺 Hungary","Câble","PlayStation 4","CPL","Volant Logitech","B","S","Gold",58.09,"Fair-Play",0,1,0,1,0,{"$f":"HYPERLINK(\"https://www.msleague.fr/?page_id=1502&um_user=GTHH_peti1988\", \"GTHH_peti1988\")","v":"GTHH_peti1988"},"Péter","Csató",{"$f":"_xlfn.XLOOKUP(A259,BDD!A255:A10253,BDD!B255:B10253,\" \",0,1)","v":"Csatooo@gmail.com"},35.318275154004105,12900,"GTHH_peti1988 Indép. 6/12/1988 🇭🇺 Hungary Câble PlayStation 4 CPL Volant Logitech B S Gold 58,09 Fair-Play 0 1 0 1 0 GTHH_peti1988 Péter Csató Csatooo@gmail.com"]
["GTHH_toten","Indép.","23/02/1989","🇭🇺 Hungary","Câble","PlayStation 5","N/A","Volant Fanatec","A","A","Platinum",78.44,"Batailleur",2,1,0,1,0,{"$f":"HYPERLINK(\"https://www.msleague.fr/?page_id=1502&um_user=GTHH_toten\", \"GTHH_toten\")","v":"GTHH_toten"},"Gabor","Horvath",{"$f":"_xlfn.XLOOKUP(A260,BDD!A256:A10254,BDD!B256:B10254,\" \",0,1)","v":"kataszter22@gmail.com"},35.101984941820668,12821,"GTHH_toten Indép. 23/02/1989 🇭🇺 Hungary Câble PlayStation 5 N/A Volant Fanatec A A Platinum 78,44 Batailleur 2 1 0 1 0 GTHH_toten Gabor Horvath kataszter22@gmail.com"]
["GTMA_B-M-_-H-86","GTMA","19/03/1986","🇲🇦 Marocco","N/A","PlayStation 4","N/A","Volant Logitech","B","S","Gold",60,"Safe",0,"N/A","N/A","N/A","N/A",{"$f":"HYPERLINK(\"https://www.msleague.fr/?page_id=1502&um_user=GTMA_B-M-_-H-86\", \"GTMA_B-M-_-H-86\")","v":"GTMA_B-M-_-H-86"},"Hamza","Benomar marrakchi",{"$f":"_xlfn.XLOOKUP(A261,BDD!A257:A10255,BDD!B257:B10255,\" \",0,1)","v":"Gtamodzfun2@gmail.com"},{"$f":"IF(X261=\"\",\"\",CONVERT(X261,\"day\",\"yr\"))","v":38.036960985626287},13893,"GTMA_B-M-_-H-86 GTMA 19/03/1986 🇲🇦 Marocco N/A PlayStation 4 N/A Volant Logitech B S Gold 60 Safe 0 N/A N/A N/A N/A GTMA_B-M-_-H-86 Hamza Benomar marrakchi Gtamodzfun2@gmail.com"]
["GTMA_Benz","GTMA","1/07/1993","🇫🇷 French","N/A","PlayStation 5","N/A","Volant Fanatec","B","S","Gold",60,"Safe",0,"N/A","N/A",0,"N/A",{"$f":"HYPERLINK(\"https://www.msleague.fr/?page_id=1502&um_user=GTMA_Benz\", \"GTMA_Benz\")","v":"GTMA_Benz"},"Mehdi","Benzekri",{"$f":"_xlfn.XLOOKUP(A262,BDD!A258:A10256,BDD!B258:B10256,\" \",0,1)","v":"mehdi.benzekri@edu.esce.fr"},30.751540041067763,11232,{"$f":"A262 & \" \" & B262 & \" \" & C262 & \" \" & D262 & \" \" & E262 & \" \" & F262 & \" \" & G262 & \" \" & H262 & \" \" & I262 & \" \" & J262 & \" \" & K262 & \" \" & L262 & \" \" & M262 & \" \" & N262 & \" \" & O262 & \" \" & P262 & \" \" &Q262 & \" \" & R262 & \" \" & S262 & \" \" & T262 & \" \" & U262 & \" \" & V262","v":"GTMA_Benz GTMA 1/07/1993 🇫🇷 French N/A PlayStation 5 N/A Volant Fanatec B S Gold 60 Safe 0 N/A N/A 0 N/A GTMA_Benz Mehdi Benzekri mehdi.benzekri@edu.esce.fr"}]
["GTMA_Mouns","GTMA","5/02/1980","🇲🇦 Marocco","N/A","PlayStation 5","N/A","Volant Fanatec","B","S","Gold",60,"Safe",0,"N/A","N/A","N/A","N/A",{"$f":"HYPERLINK(\"https://www.msleague.fr/?page_id=1502&um_user=GTMA_Mouns\", \"GTMA_Mouns\")","v":"GTMA_Mouns"},"Mounir","El Achhab",{"$f":"_xlfn.XLOOKUP(A263,BDD!A259:A10257,BDD!B259:B10257,\" \",0,1)","v":"elmouns02@gmail.com"},44.153319644079396,16127,"GTMA_Mouns GTMA 5/02/1980 🇲🇦 Marocco N/A PlayStation 5 N/A Volant Fanatec B S Gold 60 Safe 0 N/A N/A N/A N/A GTMA_Mouns Mounir El Achhab elmouns02@gmail.com"]
["GTMA_Reda","GTMA","20/08/1988","🇲🇦 Marocco","N/A","PlayStation 5","N/A","Volant Fanatec","A+","S","Legend",95,"Safe",0,"N/A","N/A","N/A","N/A",{"$f":"HYPERLINK(\"https://www.msleague.fr/?page_id=1502&um_user=GTMA_Reda\", \"GTMA_Reda\")","v":"GTMA_Reda"},"Reda","Hsaine",{"$f":"_xlfn.XLOOKUP(A264,BDD!A260:A10258,BDD!B260:B10258,\" \",0,1)","v":"redahs1@gmail.com"},35.613963039014372,13008,"GTMA_Reda GTMA 20/08/1988 🇲🇦 Marocco N/A PlayStation 5 N/A Volant Fanatec A+ S Legend 95 Safe 0 N/A N/A N/A N/A GTMA_Reda Reda Hsaine redahs1@gmail.com"]
["GTS-Evo_bjem971","GTS-Evo","5/12/1982","🇫🇷 French","N/A","PlayStation 4","N/A","Volant Thrustmaster","B","S","Gold",62.08,"Safe",0,1,"N/A",1,"N/A",{"$f":"HYPERLINK(\"https://www.msleague.fr/?page_id=1502&um_user=GTS-Evo_bjem971\", \"GTS-Evo_bjem971\")","v":"GTS-Evo_bjem971"},"Benjamin","DUFOURQUET",{"$f":"_xlfn.XLOOKUP(A265,BDD!A261:A10259,BDD!B261:B10259,\" \",0,1)","v":"Bjem.duf@gmail.com"},41.322381930184804,15093,"GTS-Evo_bjem971 GTS-Evo 5/12/1982 🇫🇷 French N/A PlayStation 4 N/A Volant Thrustmaster B S Gold 62,08 Safe 0 1 N/A 1 N/A GTS-Evo_bjem971 Benjamin DUFOURQUET Bjem.duf@gmail.com"]
["Gts-evo_gaet","GTS-EVO","14/07/1989","🇫🇷 French","N/A","PlayStation 4","N/A","Volant Logitech","B","S","Gold",60,"Safe",0,"N/A","N/A",0,"N/A",{"$f":"HYPERLINK(\"https://www.msleague.fr/?page_id=1502&um_user=Gts-evo_gaet\", \"Gts-evo_gaet\")","v":"Gts-evo_gaet"},"Gaetan","Trebaol",{"$f":"_xlfn.XLOOKUP(A266,BDD!A262:A10260,BDD!B262:B10260,\" \",0,1)","v":"gaetan.trebaol@gmail.com"},34.715947980835047,12680,"Gts-evo_gaet GTS-EVO 14/07/1989 🇫🇷 French N/A PlayStation 4 N/A Volant Logitech B S Gold 60 Safe 0 N/A N/A 0 N/A Gts-evo_gaet Gaetan Trebaol gaetan.trebaol@gmail.com"]
["GTS-EVO_Niko","GTS-EVO","11/03/1981","🇫🇷 French","N/A","PlayStation 5","N/A","Volant Fanatec","B","S","Gold",60,"Safe",0,"N/A","N/A","N/A","N/A",{"$f":"HYPERLINK(\"https://www.msleague.fr/?page_id=1502&um_user=GTS-EVO_Niko\", \"GTS-EVO_Niko\")","v":"GTS-EVO_Niko"},"Nicolas","Barbe",{"$f":"_xlfn.XLOOKUP(A267,BDD!A263:A10261,BDD!B263:B10261,\" \",0,1)","v":"nicolas.barbe71@sfr.fr"},43.058179329226554,15727,"GTS-EVO_Niko GTS-EVO 11/03/1981 🇫🇷 French N/A PlayStation 5 N/A Volant Fanatec B S Gold 60 Safe 0 N/A N/A N/A N/A GTS-EVO_Niko Nicolas Barbe nicolas.barbe71@sfr.fr"]
["GTS-Evo_Silver16","GTS-EVO","16/12/1977","🇫🇷 French","N/A","PlayStation 5","N/A","Volant Thrustmaster","C","S","Silver",40,"Safe",0,"N/A","N/A","N/A","N/A",{"$f":"HYPERLINK(\"https://www.msleague.fr/?page_id=1502&um_user=GTS-Evo_Silver16\", \"GTS-Evo_Silver16\")","v":"GTS-Evo_Silver16"},"Jerome","Vadala",{"$f":"_xlfn.XLOOKUP(A268,BDD!A264:A10262,BDD!B264:B10262,\" \",0,1)","v":"jerome.vadala@gmail.com"},46.291581108829568,16908,"GTS-Evo_Silver16 GTS-EVO 16/12/1977 🇫🇷 French N/A PlayStation 5 N/A Volant Thrustmaster C S Silver 40 Safe 0 N/A N/A N/A N/A GTS-Evo_Silver16 Jerome Vadala jerome.vadala@gmail.com"]
["GTS-Evo_Thony","GTS-Evo","28/11/1979","🇫🇷 French","N/A","PlayStation 5","N/A","Volant Fanatec","B","S","Gold",60,"Safe",0,"N/A","N/A","N/A","N/A",{"$f":"HYPERLINK(\"https://www.msleague.fr/?page_id=1502&um_user=GTS-Evo_Thony\", \"GTS-Evo_Thony\")","v":"GTS-Evo_Thony"},"Anthony","Colas",{"$f":"_xlfn.XLOOKUP(A269,BDD!A265:A10263,BDD!B265:B10263,\" \",0,1)","v":"anthony.colas8@free.fr"},44.342231348391515,16196,"GTS-Evo_Thony GTS-Evo 28/11/1979 🇫🇷 French N/A PlayStation 5 N/A Volant Fanatec B S Gold 60 Safe 0 N/A N/A N/A N/A GTS-Evo_Thony Anthony Colas anthony.colas8@free.fr"]
["GTS92_agus05","Err. PSN","N/A","N/A","N/A","N/A","N/A","N/A","N/A","N/A","N/A",null,"N/A",null,"N/A","N/A","N/A","N/A",{"$f":"HYPERLINK(\"https://www.msleague.fr/?page_id=1502&um_user=GTS92_agus05\", \"GTS92_agus05\")","v":"GTS92_agus05"},"N/A","N/A",{"$f":"_xlfn.XLOOKUP(A270,BDD!A266:A10264,BDD!B266:B10264,\" \",0,1)","v":"agustingiaccio2019@gmail.com"},"","","GTS92_agus05 Err. PSN N/A N/A N/A N/A N/A N/A N/A N/A N/A  N/A  N/A N/A N/A N/A GTS92_agus05 N/A N/A agustingiaccio2019@gmail.com"]
["GTS92_David","GTS92","25/11/2004","🇪🇸 Spain","Fibre","PlayStation 5","Filaire","Volant Fanatec","A+","S","Legend",95,"Safe",null,"N/A","N/A","N/A","N/A",{"$f":"HYPERLINK(\"https://www.msleague.fr/?page_id=1502&um_user=GTS92_David\", \"GTS92_David\")","v":"GTS92_David"},"David","Celada",{"$f":"_xlfn.XLOOKUP(A271,BDD!A267:A10265,BDD!B267:B10265,\" \",0,1)","v":"95celada@gmail.com"},19.348391512662559,7067,"GTS92_David GTS92 25/11/2004 🇪🇸 Spain Fibre PlayStation 5 Filaire Volant Fanatec A+ S Legend 95 Safe  N/A N/A N/A N/A GTS92_David David Celada 95celada@gmail.com"]
["GTWGP_ART2M","GTWGP","18/04/1986","🇫🇷 French","N/A","PlayStation 4","N/A","Manette","B","S","Gold",60,"Safe",0,"N/A","N/A","N/A","N/A",{"$f":"HYPERLINK(\"https://www.msleague.fr/?page_id=1502&um_user=GTWGP_ART2M\", \"GTWGP_ART2M\")","v":"GTWGP_ART2M"},"Mathieu","Mouligneau",{"$f":"_xlfn.XLOOKUP(A272,BDD!A268:A10266,BDD!B268:B10266,\" \",0,1)","v":"mathieu18000@live.fr"},37.954825462012323,13863,"GTWGP_ART2M GTWGP 18/04/1986 🇫🇷 French N/A PlayStation 4 N/A Manette B S Gold 60 Safe 0 N/A N/A N/A N/A GTWGP_ART2M Mathieu Mouligneau mathieu18000@live.fr"]
["Gtwgp_Asgard07","GTWGP","27/07/1989","🇫🇷 French","Fibre","PlayStation 5","Filaire","Volant Thrustmaster","A+","S","Legend",93.17,"Safe",0,1,0,7,0,{"$f":"HYPERLINK(\"https://www.msleague.fr/?page_id=1502&um_user=Gtwgp_Asgard07\", \"Gtwgp_Asgard07\")","v":"Gtwgp_Asgard07"},"Alex","Millet",{"$f":"_xlfn.XLOOKUP(A273,BDD!A269:A10267,BDD!B269:B10267,\" \",0,1)","v":"Alexandre1729@gmail.com"},34.680355920602324,12667,"Gtwgp_Asgard07 GTWGP 27/07/1989 🇫🇷 French Fibre PlayStation 5 Filaire Volant Thrustmaster A+ S Legend 93,17 Safe 0 1 0 7 0 Gtwgp_Asgard07 Alex Millet Alexandre1729@gmail.com"]
["GTWGP_jbsub","GTWGP","26/02/1987","🇫🇷 French","N/A","PlayStation 4","N/A","Volant Logitech","A+","S","Platinum",82.35,"Safe",0,1,0,7,0,{"$f":"HYPERLINK(\"https://www.msleague.fr/?page_id=1502&um_user=GTWGP_jbsub\", \"GTWGP_jbsub\")","v":"GTWGP_jbsub"},"Julien","BACH",{"$f":"_xlfn.XLOOKUP(A274,BDD!A270:A10268,BDD!B270:B10268,\" \",0,1)","v":"jbsub30@gmail.com"},37.095140314852841,13549,"GTWGP_jbsub GTWGP 26/02/1987 🇫🇷 French N/A PlayStation 4 N/A Volant Logitech A+ S Platinum 82,35 Safe 0 1 0 7 0 GTWGP_jbsub Julien BACH jbsub30@gmail.com"]
["GTWGP_Maerlin","GTWGP","19/10/1978","🇫🇷 French","Fibre","PlayStation 5","Wifi","Volant Thrustmaster","B","S","Gold",60,"Safe",null,"N/A","N/A","N/A","N/A",{"$f":"HYPERLINK(\"https://www.msleague.fr/?page_id=1502&um_user=GTWGP_Maerlin\", \"GTWGP_Maerlin\")","v":"GTWGP_Maerlin"},"Vincent","Muller",{"$f":"_xlfn.XLOOKUP(A275,BDD!A271:A10269,BDD!B271:B10269,\" \",0,1)","v":"maerlin07@gmail.com"},45.451060917180016,16601,"GTWGP_Maerlin GTWGP 19/10/1978 🇫🇷 French Fibre PlayStation 5 Wifi Volant Thrustmaster B S Gold 60 Safe  N/A N/A N/A N/A GTWGP_Maerlin Vincent Muller maerlin07@gmail.com"]
["GTWGP_Pti-fuchs","GTWGP","16/08/1990","🇫🇷 French","N/A","PlayStation 5","N/A","Volant Thrustmaster","A","S","Platinum",80,"Safe",0,"N/A","N/A",0,"N/A",{"$f":"HYPERLINK(\"https://www.msleague.fr/?page_id=1502&um_user=GTWGP_Pti-fuchs\", \"GTWGP_Pti-fuchs\")","v":"GTWGP_Pti-fuchs"},"Florian","Fuchs",{"$f":"_xlfn.XLOOKUP(A276,BDD!A272:A10270,BDD!B272:B10270,\" \",0,1)","v":"pti-fuchs@hotmail.fr"},33.626283367556468,12282,"GTWGP_Pti-fuchs GTWGP 16/08/1990 🇫🇷 French N/A PlayStation 5 N/A Volant Thrustmaster A S Platinum 80 Safe 0 N/A N/A 0 N/A GTWGP_Pti-fuchs Florian Fuchs pti-fuchs@hotmail.fr"]
["GTWGP_Registar","GTWGP","7/12/1988","🇫🇷 French","N/A","PlayStation 5","N/A","Volant Fanatec","A+","S","Legend",95,"Safe",0,"N/A","N/A",0,"N/A",{"$f":"HYPERLINK(\"https://www.msleague.fr/?page_id=1502&um_user=GTWGP_Registar\", \"GTWGP_Registar\")","v":"GTWGP_Registar"},"Regis","Ferrand",{"$f":"_xlfn.XLOOKUP(A277,BDD!A273:A10271,BDD!B273:B10271,\" \",0,1)","v":"ferrandregis1@gmail.com"},35.315537303216978,12899,"GTWGP_Registar GTWGP 7/12/1988 🇫🇷 French N/A PlayStation 5 N/A Volant Fanatec A+ S Legend 95 Safe 0 N/A N/A 0 N/A GTWGP_Registar Regis Ferrand ferrandregis1@gmail.com"]
["GTWGP_S_Durif","GTWGP","5/10/1992","🇫🇷 French","N/A","PlayStation 4","N/A","Volant Thrustmaster","A","S","Platinum",80,"Safe",0,"N/A","N/A",0,"N/A",{"$f":"HYPERLINK(\"https://www.msleague.fr/?page_id=1502&um_user=GTWGP_S_Durif\", \"GTWGP_S_Durif\")","v":"GTWGP_S_Durif"},"Mathieu","GAUME",{"$f":"_xlfn.XLOOKUP(A278,BDD!A274:A10272,BDD!B274:B10272,\" \",0,1)","v":"the_190crew@hotmail.fr"},31.488021902806295,11501,"GTWGP_S_Durif GTWGP 5/10/1992 🇫🇷 French N/A PlayStation 4 N/A Volant Thrustmaster A S Platinum 80 Safe 0 N/A N/A 0 N/A GTWGP_S_Durif Mathieu GAUME the_190crew@hotmail.fr"]
["GTWGP_Wilzone99","GTWGP","19/07/1983","🇫🇷 French","N/A","PlayStation 5","N/A","Volant Fanatec","B","S","Gold",60,"Safe",0,"N/A","N/A","N/A","N/A",{"$f":"HYPERLINK(\"https://www.msleague.fr/?page_id=1502&um_user=GTWGP_Wilzone99\", \"GTWGP_Wilzone99\")","v":"GTWGP_Wilzone99"},"Wilson","Zaninetti",{"$f":"_xlfn.XLOOKUP(A279,BDD!A275:A10273,BDD!B275:B10273,\" \",0,1)","v":"wilzone@hotmail.fr"},40.703627652292951,14867,"GTWGP_Wilzone99 GTWGP 19/07/1983 🇫🇷 French N/A PlayStation 5 N/A Volant Fanatec B S Gold 60 Safe 0 N/A N/A N/A N/A GTWGP_Wilzone99 Wilson Zaninetti wilzone@hotmail.fr"]
["GTWGP_Yello","GTWGP","28/07/1971","🇨🇭 Switzerland","ADSL","PlayStation 4","Wifi","Volant Thrustmaster","B","S","Gold",60,"Safe",null,"N/A","N/A","N/A","N/A",{"$f":"HYPERLINK(\"https://www.msleague.fr/?page_id=1502&um_user=GTWGP_Yello\", \"GTWGP_Yello\")","v":"GTWGP_Yello"},"Emmanuel","Fuschetto",{"$f":"_xlfn.XLOOKUP(A280,BDD!A276:A10274,BDD!B276:B10274,\" \",0,1)","v":"emmanuel.71@hotmail.com"},52.67898699520876,19241,"GTWGP_Yello GTWGP 28/07/1971 🇨🇭 Switzerland ADSL PlayStation 4 Wifi Volant Thrustmaster B S Gold 60 Safe  N/A N/A N/A N/A GTWGP_Yello Emmanuel Fuschetto emmanuel.71@hotmail.com"]
["gwened","LPG","3/05/1966","🇫🇷 French","N/A","PlayStation 4","N/A","Volant Logitech","C","A","Silver",40,"Fair-Play",0,"N/A","N/A",0,"N/A",{"$f":"HYPERLINK(\"https://www.msleague.fr/?page_id=1502&um_user=gwened\", \"gwened\")","v":"gwened"},"laurent","le cloerec",{"$f":"_xlfn.XLOOKUP(A281,BDD!A277:A10275,BDD!B277:B10275,\" \",0,1)","v":"lecloerc@yahoo.fr"},57.913757700205338,{"$f":"IF(C281=\"N/A\",\"\",TODAY()-$C281)","v":21153},"gwened LPG 3/05/1966 🇫🇷 French N/A PlayStation 4 N/A Volant Logitech C A Silver 40 Fair-Play 0 N/A N/A 0 N/A gwened laurent le cloerec lecloerc@yahoo.fr"]
["Handek-a-t-fess","Indép.","21/12/1990","🇫🇷 French","Fibre","PlayStation 5","Filaire","Volant Thrustmaster","B","S","Gold",60,"Safe",null,"N/A","N/A","N/A","N/A",{"$f":"HYPERLINK(\"https://www.msleague.fr/?page_id=1502&um_user=Handek-a-t-fess\", \"Handek-a-t-fess\")","v":"Handek-a-t-fess"},"Marvin","Ménager",{"$f":"_xlfn.XLOOKUP(A282,BDD!A278:A10276,BDD!B278:B10276,\" \",0,1)","v":"gta-44@hotmail.fr"},33.278576317590691,12155,"Handek-a-t-fess Indép. 21/12/1990 🇫🇷 French Fibre PlayStation 5 Filaire Volant Thrustmaster B S Gold 60 Safe  N/A N/A N/A N/A Handek-a-t-fess Marvin Ménager gta-44@hotmail.fr"]
["HanLecter06","BKC","14/06/1974","🇫🇷 French","N/A","PlayStation 4","N/A","Manette","B","S","Gold",60,"Safe",0,"N/A","N/A",0,"N/A",{"$f":"HYPERLINK(\"https://www.msleague.fr/?page_id=1502&um_user=HanLecter06\", \"HanLecter06\")","v":"HanLecter06"},"Romuald","Jouenne",{"$f":"_xlfn.XLOOKUP(A283,BDD!A279:A10277,BDD!B279:B10277,\" \",0,1)","v":"batteur-fou@wanadoo.fr"},49.798767967145793,18189,"HanLecter06 BKC 14/06/1974 🇫🇷 French N/A PlayStation 4 N/A Manette B S Gold 60 Safe 0 N/A N/A 0 N/A HanLecter06 Romuald Jouenne batteur-fou@wanadoo.fr"]
["Hapi_14_","PRT","14/11/1995","🇫🇷 French","N/A","PlayStation 5","N/A","Manette","A+","S","Legend",91.33,"Safe",4,1,0,1,0,{"$f":"HYPERLINK(\"https://www.msleague.fr/?page_id=1502&um_user=Hapi_14_\", \"Hapi_14_\")","v":"Hapi_14_"},"Djiby","Sakho",{"$f":"_xlfn.XLOOKUP(A284,BDD!A280:A10278,BDD!B280:B10278,\" \",0,1)","v":"Sakho.djiby.76@gmail.com"},28.380561259411362,10366,"Hapi_14_ PRT 14/11/1995 🇫🇷 French N/A PlayStation 5 N/A Manette A+ S Legend 91,33 Safe 4 1 0 1 0 Hapi_14_ Djiby Sakho Sakho.djiby.76@gmail.com"]
["Harmattan72","NRT","2/12/1972","🇫🇷 French","N/A","PlayStation 5","N/A","Volant Logitech","D","A","Bronze",20,"Fair-Play",0,"N/A","N/A","N/A","N/A",{"$f":"HYPERLINK(\"https://www.msleague.fr/?page_id=1502&um_user=Harmattan72\", \"Harmattan72\")","v":"Harmattan72"},"Eric","Schiano",{"$f":"_xlfn.XLOOKUP(A285,BDD!A281:A10279,BDD!B281:B10279,\" \",0,1)","v":"eschiano@nat-international.net"},51.329226557152637,18748,"Harmattan72 NRT 2/12/1972 🇫🇷 French N/A PlayStation 5 N/A Volant Logitech D A Bronze 20 Fair-Play 0 N/A N/A N/A N/A Harmattan72 Eric Schiano eschiano@nat-international.net"]
["Harry-E-Coyote","FRK","7/02/1971","🇫🇷 French","N/A","PlayStation 5","N/A","Volant Thrustmaster","A","S","Platinum",80,"Safe",0,"N/A","N/A",0,"N/A",{"$f":"HYPERLINK(\"https://www.msleague.fr/?page_id=1502&um_user=Harry-E-Coyote\", \"Harry-E-Coyote\")","v":"Harry-E-Coyote"},"Harold","Vallienne",{"$f":"_xlfn.XLOOKUP(A286,BDD!A282:A10280,BDD!B282:B10280,\" \",0,1)","v":"harryvallie1@gmail.com"},53.147159479808352,19412,"Harry-E-Coyote FRK 7/02/1971 🇫🇷 French N/A PlayStation 5 N/A Volant Thrustmaster A S Platinum 80 Safe 0 N/A N/A 0 N/A Harry-E-Coyote Harold Vallienne harryvallie1@gmail.com"]
["Herbiie_53","Indép.","12/06/2001","🇨🇭 Switzerland","N/A","PlayStation 5","N/A","Volant Fanatec","A+","S","Legend",91.3,"Safe",0,1,0,8,"12,50 %",{"$f":"HYPERLINK(\"https://www.msleague.fr/?page_id=1502&um_user=Herbiie_53\", \"Herbiie_53\")","v":"Herbiie_53"},"Leonard","Heidegger",{"$f":"_xlfn.XLOOKUP(A287,BDD!A283:A10281,BDD!B283:B10281,\" \",0,1)","v":"leon.heidegger@gmail.com"},22.803559206023273,8329,"Herbiie_53 Indép. 12/06/2001 🇨🇭 Switzerland N/A PlayStation 5 N/A Volant Fanatec A+ S Legend 91,3 Safe 0 1 0 8 12,50 % Herbiie_53 Leonard Heidegger leon.heidegger@gmail.com"]
["herthoherve","HRC","3/03/1967","🇫🇷 French","Fibre","PlayStation 5","Filaire","Volant Fanatec","A","S","Platinum",80,"Safe",null,"N/A","N/A","N/A","N/A",{"$f":"HYPERLINK(\"https://www.msleague.fr/?page_id=1502&um_user=herthoherve\", \"herthoherve\")","v":"herthoherve"},"herve","thomassin",{"$f":"_xlfn.XLOOKUP(A288,BDD!A284:A10282,BDD!B284:B10282,\" \",0,1)","v":"hertho2000@yahoo.fr"},57.081451060917182,20849,"herthoherve HRC 3/03/1967 🇫🇷 French Fibre PlayStation 5 Filaire Volant Fanatec A S Platinum 80 Safe  N/A N/A N/A N/A herthoherve herve thomassin hertho2000@yahoo.fr"]
["HIKM_jbfumaca","HIKM","4/05/1985","🇬🇧 English","N/A","PlayStation 5","N/A","Volant Fanatec","A","S","Platinum",80,"Safe",0,"N/A","N/A","N/A","N/A",{"$f":"HYPERLINK(\"https://www.msleague.fr/?page_id=1502&um_user=HIKM_jbfumaca\", \"HIKM_jbfumaca\")","v":"HIKM_jbfumaca"},"bruno","ribeiro",{"$f":"_xlfn.XLOOKUP(A289,BDD!A285:A10283,BDD!B285:B10283,\" \",0,1)","v":"jbfumaca@gmail.com"},38.910335386721421,14212,"HIKM_jbfumaca HIKM 4/05/1985 🇬🇧 English N/A PlayStation 5 N/A Volant Fanatec A S Platinum 80 Safe 0 N/A N/A N/A N/A HIKM_jbfumaca bruno ribeiro jbfumaca@gmail.com"]
["hiroten18","Indép.","7/03/2006","🇯🇵 Japan","ADSL","PlayStation 4","Wifi","Manette","A+","S","Legend",95,"Safe",null,"N/A","N/A","N/A","N/A",{"$f":"HYPERLINK(\"https://www.msleague.fr/?page_id=1502&um_user=hiroten18\", \"hiroten18\")","v":"hiroten18"},"Nishimura","Hiroyasu",{"$f":"_xlfn.XLOOKUP(A290,BDD!A286:A10284,BDD!B286:B10284,\" \",0,1)","v":"hiroten70@gmail.com"},18.069815195071868,6600,"hiroten18 Indép. 7/03/2006 🇯🇵 Japan ADSL PlayStation 4 Wifi Manette A+ S Legend 95 Safe  N/A N/A N/A N/A hiroten18 Nishimura Hiroyasu hiroten70@gmail.com"]
["HoNey_adelsai87","Err. PSN","N/A","N/A","N/A","N/A","N/A","N/A","N/A","N/A","N/A",null,"N/A",null,"N/A","N/A","N/A","N/A",{"$f":"HYPERLINK(\"https://www.msleague.fr/?page_id=1502&um_user=HoNey_adelsai87\", \"HoNey_adelsai87\")","v":"HoNey_adelsai87"},"N/A","N/A",{"$f":"_xlfn.XLOOKUP(A291,BDD!A287:A10285,BDD!B287:B10285,\" \",0,1)","v":"adelsai87@gmail.com"},"","","HoNey_adelsai87 Err. PSN N/A N/A N/A N/A N/A N/A N/A N/A N/A  N/A  N/A N/A N/A N/A HoNey_adelsai87 N/A N/A adelsai87@gmail.com"]
["HoruS","Indép.","31/12/1976","🇫🇷 French","N/A","PlayStation 5","N/A","Volant Fanatec","A","S","Gold",65.959999999999994,"Safe",0,1,"N/A",1,"N/A",{"$f":"HYPERLINK(\"https://www.msleague.fr/?page_id=1502&um_user=HoruS\", \"HoruS\")","v":"HoruS"},"Johann","Hornoy Coignard",{"$f":"_xlfn.XLOOKUP(A292,BDD!A288:A10286,BDD!B288:B10286,\" \",0,1)","v":"j.hornoy@orange.fr"},47.249828884325801,17258,"HoruS Indép. 31/12/1976 🇫🇷 French N/A PlayStation 5 N/A Volant Fanatec A S Gold 65,96 Safe 0 1 N/A 1 N/A HoruS Johann Hornoy Coignard j.hornoy@orange.fr"]
["housedy","BLITZ","27/02/1997","🇫🇷 French","N/A","PlayStation 4","N/A","Volant Logitech","C","S","Silver",40,"Safe",0,"N/A","N/A",0,"N/A",{"$f":"HYPERLINK(\"https://www.msleague.fr/?page_id=1502&um_user=housedy\", \"housedy\")","v":"housedy"},"gregoire","nicolas",{"$f":"_xlfn.XLOOKUP(A293,BDD!A289:A10287,BDD!B289:B10287,\" \",0,1)","v":"greg37psn@gmail.com"},27.091033538672143,9895,"housedy BLITZ 27/02/1997 🇫🇷 French N/A PlayStation 4 N/A Volant Logitech C S Silver 40 Safe 0 N/A N/A 0 N/A housedy gregoire nicolas greg37psn@gmail.com"]
["HRC-Liki_Nauda","HRC","17/08/1989","🇫🇷 French","Fibre","PlayStation 5","Filaire","Volant Thrustmaster","A","S","Platinum",80,"Safe",null,"N/A","N/A","N/A","N/A",{"$f":"HYPERLINK(\"https://www.msleague.fr/?page_id=1502&um_user=HRC-Liki_Nauda\", \"HRC-Liki_Nauda\")","v":"HRC-Liki_Nauda"},"Benoit","Ginoulhac",{"$f":"_xlfn.XLOOKUP(A294,BDD!A290:A10288,BDD!B290:B10288,\" \",0,1)","v":"benoit1603@gmail.com"},34.622861054072551,12646,"HRC-Liki_Nauda HRC 17/08/1989 🇫🇷 French Fibre PlayStation 5 Filaire Volant Thrustmaster A S Platinum 80 Safe  N/A N/A N/A N/A HRC-Liki_Nauda Benoit Ginoulhac benoit1603@gmail.com"]
["Hunter_Gonzaga","HRT","13/03/1987","🇧🇷 Brazil","Fibre","PlayStation 4","Filaire","Manette","A","S","Platinum",80,"Safe",null,"N/A","N/A","N/A","N/A",{"$f":"HYPERLINK(\"https://www.msleague.fr/?page_id=1502&um_user=Hunter_Gonzaga\", \"Hunter_Gonzaga\")","v":"Hunter_Gonzaga"},"Leandro","Gonzaga",{"$f":"_xlfn.XLOOKUP(A295,BDD!A291:A10289,BDD!B291:B10289,\" \",0,1)","v":"leandrocgonzaga@hotmail.com"},37.054072553045856,13534,"Hunter_Gonzaga HRT 13/03/1987 🇧🇷 Brazil Fibre PlayStation 4 Filaire Manette A S Platinum 80 Safe  N/A N/A N/A N/A Hunter_Gonzaga Leandro Gonzaga leandrocgonzaga@hotmail.com"]
["Hunter_Ramirez","HRT","2/01/1980","🇧🇷 Brazil","N/A","PlayStation 5","N/A","Volant Thrustmaster","A+","S","Legend",95,"Safe",0,"N/A","N/A",0,"N/A",{"$f":"HYPERLINK(\"https://www.msleague.fr/?page_id=1502&um_user=Hunter_Ramirez\", \"Hunter_Ramirez\")","v":"Hunter_Ramirez"},"Dan","Ramirez",{"$f":"_xlfn.XLOOKUP(A296,BDD!A292:A10290,BDD!B292:B10290,\" \",0,1)","v":"danielbr1980@gmail.com"},44.246406570841891,16161,"Hunter_Ramirez HRT 2/01/1980 🇧🇷 Brazil N/A PlayStation 5 N/A Volant Thrustmaster A+ S Legend 95 Safe 0 N/A N/A 0 N/A Hunter_Ramirez Dan Ramirez danielbr1980@gmail.com"]
["Hunter_Weverson","HRT","30/10/1989","🇧🇷 Brazil","Câble","PlayStation 4","Filaire","Volant Logitech","S","S","Legend",95,"Safe",null,"N/A","N/A","N/A","N/A",{"$f":"HYPERLINK(\"https://www.msleague.fr/?page_id=1502&um_user=Hunter_Weverson\", \"Hunter_Weverson\")","v":"Hunter_Weverson"},"Weverson","Lucena",{"$f":"_xlfn.XLOOKUP(A297,BDD!A293:A10291,BDD!B293:B10291,\" \",0,1)","v":"weversonlucenasantos@gmail.com"},34.42026009582478,12572,"Hunter_Weverson HRT 30/10/1989 🇧🇷 Brazil Câble PlayStation 4 Filaire Volant Logitech S S Legend 95 Safe  N/A N/A N/A N/A Hunter_Weverson Weverson Lucena weversonlucenasantos@gmail.com"]
["II-SONTOTO-II","EXION","22/01/2007","🇫🇷 French","Box/Partage 3G/4G","PlayStation 5","Wifi","Manette","D","S","Bronze",20,"Safe",null,"N/A","N/A","N/A","N/A",{"$f":"HYPERLINK(\"https://www.msleague.fr/?page_id=1502&um_user=II-SONTOTO-II\", \"II-SONTOTO-II\")","v":"II-SONTOTO-II"},"Mathéo","Lacour",{"$f":"_xlfn.XLOOKUP(A298,BDD!A294:A10292,BDD!B294:B10292,\" \",0,1)","v":"matheolac18@gmail.com"},17.190965092402465,6279,"II-SONTOTO-II EXION 22/01/2007 🇫🇷 French Box/Partage 3G/4G PlayStation 5 Wifi Manette D S Bronze 20 Safe  N/A N/A N/A N/A II-SONTOTO-II Mathéo Lacour matheolac18@gmail.com"]
["ImNocium","Indép.","31/03/1997","🇫🇷 French","N/A","PlayStation 4","N/A","Volant Logitech","B","S","Gold",60,"Safe",0,"N/A","N/A",0,"N/A",{"$f":"HYPERLINK(\"https://www.msleague.fr/?page_id=1502&um_user=ImNocium\", \"ImNocium\")","v":"ImNocium"},"micka","Moissinac",{"$f":"_xlfn.XLOOKUP(A299,BDD!A295:A10293,BDD!B295:B10293,\" \",0,1)","v":"nocium9@gmail.com"},27.003422313483917,9863,"ImNocium Indép. 31/03/1997 🇫🇷 French N/A PlayStation 4 N/A Volant Logitech B S Gold 60 Safe 0 N/A N/A 0 N/A ImNocium micka Moissinac nocium9@gmail.com"]
["Inter6150","Indép.","23/01/1989","🇮🇹 Italy","N/A","PlayStation 5","N/A","Manette","A","S","Platinum",80,"Safe",0,"N/A","N/A",0,"N/A",{"$f":"HYPERLINK(\"https://www.msleague.fr/?page_id=1502&um_user=Inter6150\", \"Inter6150\")","v":"Inter6150"},"Mike","Gaetani",{"$f":"_xlfn.XLOOKUP(A300,BDD!A296:A10294,BDD!B296:B10294,\" \",0,1)","v":"Mike6150@outlook.be"},35.186858316221766,12852,"Inter6150 Indép. 23/01/1989 🇮🇹 Italy N/A PlayStation 5 N/A Manette A S Platinum 80 Safe 0 N/A N/A 0 N/A Inter6150 Mike Gaetani Mike6150@outlook.be"]
["IronNoah91410","Indép.","9/02/2009","🇫🇷 French","ADSL","PlayStation 4","Filaire","Volant Logitech","B","B","Gold",60,"Batailleur",null,"N/A","N/A","N/A","N/A",{"$f":"HYPERLINK(\"https://www.msleague.fr/?page_id=1502&um_user=IronNoah91410\", \"IronNoah91410\")","v":"IronNoah91410"},"Noah","Oliveira",{"$f":"_xlfn.XLOOKUP(A301,BDD!A297:A10295,BDD!B297:B10295,\" \",0,1)","v":"oliveiranoah91@gmail.com"},15.14031485284052,5530,"IronNoah91410 Indép. 9/02/2009 🇫🇷 French ADSL PlayStation 4 Filaire Volant Logitech B B Gold 60 Batailleur  N/A N/A N/A N/A IronNoah91410 Noah Oliveira oliveiranoah91@gmail.com"]
["IRT_Manu_Nismo","IRT","12/12/1977","🇧🇪 Belgium","N/A","PlayStation 5","N/A","Volant Thrustmaster","B","S","Gold",60,"Safe",0,"N/A","N/A",0,"N/A",{"$f":"HYPERLINK(\"https://www.msleague.fr/?page_id=1502&um_user=IRT_Manu_Nismo\", \"IRT_Manu_Nismo\")","v":"IRT_Manu_Nismo"},"Emmanuel","Motte",{"$f":"_xlfn.XLOOKUP(A302,BDD!A298:A10296,BDD!B298:B10296,\" \",0,1)","v":"Manudarkangel65@gmail.com"},46.3025325119781,16912,"IRT_Manu_Nismo IRT 12/12/1977 🇧🇪 Belgium N/A PlayStation 5 N/A Volant Thrustmaster B S Gold 60 Safe 0 N/A N/A 0 N/A IRT_Manu_Nismo Emmanuel Motte Manudarkangel65@gmail.com"]
["iSlayanTv_","Indép.","8/05/2001","🇧🇪 Belgium","N/A","PlayStation 4","N/A","Volant Thrustmaster","B","S","Gold",60,"Safe",0,"N/A","N/A",0,"N/A",{"$f":"HYPERLINK(\"https://www.msleague.fr/?page_id=1502&um_user=iSlayanTv_\", \"iSlayanTv_\")","v":"iSlayanTv_"},"Stephan","Holtzheimer",{"$f":"_xlfn.XLOOKUP(A303,BDD!A299:A10297,BDD!B299:B10297,\" \",0,1)","v":"stephanholtzheimer@hotmail.com"},22.899383983572896,8364,"iSlayanTv_ Indép. 8/05/2001 🇧🇪 Belgium N/A PlayStation 4 N/A Volant Thrustmaster B S Gold 60 Safe 0 N/A N/A 0 N/A iSlayanTv_ Stephan Holtzheimer stephanholtzheimer@hotmail.com"]
["IVRT_LUDO","IVRT","7/01/1989","🇫🇷 French","Fibre","PlayStation 4","Filaire","Manette","A","S","Platinum",80,"Safe",null,"N/A","N/A","N/A","N/A",{"$f":"HYPERLINK(\"https://www.msleague.fr/?page_id=1502&um_user=IVRT_LUDO\", \"IVRT_LUDO\")","v":"IVRT_LUDO"},"Ludovic","Thiebaut",{"$f":"_xlfn.XLOOKUP(A304,BDD!A300:A10298,BDD!B300:B10298,\" \",0,1)","v":"ludo.spib@gmail.com"},35.230663928815879,12868,"IVRT_LUDO IVRT 7/01/1989 🇫🇷 French Fibre PlayStation 4 Filaire Manette A S Platinum 80 Safe  N/A N/A N/A N/A IVRT_LUDO Ludovic Thiebaut ludo.spib@gmail.com"]
["Izt_ycar2009","TAM","20/10/2006","🇫🇷 French","Fibre","PlayStation 5","Wifi","Volant Thrustmaster","A+","S","Legend",95,"Safe",0,"N/A","N/A","N/A","N/A",{"$f":"HYPERLINK(\"https://www.msleague.fr/?page_id=1502&um_user=Izt_ycar2009\", \"Izt_ycar2009\")","v":"Izt_ycar2009"},"David","Yao",{"$f":"_xlfn.XLOOKUP(A305,BDD!A301:A10299,BDD!B301:B10299,\" \",0,1)","v":"davidobasketo47@gmail.com"},17.448323066392881,6373,"Izt_ycar2009 TAM 20/10/2006 🇫🇷 French Fibre PlayStation 5 Wifi Volant Thrustmaster A+ S Legend 95 Safe 0 N/A N/A N/A N/A Izt_ycar2009 David Yao davidobasketo47@gmail.com"]
["Izunyine","Indép.","11/07/2006","🇮🇪 Ireland","Box/Partage 3G/4G","PlayStation 5","Wifi","Volant Fanatec","A+","S","Legend",95,"Safe",null,"N/A","N/A","N/A","N/A",{"$f":"HYPERLINK(\"https://www.msleague.fr/?page_id=1502&um_user=Izunyine\", \"Izunyine\")","v":"Izunyine"},"Kamto","Chukwureh",{"$f":"_xlfn.XLOOKUP(A306,BDD!A302:A10300,BDD!B302:B10300,\" \",0,1)","v":"chukwurehfamily@gmail.com"},17.724845995893222,6474,"Izunyine Indép. 11/07/2006 🇮🇪 Ireland Box/Partage 3G/4G PlayStation 5 Wifi Volant Fanatec A+ S Legend 95 Safe  N/A N/A N/A N/A Izunyine Kamto Chukwureh chukwurehfamily@gmail.com"]
["Jackbalding25","BS+","9/02/2008","🇬🇧 English","Câble","PlayStation 5","Filaire","Volant Fanatec","A+","S","Legend",95,"Safe",null,"N/A","N/A","N/A","N/A",{"$f":"HYPERLINK(\"https://www.msleague.fr/?page_id=1502&um_user=Jackbalding25\", \"Jackbalding25\")","v":"Jackbalding25"},"Jack","Balding",{"$f":"_xlfn.XLOOKUP(A307,BDD!A303:A10301,BDD!B303:B10301,\" \",0,1)","v":"jackpbalding@icloud.com"},16.142368240930868,5896,"Jackbalding25 BS+ 9/02/2008 🇬🇧 English Câble PlayStation 5 Filaire Volant Fanatec A+ S Legend 95 Safe  N/A N/A N/A N/A Jackbalding25 Jack Balding jackpbalding@icloud.com"]
["Jahmatik13","Indép.","15/07/1988","🇫🇷 French","N/A","PlayStation 5","N/A","Volant Thrustmaster","B","B","Gold",60,"Batailleur",0,"N/A","N/A","N/A","N/A",{"$f":"HYPERLINK(\"https://www.msleague.fr/?page_id=1502&um_user=Jahmatik13\", \"Jahmatik13\")","v":"Jahmatik13"},"Yann","Latouche",{"$f":"_xlfn.XLOOKUP(A308,BDD!A304:A10302,BDD!B304:B10302,\" \",0,1)","v":"yannlatouche13@gmail.com"},35.71252566735113,13044,"Jahmatik13 Indép. 15/07/1988 🇫🇷 French N/A PlayStation 5 N/A Volant Thrustmaster B B Gold 60 Batailleur 0 N/A N/A N/A N/A Jahmatik13 Yann Latouche yannlatouche13@gmail.com"]
["JakCellAir","PRiMA","7/02/1971","🇫🇷 French","Fibre","PlayStation 5","Filaire","Manette","A","S","Platinum",80,"Safe",0,"N/A","N/A","N/A","N/A",{"$f":"HYPERLINK(\"https://www.msleague.fr/?page_id=1502&um_user=JakCellAir\", \"JakCellAir\")","v":"JakCellAir"},"Jacques","Camara",{"$f":"_xlfn.XLOOKUP(A309,BDD!A305:A10303,BDD!B305:B10303,\" \",0,1)","v":"jakcellair@orange.fr"},53.147159479808352,19412,"JakCellAir PRiMA 7/02/1971 🇫🇷 French Fibre PlayStation 5 Filaire Manette A S Platinum 80 Safe 0 N/A N/A N/A N/A JakCellAir Jacques Camara jakcellair@orange.fr"]
["Jeremias1007","BROT","10/07/2008","🇧🇷 Brazil","Câble","PlayStation 5","Filaire","Volant Fanatec","A","A","Platinum",80,"Fair-Play",null,"N/A","N/A","N/A","N/A",{"$f":"HYPERLINK(\"https://www.msleague.fr/?page_id=1502&um_user=Jeremias1007\", \"Jeremias1007\")","v":"Jeremias1007"},"Caio","Poso",{"$f":"_xlfn.XLOOKUP(A310,BDD!A306:A10304,BDD!B306:B10304,\" \",0,1)","v":"caiofposo@gmail.com"},15.72621492128679,5744,"Jeremias1007 BROT 10/07/2008 🇧🇷 Brazil Câble PlayStation 5 Filaire Volant Fanatec A A Platinum 80 Fair-Play  N/A N/A N/A N/A Jeremias1007 Caio Poso caiofposo@gmail.com"]
["jeremy-44---","Indép.","21/11/2007","🇧🇪 Belgium","N/A","PlayStation 5","N/A","Volant Logitech","A+","S","Legend",95,"Safe",0,"N/A","N/A",0,"N/A",{"$f":"HYPERLINK(\"https://www.msleague.fr/?page_id=1502&um_user=jeremy-44---\", \"jeremy-44---\")","v":"jeremy-44---"},"Jeremy","Devigne",{"$f":"_xlfn.XLOOKUP(A311,BDD!A307:A10305,BDD!B307:B10305,\" \",0,1)","v":"jeremydevigne21@gmail.com"},16.361396303901437,5976,"jeremy-44--- Indép. 21/11/2007 🇧🇪 Belgium N/A PlayStation 5 N/A Volant Logitech A+ S Legend 95 Safe 0 N/A N/A 0 N/A jeremy-44--- Jeremy Devigne jeremydevigne21@gmail.com"]
["Jeune_brigand67","Indép.","30/03/1992","🇫🇷 French","Fibre","PlayStation 4","Wifi","Manette","B","S","Gold",60,"Safe",null,"N/A","N/A","N/A","N/A",{"$f":"HYPERLINK(\"https://www.msleague.fr/?page_id=1502&um_user=Jeune_brigand67\", \"Jeune_brigand67\")","v":"Jeune_brigand67"},"Florian","GASSER",{"$f":"_xlfn.XLOOKUP(A312,BDD!A308:A10306,BDD!B308:B10306,\" \",0,1)","v":"Florian.gasser67@gmail.com"},32.005475701574262,11690,"Jeune_brigand67 Indép. 30/03/1992 🇫🇷 French Fibre PlayStation 4 Wifi Manette B S Gold 60 Safe  N/A N/A N/A N/A Jeune_brigand67 Florian GASSER Florian.gasser67@gmail.com"]
["JJRT_divas_sk","JJRT","30/09/1984","🇸🇰 Slovakia","Câble","PlayStation 4","Wifi","Volant Thrustmaster","A+","S","Legend",95,"Safe",null,"N/A","N/A","N/A","N/A",{"$f":"HYPERLINK(\"https://www.msleague.fr/?page_id=1502&um_user=JJRT_divas_sk\", \"JJRT_divas_sk\")","v":"JJRT_divas_sk"},"Stanislav","Valigura",{"$f":"_xlfn.XLOOKUP(A313,BDD!A309:A10307,BDD!B309:B10307,\" \",0,1)","v":"svaligura1984@gmail.com"},39.501711156741955,14428,"JJRT_divas_sk JJRT 30/09/1984 🇸🇰 Slovakia Câble PlayStation 4 Wifi Volant Thrustmaster A+ S Legend 95 Safe  N/A N/A N/A N/A JJRT_divas_sk Stanislav Valigura svaligura1984@gmail.com"]
["jmeux47","FRK","13/10/1971","🇫🇷 French","N/A","PlayStation 4","N/A","Manette","B","S","Gold",60,"Safe",0,"N/A","N/A",0,"N/A",{"$f":"HYPERLINK(\"https://www.msleague.fr/?page_id=1502&um_user=jmeux47\", \"jmeux47\")","v":"jmeux47"},"jean marc","prieur",{"$f":"_xlfn.XLOOKUP(A314,BDD!A310:A10308,BDD!B310:B10308,\" \",0,1)","v":"jmprieur@onet.fr"},52.468172484599592,19164,"jmeux47 FRK 13/10/1971 🇫🇷 French N/A PlayStation 4 N/A Manette B S Gold 60 Safe 0 N/A N/A 0 N/A jmeux47 jean marc prieur jmprieur@onet.fr"]
["Johann85140","RWS","8/03/1987","🇫🇷 French","Fibre","PlayStation 5","Filaire","Volant Thrustmaster","C","S","Silver",40,"Safe",null,"N/A","N/A","N/A","N/A",{"$f":"HYPERLINK(\"https://www.msleague.fr/?page_id=1502&um_user=Johann85140\", \"Johann85140\")","v":"Johann85140"},"Johann","Bellanger",{"$f":"_xlfn.XLOOKUP(A315,BDD!A311:A10309,BDD!B311:B10309,\" \",0,1)","v":"bellangerjohann@gmail.com"},37.067761806981522,13539,"Johann85140 RWS 8/03/1987 🇫🇷 French Fibre PlayStation 5 Filaire Volant Thrustmaster C S Silver 40 Safe  N/A N/A N/A N/A Johann85140 Johann Bellanger bellangerjohann@gmail.com"]
["JonaMas82","BKC","21/10/1982","🇧🇪 Belgium","N/A","PlayStation 5","N/A","Volant Fanatec","D","S","Bronze",20,"Safe",0,"N/A","N/A",0,"N/A",{"$f":"HYPERLINK(\"https://www.msleague.fr/?page_id=1502&um_user=JonaMas82\", \"JonaMas82\")","v":"JonaMas82"},"Jonathan","Massuyr",{"$f":"_xlfn.XLOOKUP(A316,BDD!A312:A10310,BDD!B312:B10310,\" \",0,1)","v":"Massuyr_j@hotmail.com"},41.445585215605746,15138,"JonaMas82 BKC 21/10/1982 🇧🇪 Belgium N/A PlayStation 5 N/A Volant Fanatec D S Bronze 20 Safe 0 N/A N/A 0 N/A JonaMas82 Jonathan Massuyr Massuyr_j@hotmail.com"]
["Jonirep-FTE","Indép.","24/07/1986","🇫🇷 French","N/A","PlayStation 5","N/A","Volant Fanatec","A+","S","Legend",90.51,"Safe",0,1,"N/A",8,"N/A",{"$f":"HYPERLINK(\"https://www.msleague.fr/?page_id=1502&um_user=Jonirep-FTE\", \"Jonirep-FTE\")","v":"Jonirep-FTE"},"Jonathan","Marco",{"$f":"_xlfn.XLOOKUP(A317,BDD!A313:A10311,BDD!B313:B10311,\" \",0,1)","v":"jonathan.marco83@gmail.com"},37.68925393566051,13766,"Jonirep-FTE Indép. 24/07/1986 🇫🇷 French N/A PlayStation 5 N/A Volant Fanatec A+ S Legend 90,51 Safe 0 1 N/A 8 N/A Jonirep-FTE Jonathan Marco jonathan.marco83@gmail.com"]
["JorgeAR_5","MB","18/05/2005","🇪🇸 Spain","Fibre","PlayStation 5","Wifi","Volant Fanatec","A+","S","Legend",95,"Safe",null,"N/A","N/A","N/A","N/A",{"$f":"HYPERLINK(\"https://www.msleague.fr/?page_id=1502&um_user=JorgeAR_5\", \"JorgeAR_5\")","v":"JorgeAR_5"},"Jorge","Álvarez",{"$f":"_xlfn.XLOOKUP(A318,BDD!A314:A10312,BDD!B314:B10312,\" \",0,1)","v":"jorgealvarezramos05@gmail.com"},18.872005475701574,6893,"JorgeAR_5 MB 18/05/2005 🇪🇸 Spain Fibre PlayStation 5 Wifi Volant Fanatec A+ S Legend 95 Safe  N/A N/A N/A N/A JorgeAR_5 Jorge Álvarez jorgealvarezramos05@gmail.com"]
["Josselin-97","LPG","21/08/1997","🇫🇷 French","N/A","PlayStation 4","N/A","Manette","D","B","Bronze",18.07,"Fair-Play",0,1,"N/A",6,"N/A",{"$f":"HYPERLINK(\"https://www.msleague.fr/?page_id=1502&um_user=Josselin-97\", \"Josselin-97\")","v":"Josselin-97"},"Josselin","Debessel",{"$f":"_xlfn.XLOOKUP(A319,BDD!A315:A10313,BDD!B315:B10313,\" \",0,1)","v":"Josselindebessel41@gmail.com"},26.611909650924023,9720,"Josselin-97 LPG 21/08/1997 🇫🇷 French N/A PlayStation 4 N/A Manette D B Bronze 18,07 Fair-Play 0 1 N/A 6 N/A Josselin-97 Josselin Debessel Josselindebessel41@gmail.com"]
["JTSR_Potenza46","JTSR","18/01/1992","🇮🇹 Italy","N/A","PlayStation 4","N/A","Volant Thrustmaster","A","S","Platinum",80,"Safe",0,"N/A","N/A",0,"N/A",{"$f":"HYPERLINK(\"https://www.msleague.fr/?page_id=1502&um_user=JTSR_Potenza46\", \"JTSR_Potenza46\")","v":"JTSR_Potenza46"},"Luca","Gardani",{"$f":"_xlfn.XLOOKUP(A320,BDD!A316:A10314,BDD!B316:B10314,\" \",0,1)","v":"lucagardani1992@gmail.com"},32.202600958247778,11762,"JTSR_Potenza46 JTSR 18/01/1992 🇮🇹 Italy N/A PlayStation 4 N/A Volant Thrustmaster A S Platinum 80 Safe 0 N/A N/A 0 N/A JTSR_Potenza46 Luca Gardani lucagardani1992@gmail.com"]
["julesdp0610","Indép.","24/11/1984","🇧🇪 Belgium","N/A","PlayStation 5","N/A","Volant Logitech","B","S","Gold",60,"Safe",0,"N/A","N/A",0,"N/A",{"$f":"HYPERLINK(\"https://www.msleague.fr/?page_id=1502&um_user=julesdp0610\", \"julesdp0610\")","v":"julesdp0610"},"Julien","De Pril",{"$f":"_xlfn.XLOOKUP(A321,BDD!A317:A10315,BDD!B317:B10315,\" \",0,1)","v":"julien.depril@gmail.com"},39.351129363449694,14373,"julesdp0610 Indép. 24/11/1984 🇧🇪 Belgium N/A PlayStation 5 N/A Volant Logitech B S Gold 60 Safe 0 N/A N/A 0 N/A julesdp0610 Julien De Pril julien.depril@gmail.com"]
["JV2_JeanMi","JV2","12/06/1963","🇫🇷 French","N/A","PlayStation 4","N/A","Manette","B","S","Gold",60,"Safe",0,"N/A","N/A","N/A","N/A",{"$f":"HYPERLINK(\"https://www.msleague.fr/?page_id=1502&um_user=JV2_JeanMi\", \"JV2_JeanMi\")","v":"JV2_JeanMi"},"Jean Michel","CAILLAUD",{"$f":"_xlfn.XLOOKUP(A322,BDD!A318:A10316,BDD!B318:B10316,\" \",0,1)","v":"espritcreations2020@outlook.fr"},60.804928131416837,22209,"JV2_JeanMi JV2 12/06/1963 🇫🇷 French N/A PlayStation 4 N/A Manette B S Gold 60 Safe 0 N/A N/A N/A N/A JV2_JeanMi Jean Michel CAILLAUD espritcreations2020@outlook.fr"]
["K3rax21","Indép.","21/11/1979","🇫🇷 French","VDSL","PlayStation 5","Filaire","Volant Thrustmaster","B","S","Gold",60,"Safe",0,"N/A","N/A","N/A","N/A",{"$f":"HYPERLINK(\"https://www.msleague.fr/?page_id=1502&um_user=K3rax21\", \"K3rax21\")","v":"K3rax21"},"Anthony","Michel",{"$f":"_xlfn.XLOOKUP(A323,BDD!A319:A10317,BDD!B319:B10317,\" \",0,1)","v":"Anthony.michel14@orange.fr"},44.361396303901437,16203,"K3rax21 Indép. 21/11/1979 🇫🇷 French VDSL PlayStation 5 Filaire Volant Thrustmaster B S Gold 60 Safe 0 N/A N/A N/A N/A K3rax21 Anthony Michel Anthony.michel14@orange.fr"]
["Kaeyembe","TYR","28/04/1997","🇧🇪 Belgium","N/A","PlayStation 4","N/A","Manette","B","S","Gold",60,"Safe",0,"N/A","N/A","N/A","N/A",{"$f":"HYPERLINK(\"https://www.msleague.fr/?page_id=1502&um_user=Kaeyembe\", \"Kaeyembe\")","v":"Kaeyembe"},"Grady","Kayembe",{"$f":"_xlfn.XLOOKUP(A324,BDD!A320:A10318,BDD!B320:B10318,\" \",0,1)","v":"kaeyembe@gmail.com"},26.926762491444215,9835,"Kaeyembe TYR 28/04/1997 🇧🇪 Belgium N/A PlayStation 4 N/A Manette B S Gold 60 Safe 0 N/A N/A N/A N/A Kaeyembe Grady Kayembe kaeyembe@gmail.com"]
["KCF_Jordan","KCF","15/08/1994","🇫🇷 French","N/A","PlayStation 5","N/A","Volant Thrustmaster","A","S","Platinum",80,"Safe",0,"N/A","N/A",0,"N/A",{"$f":"HYPERLINK(\"https://www.msleague.fr/?page_id=1502&um_user=KCF_Jordan\", \"KCF_Jordan\")","v":"KCF_Jordan"},"Jordan","QUENARD",{"$f":"_xlfn.XLOOKUP(A325,BDD!A321:A10319,BDD!B321:B10319,\" \",0,1)","v":"jordan.quenard01@gmail.com"},{"$f":"IF(X325=\"\",\"\",CONVERT(X325,\"day\",\"yr\"))","v":29.629021218343599},10822,"KCF_Jordan KCF 15/08/1994 🇫🇷 French N/A PlayStation 5 N/A Volant Thrustmaster A S Platinum 80 Safe 0 N/A N/A 0 N/A KCF_Jordan Jordan QUENARD jordan.quenard01@gmail.com"]
["kenzyfishy69","Indép.","4/05/2011","🇧🇪 Belgium","N/A","PlayStation 5","N/A","Volant Thrustmaster","C","A","Silver",38.74,"Fair-Play",0,"N/A",0,0,0,{"$f":"HYPERLINK(\"https://www.msleague.fr/?page_id=1502&um_user=kenzyfishy69\", \"kenzyfishy69\")","v":"kenzyfishy69"},"Noah","Bastenier",{"$f":"_xlfn.XLOOKUP(A326,BDD!A322:A10320,BDD!B322:B10320,\" \",0,1)","v":"davidfcb6969@gmail.com"},12.91170431211499,4716,{"$f":"A326 & \" \" & B326 & \" \" & C326 & \" \" & D326 & \" \" & E326 & \" \" & F326 & \" \" & G326 & \" \" & H326 & \" \" & I326 & \" \" & J326 & \" \" & K326 & \" \" & L326 & \" \" & M326 & \" \" & N326 & \" \" & O326 & \" \" & P326 & \" \" &Q326 & \" \" & R326 & \" \" & S326 & \" \" & T326 & \" \" & U326 & \" \" & V326","v":"kenzyfishy69 Indép. 4/05/2011 🇧🇪 Belgium N/A PlayStation 5 N/A Volant Thrustmaster C A Silver 38,74 Fair-Play 0 N/A 0 0 0 kenzyfishy69 Noah Bastenier davidfcb6969@gmail.com"}]
["kidpharaon","Indép.","30/10/1968","🇫🇷 French","N/A","PlayStation 4","N/A","Manette","B","S","Gold",60,"Safe",0,"N/A","N/A",0,"N/A",{"$f":"HYPERLINK(\"https://www.msleague.fr/?page_id=1502&um_user=kidpharaon\", \"kidpharaon\")","v":"kidpharaon"},"ghislain","lerond",{"$f":"_xlfn.XLOOKUP(A327,BDD!A323:A10321,BDD!B323:B10321,\" \",0,1)","v":"g.lerond@hotmail.fr"},55.419575633127998,20242,"kidpharaon Indép. 30/10/1968 🇫🇷 French N/A PlayStation 4 N/A Manette B S Gold 60 Safe 0 N/A N/A 0 N/A kidpharaon ghislain lerond g.lerond@hotmail.fr"]
["killer45special","Indép.","8/09/1966","🇫🇷 French","N/A","PlayStation 5","N/A","Volant Fanatec","D","B","Bronze",20,"Batailleur",0,"N/A","N/A","N/A","N/A",{"$f":"HYPERLINK(\"https://www.msleague.fr/?page_id=1502&um_user=killer45special\", \"killer45special\")","v":"killer45special"},"Fabrice","dubail",{"$f":"_xlfn.XLOOKUP(A328,BDD!A324:A10322,BDD!B324:B10322,\" \",0,1)","v":"schachka@yahoo.com"},57.563312799452433,21025,"killer45special Indép. 8/09/1966 🇫🇷 French N/A PlayStation 5 N/A Volant Fanatec D B Bronze 20 Batailleur 0 N/A N/A N/A N/A killer45special Fabrice dubail schachka@yahoo.com"]
["KIMO-200qi","Indép.","13/06/2009","🇫🇷 French","N/A","PlayStation 5","N/A","Manette","B","A","Gold",60,"Fair-Play",0,"N/A","N/A",0,"N/A",{"$f":"HYPERLINK(\"https://www.msleague.fr/?page_id=1502&um_user=KIMO-200qi\", \"KIMO-200qi\")","v":"KIMO-200qi"},"Yannis","Eps",{"$f":"_xlfn.XLOOKUP(A329,BDD!A325:A10323,BDD!B325:B10323,\" \",0,1)","v":"yanniseps7@gmail.com"},14.80082135523614,5406,"KIMO-200qi Indép. 13/06/2009 🇫🇷 French N/A PlayStation 5 N/A Manette B A Gold 60 Fair-Play 0 N/A N/A 0 N/A KIMO-200qi Yannis Eps yanniseps7@gmail.com"]
["kingbst_croug","KingBST","3/11/1980","🇧🇪 Belgium","N/A","PlayStation 5","N/A","Volant Thrustmaster","A","S","Platinum",80,"Safe",0,"N/A","N/A",0,"N/A",{"$f":"HYPERLINK(\"https://www.msleague.fr/?page_id=1502&um_user=kingbst_croug\", \"kingbst_croug\")","v":"kingbst_croug"},"Jean Michel","Braine",{"$f":"_xlfn.XLOOKUP(A330,BDD!A326:A10324,BDD!B326:B10324,\" \",0,1)","v":"silverhawksss@hotmail.fr"},43.408624229979466,15855,"kingbst_croug KingBST 3/11/1980 🇧🇪 Belgium N/A PlayStation 5 N/A Volant Thrustmaster A S Platinum 80 Safe 0 N/A N/A 0 N/A kingbst_croug Jean Michel Braine silverhawksss@hotmail.fr"]
["Kingbst_jack","KingBST","21/11/1977","🇧🇪 Belgium","N/A","PlayStation 5","N/A","Volant Fanatec","A","S","Platinum",80,"Safe",0,"N/A","N/A",0,"N/A",{"$f":"HYPERLINK(\"https://www.msleague.fr/?page_id=1502&um_user=Kingbst_jack\", \"Kingbst_jack\")","v":"Kingbst_jack"},"Jacques","Loly",{"$f":"_xlfn.XLOOKUP(A331,BDD!A327:A10325,BDD!B327:B10325,\" \",0,1)","v":"caddy2111@hotmail.com"},46.360027378507873,16933,"Kingbst_jack KingBST 21/11/1977 🇧🇪 Belgium N/A PlayStation 5 N/A Volant Fanatec A S Platinum 80 Safe 0 N/A N/A 0 N/A Kingbst_jack Jacques Loly caddy2111@hotmail.com"]
["Kingbst_subar55","Kingbst","2/11/2023","🇧🇪 Belgium","Câble","PlayStation 4","CPL","Volant Logitech","A","S","Platinum",80,"Safe",null,"N/A","N/A","N/A","N/A",{"$f":"HYPERLINK(\"https://www.msleague.fr/?page_id=1502&um_user=Kingbst_subar55\", \"Kingbst_subar55\")","v":"Kingbst_subar55"},"Humphrey","Herbillon",{"$f":"_xlfn.XLOOKUP(A332,BDD!A328:A10326,BDD!B328:B10326,\" \",0,1)","v":"Herbillonh@hotmail.com"},0.4134154688569473,151,"Kingbst_subar55 Kingbst 2/11/2023 🇧🇪 Belgium Câble PlayStation 4 CPL Volant Logitech A S Platinum 80 Safe  N/A N/A N/A N/A Kingbst_subar55 Humphrey Herbillon Herbillonh@hotmail.com"]
["KiNgBST_Yan","KingBST","8/06/1980","🇧🇪 Belgium","N/A","PlayStation 4","N/A","Volant Logitech","B","S","Gold",60,"Safe",0,"N/A","N/A",0,"N/A",{"$f":"HYPERLINK(\"https://www.msleague.fr/?page_id=1502&um_user=KiNgBST_Yan\", \"KiNgBST_Yan\")","v":"KiNgBST_Yan"},"Yannic","Stammen",{"$f":"_xlfn.XLOOKUP(A333,BDD!A329:A10327,BDD!B329:B10327,\" \",0,1)","v":"Stammenyannic08@gmail.com"},43.813826146475016,16003,"KiNgBST_Yan KingBST 8/06/1980 🇧🇪 Belgium N/A PlayStation 4 N/A Volant Logitech B S Gold 60 Safe 0 N/A N/A 0 N/A KiNgBST_Yan Yannic Stammen Stammenyannic08@gmail.com"]
["KRK_Caiman_74","KRK","13/02/2003","🇪🇸 Spain","N/A","PlayStation 5","N/A","Volant Fanatec","A+","S","Legend",97.45,"Safe",0,1,1,1,1,{"$f":"HYPERLINK(\"https://www.msleague.fr/?page_id=1502&um_user=KRK_Caiman_74\", \"KRK_Caiman_74\")","v":"KRK_Caiman_74"},"Mario","Camañes Artiaga",{"$f":"_xlfn.XLOOKUP(A334,BDD!A330:A10328,BDD!B330:B10328,\" \",0,1)","v":"mariocamanes74@gmail.com"},21.130732375085557,7718,"KRK_Caiman_74 KRK 13/02/2003 🇪🇸 Spain N/A PlayStation 5 N/A Volant Fanatec A+ S Legend 97,45 Safe 0 1 1 1 1 KRK_Caiman_74 Mario Camañes Artiaga mariocamanes74@gmail.com"]
["KRT_Alisson","BRT","1/07/1994","🇧🇷 Brazil","Câble","PlayStation 4","Filaire","Volant Logitech","A","S","Platinum",80,"Safe",null,"N/A","N/A","N/A","N/A",{"$f":"HYPERLINK(\"https://www.msleague.fr/?page_id=1502&um_user=KRT_Alisson\", \"KRT_Alisson\")","v":"KRT_Alisson"},"Alisson","Alisson",{"$f":"_xlfn.XLOOKUP(A335,BDD!A331:A10329,BDD!B331:B10329,\" \",0,1)","v":"alissondarochakilian1@gmail.com"},29.752224503764545,10867,"KRT_Alisson BRT 1/07/1994 🇧🇷 Brazil Câble PlayStation 4 Filaire Volant Logitech A S Platinum 80 Safe  N/A N/A N/A N/A KRT_Alisson Alisson Alisson alissondarochakilian1@gmail.com"]
["KSM_Chorbo-Neno","KSM","7/09/1981","🇪🇸 Spain","Fibre","PlayStation 5","Wifi","Volant Thrustmaster","A","A","Platinum",80,"Fair-Play",null,"N/A","N/A","N/A","N/A",{"$f":"HYPERLINK(\"https://www.msleague.fr/?page_id=1502&um_user=KSM_Chorbo-Neno\", \"KSM_Chorbo-Neno\")","v":"KSM_Chorbo-Neno"},"Enrique","Piñeiro",{"$f":"_xlfn.XLOOKUP(A336,BDD!A332:A10330,BDD!B332:B10330,\" \",0,1)","v":"Kikepineiro@gmail.com"},42.565366187542779,15547,"KSM_Chorbo-Neno KSM 7/09/1981 🇪🇸 Spain Fibre PlayStation 5 Wifi Volant Thrustmaster A A Platinum 80 Fair-Play  N/A N/A N/A N/A KSM_Chorbo-Neno Enrique Piñeiro Kikepineiro@gmail.com"]
["KSM_DIHONDIA","KSM","11/06/2000","🇪🇸 Spain","Câble","PlayStation 5","Filaire","Volant Fanatec","A+","S","Platinum",84.16,"Safe",0,1,"N/A",1,"N/A",{"$f":"HYPERLINK(\"https://www.msleague.fr/?page_id=1502&um_user=KSM_DIHONDIA\", \"KSM_DIHONDIA\")","v":"KSM_DIHONDIA"},"Carlos","Hernández",{"$f":"_xlfn.XLOOKUP(A337,BDD!A333:A10331,BDD!B333:B10331,\" \",0,1)","v":"dihondia@gmail.com"},23.805612594113622,8695,"KSM_DIHONDIA KSM 11/06/2000 🇪🇸 Spain Câble PlayStation 5 Filaire Volant Fanatec A+ S Platinum 84,16 Safe 0 1 N/A 1 N/A KSM_DIHONDIA Carlos Hernández dihondia@gmail.com"]
["KSM_Rusaco_721","KSM","3/07/1989","🇪🇸 Spain","Câble","PlayStation 5","Filaire","Volant Logitech","B","S","Gold",60,"Safe",null,"N/A","N/A","N/A","N/A",{"$f":"HYPERLINK(\"https://www.msleague.fr/?page_id=1502&um_user=KSM_Rusaco_721\", \"KSM_Rusaco_721\")","v":"KSM_Rusaco_721"},"Raúl George","Apostol",{"$f":"_xlfn.XLOOKUP(A338,BDD!A334:A10332,BDD!B334:B10332,\" \",0,1)","v":"Rpstl89@yahoo.com"},34.7460643394935,12691,"KSM_Rusaco_721 KSM 3/07/1989 🇪🇸 Spain Câble PlayStation 5 Filaire Volant Logitech B S Gold 60 Safe  N/A N/A N/A N/A KSM_Rusaco_721 Raúl George Apostol Rpstl89@yahoo.com"]
["kubicaBlyskawica","RM","11/11/1990","🇵🇱 Poland","N/A","PlayStation 5","N/A","Volant Thrustmaster","A+","S","Legend",92.4,"Safe",0,1,"N/A",6,"N/A",{"$f":"HYPERLINK(\"https://www.msleague.fr/?page_id=1502&um_user=kubicaBlyskawica\", \"kubicaBlyskawica\")","v":"kubicaBlyskawica"},"Krzysztof","Mirski",{"$f":"_xlfn.XLOOKUP(A339,BDD!A335:A10333,BDD!B335:B10333,\" \",0,1)","v":"kmirski@gmail.com"},33.388090349075974,12195,"kubicaBlyskawica RM 11/11/1990 🇵🇱 Poland N/A PlayStation 5 N/A Volant Thrustmaster A+ S Legend 92,4 Safe 0 1 N/A 6 N/A kubicaBlyskawica Krzysztof Mirski kmirski@gmail.com"]
["KuramaGT__","LRC","10/11/2005","🇫🇷 French","N/A","PlayStation 4","N/A","Manette","D","A","Bronze",20,"Fair-Play",0,"N/A","N/A",0,"N/A",{"$f":"HYPERLINK(\"https://www.msleague.fr/?page_id=1502&um_user=KuramaGT__\", \"KuramaGT__\")","v":"KuramaGT__"},"Mathieu","Dieu",{"$f":"_xlfn.XLOOKUP(A340,BDD!A336:A10334,BDD!B336:B10334,\" \",0,1)","v":"elits2team@gmail.com"},18.390143737166323,6717,"KuramaGT__ LRC 10/11/2005 🇫🇷 French N/A PlayStation 4 N/A Manette D A Bronze 20 Fair-Play 0 N/A N/A 0 N/A KuramaGT__ Mathieu Dieu elits2team@gmail.com"]
["la-cle-qui-ment","TAM","17/01/2008","🇫🇷 French","Fibre","PlayStation 4","Filaire","Volant Thrustmaster","D","S","Bronze",20,"Safe",null,"N/A","N/A","N/A","N/A",{"$f":"HYPERLINK(\"https://www.msleague.fr/?page_id=1502&um_user=la-cle-qui-ment\", \"la-cle-qui-ment\")","v":"la-cle-qui-ment"},"Clément","Brichet",{"$f":"_xlfn.XLOOKUP(A341,BDD!A337:A10335,BDD!B337:B10335,\" \",0,1)","v":"clementbrichet7@gmail.com"},16.205338809034906,5919,"la-cle-qui-ment TAM 17/01/2008 🇫🇷 French Fibre PlayStation 4 Filaire Volant Thrustmaster D S Bronze 20 Safe  N/A N/A N/A N/A la-cle-qui-ment Clément Brichet clementbrichet7@gmail.com"]
["LCMH_PuNiShEr","PRT","10/04/2007","🇫🇷 French","N/A","PlayStation 4","N/A","Manette","A+","S","Legend",95.15,"Safe",5,1,0,1,0,{"$f":"HYPERLINK(\"https://www.msleague.fr/?page_id=1502&um_user=LCMH_PuNiShEr\", \"LCMH_PuNiShEr\")","v":"LCMH_PuNiShEr"},"Pierre","Dhooge",{"$f":"_xlfn.XLOOKUP(A342,BDD!A338:A10336,BDD!B338:B10336,\" \",0,1)","v":"Pierredhooge3@gmail.com"},16.977412731006162,6201,"LCMH_PuNiShEr PRT 10/04/2007 🇫🇷 French N/A PlayStation 4 N/A Manette A+ S Legend 95,15 Safe 5 1 0 1 0 LCMH_PuNiShEr Pierre Dhooge Pierredhooge3@gmail.com"]
["LCRT_Elgi","LCRT","11/12/1970","🇫🇷 French","N/A","PlayStation 5","N/A","Volant Thrustmaster","A+","S","Legend",95,"Safe",0,"N/A","N/A","N/A","N/A",{"$f":"HYPERLINK(\"https://www.msleague.fr/?page_id=1502&um_user=LCRT_Elgi\", \"LCRT_Elgi\")","v":"LCRT_Elgi"},"Laurent","GUY",{"$f":"_xlfn.XLOOKUP(A343,BDD!A339:A10337,BDD!B339:B10337,\" \",0,1)","v":"laurent.lg33@gmail.com"},53.30595482546201,19470,"LCRT_Elgi LCRT 11/12/1970 🇫🇷 French N/A PlayStation 5 N/A Volant Thrustmaster A+ S Legend 95 Safe 0 N/A N/A N/A N/A LCRT_Elgi Laurent GUY laurent.lg33@gmail.com"]
["LCRT_JippiZ","LCRT","29/05/1980","🇵🇹 Portugal","N/A","PlayStation 5","N/A","Volant Thrustmaster","A","S","Platinum",80,"Safe",0,"N/A","N/A","N/A","N/A",{"$f":"HYPERLINK(\"https://www.msleague.fr/?page_id=1502&um_user=LCRT_JippiZ\", \"LCRT_JippiZ\")","v":"LCRT_JippiZ"},"Jean paul","De sousa e silva",{"$f":"_xlfn.XLOOKUP(A344,BDD!A340:A10338,BDD!B340:B10338,\" \",0,1)","v":"jean-paulsilva@hotmail.fr"},43.841204654346335,16013,"LCRT_JippiZ LCRT 29/05/1980 🇵🇹 Portugal N/A PlayStation 5 N/A Volant Thrustmaster A S Platinum 80 Safe 0 N/A N/A N/A N/A LCRT_JippiZ Jean paul De sousa e silva jean-paulsilva@hotmail.fr"]
["Le_Stig_02","Indép.","3/11/1980","🇧🇪 Belgium","N/A","PlayStation 5","N/A","Volant Fanatec","D","D","Bronze",20,"Dirty",0,"N/A","N/A",0,"N/A",{"$f":"HYPERLINK(\"https://www.msleague.fr/?page_id=1502&um_user=Le_Stig_02\", \"Le_Stig_02\")","v":"Le_Stig_02"},"Perry","Mc Carty",{"$f":"_xlfn.XLOOKUP(A345,BDD!A341:A10339,BDD!B341:B10339,\" \",0,1)","v":"Unity_croug02@hotmail.com"},43.408624229979466,{"$f":"IF(C345=\"N/A\",\"\",TODAY()-$C345)","v":15855},"Le_Stig_02 Indép. 3/11/1980 🇧🇪 Belgium N/A PlayStation 5 N/A Volant Fanatec D D Bronze 20 Dirty 0 N/A N/A 0 N/A Le_Stig_02 Perry Mc Carty Unity_croug02@hotmail.com"]
["Le_Zapeur","Myteam","31/01/1997","🇫🇷 French","Fibre","PlayStation 5","Wifi","Volant Thrustmaster","A+","S","Legend",95,"Safe",0,"N/A","N/A","N/A","N/A",{"$f":"HYPERLINK(\"https://www.msleague.fr/?page_id=1502&um_user=Le_Zapeur\", \"Le_Zapeur\")","v":"Le_Zapeur"},"Sébastien","Gibier",{"$f":"_xlfn.XLOOKUP(A346,BDD!A342:A10340,BDD!B342:B10340,\" \",0,1)","v":"sebastxplode@gmail.com"},27.16495550992471,9922,"Le_Zapeur Myteam 31/01/1997 🇫🇷 French Fibre PlayStation 5 Wifi Volant Thrustmaster A+ S Legend 95 Safe 0 N/A N/A N/A N/A Le_Zapeur Sébastien Gibier sebastxplode@gmail.com"]
["le-General72","GRT","23/02/1968","🇫🇷 French","N/A","PlayStation 5","N/A","Volant Fanatec","A","S","Platinum",74.11,"Safe",0,1,0,7,0,{"$f":"HYPERLINK(\"https://www.msleague.fr/?page_id=1502&um_user=le-General72\", \"le-General72\")","v":"le-General72"},"Dominique","MASSOT",{"$f":"_xlfn.XLOOKUP(A347,BDD!A343:A10341,BDD!B343:B10341,\" \",0,1)","v":"dominique.massot72000@gmail.com"},56.10403832991102,20492,"le-General72 GRT 23/02/1968 🇫🇷 French N/A PlayStation 5 N/A Volant Fanatec A S Platinum 74,11 Safe 0 1 0 7 0 le-General72 Dominique MASSOT dominique.massot72000@gmail.com"]
["leleopard65","BLDG","9/07/2004","🇫🇷 French","N/A","PlayStation 4","N/A","Volant Logitech","B","S","Gold",60,"Safe",0,"N/A","N/A","N/A","N/A",{"$f":"HYPERLINK(\"https://www.msleague.fr/?page_id=1502&um_user=leleopard65\", \"leleopard65\")","v":"leleopard65"},"Lucas","BOUERIE",{"$f":"_xlfn.XLOOKUP(A348,BDD!A344:A10342,BDD!B344:B10342,\" \",0,1)","v":"lucas.bouerie@gmail.com"},19.728952772073921,7206,"leleopard65 BLDG 9/07/2004 🇫🇷 French N/A PlayStation 4 N/A Volant Logitech B S Gold 60 Safe 0 N/A N/A N/A N/A leleopard65 Lucas BOUERIE lucas.bouerie@gmail.com"]
["Leonidas-VGA","Indép.","14/02/1985","🇫🇷 French","N/A","PlayStation 4","N/A","Manette","A+","S","Legend",95,"Safe",0,"N/A","N/A",0,"N/A",{"$f":"HYPERLINK(\"https://www.msleague.fr/?page_id=1502&um_user=Leonidas-VGA\", \"Leonidas-VGA\")","v":"Leonidas-VGA"},"Guillaume","Boulez",{"$f":"_xlfn.XLOOKUP(A349,BDD!A345:A10343,BDD!B345:B10343,\" \",0,1)","v":"lalygus.lm@gmail.com"},39.126625598904859,14291,"Leonidas-VGA Indép. 14/02/1985 🇫🇷 French N/A PlayStation 4 N/A Manette A+ S Legend 95 Safe 0 N/A N/A 0 N/A Leonidas-VGA Guillaume Boulez lalygus.lm@gmail.com"]
["liloukian_","EXION","3/09/2000","🇫🇷 French","Fibre","PlayStation 4","Filaire","Volant Fanatec","A","S","Platinum",80,"Safe",0,"N/A","N/A","N/A","N/A",{"$f":"HYPERLINK(\"https://www.msleague.fr/?page_id=1502&um_user=liloukian_\", \"liloukian_\")","v":"liloukian_"},"Loukian","Hardy",{"$f":"_xlfn.XLOOKUP(A350,BDD!A346:A10344,BDD!B346:B10344,\" \",0,1)","v":"loukian.hardy@gmail.com"},23.575633127994525,8611,"liloukian_ EXION 3/09/2000 🇫🇷 French Fibre PlayStation 4 Filaire Volant Fanatec A S Platinum 80 Safe 0 N/A N/A N/A N/A liloukian_ Loukian Hardy loukian.hardy@gmail.com"]
["linotin7","EET","13/04/2005","🇫🇷 French","Fibre","PlayStation 5","Filaire","Volant Logitech","B","A","Gold",60,"Fair-Play",null,"N/A","N/A","N/A","N/A",{"$f":"HYPERLINK(\"https://www.msleague.fr/?page_id=1502&um_user=linotin7\", \"linotin7\")","v":"linotin7"},"Lino","Vallier",{"$f":"_xlfn.XLOOKUP(A351,BDD!A347:A10345,BDD!B347:B10345,\" \",0,1)","v":"linotein7@gmail.com"},18.967830253251197,6928,"linotin7 EET 13/04/2005 🇫🇷 French Fibre PlayStation 5 Filaire Volant Logitech B A Gold 60 Fair-Play  N/A N/A N/A N/A linotin7 Lino Vallier linotein7@gmail.com"]
["LOPHTAK","BLDG","22/09/2004","🇫🇷 French","N/A","PlayStation 5","N/A","Volant Thrustmaster","B","S","Gold",60,"Safe",0,"N/A","N/A","N/A","N/A",{"$f":"HYPERLINK(\"https://www.msleague.fr/?page_id=1502&um_user=LOPHTAK\", \"LOPHTAK\")","v":"LOPHTAK"},"Enzo","Bourgogne",{"$f":"_xlfn.XLOOKUP(A352,BDD!A348:A10346,BDD!B348:B10346,\" \",0,1)","v":"enzobourgogne27@gmail.com"},19.523613963039015,7131,"LOPHTAK BLDG 22/09/2004 🇫🇷 French N/A PlayStation 5 N/A Volant Thrustmaster B S Gold 60 Safe 0 N/A N/A N/A N/A LOPHTAK Enzo Bourgogne enzobourgogne27@gmail.com"]
["LPG-htm-f15","LPG","10/05/1980","🇫🇷 French","N/A","PlayStation 5","N/A","Volant Fanatec","A","S","Platinum",80,"Safe",0,"N/A","N/A","N/A","N/A",{"$f":"HYPERLINK(\"https://www.msleague.fr/?page_id=1502&um_user=LPG-htm-f15\", \"LPG-htm-f15\")","v":"LPG-htm-f15"},"Jérôme","GUEIRARD",{"$f":"_xlfn.XLOOKUP(A353,BDD!A349:A10347,BDD!B349:B10347,\" \",0,1)","v":"jerome.gueirard@orange.fr"},43.893223819301845,16032,"LPG-htm-f15 LPG 10/05/1980 🇫🇷 French N/A PlayStation 5 N/A Volant Fanatec A S Platinum 80 Safe 0 N/A N/A N/A N/A LPG-htm-f15 Jérôme GUEIRARD jerome.gueirard@orange.fr"]
["LPG-Leamax33","LPG","12/02/1980","🇫🇷 French","N/A","PlayStation 5","N/A","Volant Thrustmaster","A","S","Platinum",80,"Safe",0,"N/A","N/A","N/A","N/A",{"$f":"HYPERLINK(\"https://www.msleague.fr/?page_id=1502&um_user=LPG-Leamax33\", \"LPG-Leamax33\")","v":"LPG-Leamax33"},"Anthony","travaux",{"$f":"_xlfn.XLOOKUP(A354,BDD!A350:A10348,BDD!B350:B10348,\" \",0,1)","v":"anthony.travaux@gmail.com"},44.134154688569474,16120,"LPG-Leamax33 LPG 12/02/1980 🇫🇷 French N/A PlayStation 5 N/A Volant Thrustmaster A S Platinum 80 Safe 0 N/A N/A N/A N/A LPG-Leamax33 Anthony travaux anthony.travaux@gmail.com"]
["LPG-TOTORIINA13","LPG","8/05/1976","🇫🇷 French","N/A","PlayStation 4","N/A","Volant Fanatec","A","S","Platinum",80,"Safe",0,"N/A","N/A","N/A","N/A",{"$f":"HYPERLINK(\"https://www.msleague.fr/?page_id=1502&um_user=LPG-TOTORIINA13\", \"LPG-TOTORIINA13\")","v":"LPG-TOTORIINA13"},"Michel","Guscioni",{"$f":"_xlfn.XLOOKUP(A355,BDD!A351:A10349,BDD!B351:B10349,\" \",0,1)","v":"guscioni.michel@outlook.fr"},47.898699520876114,17495,"LPG-TOTORIINA13 LPG 8/05/1976 🇫🇷 French N/A PlayStation 4 N/A Volant Fanatec A S Platinum 80 Safe 0 N/A N/A N/A N/A LPG-TOTORIINA13 Michel Guscioni guscioni.michel@outlook.fr"]
["LPR_Ghost-Rider","LPR","28/12/1985","🇧🇪 Belgium","N/A","PlayStation 4","N/A","Volant Logitech","C","S","Silver",40,"Safe",0,"N/A","N/A","N/A","N/A",{"$f":"HYPERLINK(\"https://www.msleague.fr/?page_id=1502&um_user=LPR_Ghost-Rider\", \"LPR_Ghost-Rider\")","v":"LPR_Ghost-Rider"},"Nicolas","Herbigniaux",{"$f":"_xlfn.XLOOKUP(A356,BDD!A352:A10350,BDD!B352:B10350,\" \",0,1)","v":"Nicolasherbigniaux@hotmail.fr"},38.258726899383987,13974,"LPR_Ghost-Rider LPR 28/12/1985 🇧🇪 Belgium N/A PlayStation 4 N/A Volant Logitech C S Silver 40 Safe 0 N/A N/A N/A N/A LPR_Ghost-Rider Nicolas Herbigniaux Nicolasherbigniaux@hotmail.fr"]
["LPR_Nando_14","LPR","11/07/1973","🇧🇪 Belgium","N/A","PlayStation 5","N/A","Manette","D","S","Bronze",20,"Safe",0,"N/A","N/A",0,"N/A",{"$f":"HYPERLINK(\"https://www.msleague.fr/?page_id=1502&um_user=LPR_Nando_14\", \"LPR_Nando_14\")","v":"LPR_Nando_14"},"Nicolas","Vounckx",{"$f":"_xlfn.XLOOKUP(A357,BDD!A353:A10351,BDD!B353:B10351,\" \",0,1)","v":"sarahnico@outlook.be"},50.724161533196444,18527,"LPR_Nando_14 LPR 11/07/1973 🇧🇪 Belgium N/A PlayStation 5 N/A Manette D S Bronze 20 Safe 0 N/A N/A 0 N/A LPR_Nando_14 Nicolas Vounckx sarahnico@outlook.be"]
["Luca_Amaral","SRT","4/10/2006","🇧🇷 Brazil","N/A","PlayStation 5","N/A","Volant Thrustmaster","A","S","Platinum",80,"Safe",0,"N/A","N/A",0,"N/A",{"$f":"HYPERLINK(\"https://www.msleague.fr/?page_id=1502&um_user=Luca_Amaral\", \"Luca_Amaral\")","v":"Luca_Amaral"},"Luca","Lefrançois",{"$f":"_xlfn.XLOOKUP(A358,BDD!A354:A10352,BDD!B354:B10352,\" \",0,1)","v":"lucaamarallefrancois@gmail.com"},17.492128678986994,6389,"Luca_Amaral SRT 4/10/2006 🇧🇷 Brazil N/A PlayStation 5 N/A Volant Thrustmaster A S Platinum 80 Safe 0 N/A N/A 0 N/A Luca_Amaral Luca Lefrançois lucaamarallefrancois@gmail.com"]
["Luna_CBR500R","Indép.","25/06/1995","🇫🇷 French","N/A","PlayStation 4","N/A","Volant Logitech","C","S","Silver",40,"Safe",0,"N/A","N/A",0,"N/A",{"$f":"HYPERLINK(\"https://www.msleague.fr/?page_id=1502&um_user=Luna_CBR500R\", \"Luna_CBR500R\")","v":"Luna_CBR500R"},"luna","perles",{"$f":"_xlfn.XLOOKUP(A359,BDD!A355:A10353,BDD!B355:B10353,\" \",0,1)","v":"miss_rage@live.fr"},28.769336071184121,10508,"Luna_CBR500R Indép. 25/06/1995 🇫🇷 French N/A PlayStation 4 N/A Volant Logitech C S Silver 40 Safe 0 N/A N/A 0 N/A Luna_CBR500R luna perles miss_rage@live.fr"]
["MaAlbuquerque","BROT","22/01/1984","🇧🇷 Brazil","Câble","PlayStation 5","Filaire","Volant Thrustmaster","D","B","Bronze",20,"Batailleur",null,"N/A","N/A","N/A","N/A",{"$f":"HYPERLINK(\"https://www.msleague.fr/?page_id=1502&um_user=MaAlbuquerque\", \"MaAlbuquerque\")","v":"MaAlbuquerque"},"Marcelo","Albuquerque",{"$f":"_xlfn.XLOOKUP(A360,BDD!A356:A10354,BDD!B356:B10354,\" \",0,1)","v":"brasiloficialteam@gmail.com"},40.191649555099247,14680,"MaAlbuquerque BROT 22/01/1984 🇧🇷 Brazil Câble PlayStation 5 Filaire Volant Thrustmaster D B Bronze 20 Batailleur  N/A N/A N/A N/A MaAlbuquerque Marcelo Albuquerque brasiloficialteam@gmail.com"]
["Macadam_10","HRC","23/09/2020","🇫🇷 French","Fibre","PlayStation 5","Filaire","Volant Logitech","B","S","Gold",60,"Safe",null,"N/A","N/A","N/A","N/A",{"$f":"HYPERLINK(\"https://www.msleague.fr/?page_id=1502&um_user=Macadam_10\", \"Macadam_10\")","v":"Macadam_10"},"Fabrice","Keff",{"$f":"_xlfn.XLOOKUP(A361,BDD!A357:A10355,BDD!B357:B10355,\" \",0,1)","v":"Fabrice.keff@wanadoo.fr"},3.5208761122518824,1286,"Macadam_10 HRC 23/09/2020 🇫🇷 French Fibre PlayStation 5 Filaire Volant Logitech B S Gold 60 Safe  N/A N/A N/A N/A Macadam_10 Fabrice Keff Fabrice.keff@wanadoo.fr"]
["maffieu850","PRT","22/03/1988","🇫🇷 French","Fibre","PlayStation 5","Filaire","Manette","A+","S","Legend",95,"Safe",null,"N/A","N/A","N/A","N/A",{"$f":"HYPERLINK(\"https://www.msleague.fr/?page_id=1502&um_user=maffieu850\", \"maffieu850\")","v":"maffieu850"},"Mathieu","Gouraud",{"$f":"_xlfn.XLOOKUP(A362,BDD!A358:A10356,BDD!B358:B10356,\" \",0,1)","v":"maffieu85180@gmail.com"},36.027378507871319,13159,"maffieu850 PRT 22/03/1988 🇫🇷 French Fibre PlayStation 5 Filaire Manette A+ S Legend 95 Safe  N/A N/A N/A N/A maffieu850 Mathieu Gouraud maffieu85180@gmail.com"]
["MAJIN-Ballack-37","MAJIN","8/04/1987","🇧🇪 Belgium","N/A","PlayStation 5","N/A","Volant Logitech","B","S","Gold",60,"Safe",0,"N/A","N/A",0,"N/A",{"$f":"HYPERLINK(\"https://www.msleague.fr/?page_id=1502&um_user=MAJIN-Ballack-37\", \"MAJIN-Ballack-37\")","v":"MAJIN-Ballack-37"},"Christopher","Vandendreschs",{"$f":"_xlfn.XLOOKUP(A363,BDD!A359:A10357,BDD!B359:B10357,\" \",0,1)","v":"Chrisvdd37@gmail.com"},36.982888432580424,13508,"MAJIN-Ballack-37 MAJIN 8/04/1987 🇧🇪 Belgium N/A PlayStation 5 N/A Volant Logitech B S Gold 60 Safe 0 N/A N/A 0 N/A MAJIN-Ballack-37 Christopher Vandendreschs Chrisvdd37@gmail.com"]
["MAJIN-joffrey09","Majin","9/04/1991","🇧🇪 Belgium","N/A","PlayStation 5","N/A","Volant Logitech","B","S","Gold",60,"Safe",0,"N/A","N/A",0,"N/A",{"$f":"HYPERLINK(\"https://www.msleague.fr/?page_id=1502&um_user=MAJIN-joffrey09\", \"MAJIN-joffrey09\")","v":"MAJIN-joffrey09"},"Joffrey","Henkinet",{"$f":"_xlfn.XLOOKUP(A364,BDD!A360:A10358,BDD!B360:B10358,\" \",0,1)","v":"henkinet-joffrey@hotmail.com"},32.980150581793289,12046,"MAJIN-joffrey09 Majin 9/04/1991 🇧🇪 Belgium N/A PlayStation 5 N/A Volant Logitech B S Gold 60 Safe 0 N/A N/A 0 N/A MAJIN-joffrey09 Joffrey Henkinet henkinet-joffrey@hotmail.com"]
["Mann_Air","Indép.","23/09/1981","🇫🇷 French","N/A","PlayStation 5","N/A","Manette","B","S","Gold",60,"Safe",0,"N/A","N/A",0,"N/A",{"$f":"HYPERLINK(\"https://www.msleague.fr/?page_id=1502&um_user=Mann_Air\", \"Mann_Air\")","v":"Mann_Air"},"Hermann","Hardy",{"$f":"_xlfn.XLOOKUP(A365,BDD!A361:A10359,BDD!B361:B10359,\" \",0,1)","v":"hardy.hermann@orange.fr"},42.521560574948666,15531,"Mann_Air Indép. 23/09/1981 🇫🇷 French N/A PlayStation 5 N/A Manette B S Gold 60 Safe 0 N/A N/A 0 N/A Mann_Air Hermann Hardy hardy.hermann@orange.fr"]
["Marieyann73","Indép.","28/02/1973","🇫🇷 French","N/A","PlayStation 5","N/A","Volant Fanatec","A+","S","Legend",95.89,"Safe",0,1,"N/A",6,"N/A",{"$f":"HYPERLINK(\"https://www.msleague.fr/?page_id=1502&um_user=Marieyann73\", \"Marieyann73\")","v":"Marieyann73"},"Yann","PILLOT",{"$f":"_xlfn.XLOOKUP(A366,BDD!A362:A10360,BDD!B362:B10360,\" \",0,1)","v":"yannenzo1973@yahoo.fr"},51.088295687885008,18660,"Marieyann73 Indép. 28/02/1973 🇫🇷 French N/A PlayStation 5 N/A Volant Fanatec A+ S Legend 95,89 Safe 0 1 N/A 6 N/A Marieyann73 Yann PILLOT yannenzo1973@yahoo.fr"]
["Massimo110289","Indép.","11/02/1989","🇧🇪 Belgium","ADSL","PlayStation 5","Filaire","Volant Thrustmaster","A","A","Platinum",80,"Fair-Play",null,"N/A","N/A","N/A","N/A",{"$f":"HYPERLINK(\"https://www.msleague.fr/?page_id=1502&um_user=Massimo110289\", \"Massimo110289\")","v":"Massimo110289"},"Massimo","Meraglia",{"$f":"_xlfn.XLOOKUP(A367,BDD!A363:A10361,BDD!B363:B10361,\" \",0,1)","v":"Massimomeraglia@hotmail.com"},35.134839151266256,12833,"Massimo110289 Indép. 11/02/1989 🇧🇪 Belgium ADSL PlayStation 5 Filaire Volant Thrustmaster A A Platinum 80 Fair-Play  N/A N/A N/A N/A Massimo110289 Massimo Meraglia Massimomeraglia@hotmail.com"]
["Massimux78","Indép.","8/08/1978","🇫🇷 French","N/A","PlayStation 5","N/A","Volant Logitech","B","S","Gold",60,"Safe",0,"N/A","N/A","N/A","N/A",{"$f":"HYPERLINK(\"https://www.msleague.fr/?page_id=1502&um_user=Massimux78\", \"Massimux78\")","v":"Massimux78"},"Massimo","Luise",{"$f":"_xlfn.XLOOKUP(A368,BDD!A364:A10362,BDD!B364:B10362,\" \",0,1)","v":"massimo.luise@orange.fr"},45.648186173853524,16673,"Massimux78 Indép. 8/08/1978 🇫🇷 French N/A PlayStation 5 N/A Volant Logitech B S Gold 60 Safe 0 N/A N/A N/A N/A Massimux78 Massimo Luise massimo.luise@orange.fr"]
["mcobos_22","LRST","22/02/2007","🇪🇸 Spain","N/A","PlayStation 4","N/A","Volant Logitech","A","S","Platinum",80,"Safe",0,"N/A","N/A",0,"N/A",{"$f":"HYPERLINK(\"https://www.msleague.fr/?page_id=1502&um_user=mcobos_22\", \"mcobos_22\")","v":"mcobos_22"},"Marc","Cobos Muriel",{"$f":"_xlfn.XLOOKUP(A369,BDD!A365:A10363,BDD!B365:B10363,\" \",0,1)","v":"mcobosmuriel@gmail.com"},17.10609171800137,6248,"mcobos_22 LRST 22/02/2007 🇪🇸 Spain N/A PlayStation 4 N/A Volant Logitech A S Platinum 80 Safe 0 N/A N/A 0 N/A mcobos_22 Marc Cobos Muriel mcobosmuriel@gmail.com"]
["Melomtx","VBF","28/08/1998","🇫🇷 French","N/A","PlayStation 5","N/A","Volant Thrustmaster","B","S","Gold",60,"Safe",0,"N/A","N/A",0,"N/A",{"$f":"HYPERLINK(\"https://www.msleague.fr/?page_id=1502&um_user=Melomtx\", \"Melomtx\")","v":"Melomtx"},"Melvin","Moiteaux",{"$f":"_xlfn.XLOOKUP(A370,BDD!A366:A10364,BDD!B366:B10364,\" \",0,1)","v":"m.moiteaux61@gmail.com"},25.593429158110883,9348,"Melomtx VBF 28/08/1998 🇫🇷 French N/A PlayStation 5 N/A Volant Thrustmaster B S Gold 60 Safe 0 N/A N/A 0 N/A Melomtx Melvin Moiteaux m.moiteaux61@gmail.com"]
["Melvyn_R34","OMR","27/06/2006","🇫🇷 French","N/A","PlayStation 5","N/A","Volant Fanatec","A+","S","Legend",95,"Safe",0,"N/A","N/A","N/A","N/A",{"$f":"HYPERLINK(\"https://www.msleague.fr/?page_id=1502&um_user=Melvyn_R34\", \"Melvyn_R34\")","v":"Melvyn_R34"},"Melvyn","DOMPMARTIN",{"$f":"_xlfn.XLOOKUP(A371,BDD!A367:A10365,BDD!B367:B10365,\" \",0,1)","v":"omrmelvyn@gmail.com"},17.763175906913073,6488,"Melvyn_R34 OMR 27/06/2006 🇫🇷 French N/A PlayStation 5 N/A Volant Fanatec A+ S Legend 95 Safe 0 N/A N/A N/A N/A Melvyn_R34 Melvyn DOMPMARTIN omrmelvyn@gmail.com"]
["Menace Binks","DTS","20/06/2000","🇫🇷 French","N/A","PlayStation 5","N/A","Manette","A","S","Platinum",76.78,"Safe",0,1,0,7,0,{"$f":"HYPERLINK(\"https://www.msleague.fr/?page_id=1502&um_user=Menace Binks\", \"Menace Binks\")","v":"Menace Binks"},"Thomas","David",{"$f":"_xlfn.XLOOKUP(A372,BDD!A368:A10366,BDD!B368:B10366,\" \",0,1)","v":"heinzenbinks@gmail.com"},23.780971937029431,8686,"Menace Binks DTS 20/06/2000 🇫🇷 French N/A PlayStation 5 N/A Manette A S Platinum 76,78 Safe 0 1 0 7 0 Menace Binks Thomas David heinzenbinks@gmail.com"]
["MFT-SpeedHunter","MFT","31/05/1998","🇷🇪 Réunion","N/A","PlayStation 4","N/A","Volant Logitech","A+","S","Legend",95,"Safe",0,"N/A","N/A",0,"N/A",{"$f":"HYPERLINK(\"https://www.msleague.fr/?page_id=1502&um_user=MFT-SpeedHunter\", \"MFT-SpeedHunter\")","v":"MFT-SpeedHunter"},"Tanner","Cedrick",{"$f":"_xlfn.XLOOKUP(A373,BDD!A369:A10367,BDD!B369:B10367,\" \",0,1)","v":"cedrictanner31@gmail.com"},25.83709787816564,9437,"MFT-SpeedHunter MFT 31/05/1998 🇷🇪 Réunion N/A PlayStation 4 N/A Volant Logitech A+ S Legend 95 Safe 0 N/A N/A 0 N/A MFT-SpeedHunter Tanner Cedrick cedrictanner31@gmail.com"]
["MGTK_mormarka","Indép.","26/10/2009","🇭🇺 Hungary","Câble","PlayStation 5","Filaire","Volant Fanatec","A+","S","Legend",95,"Safe",null,"N/A","N/A","N/A","N/A",{"$f":"HYPERLINK(\"https://www.msleague.fr/?page_id=1502&um_user=MGTK_mormarka\", \"MGTK_mormarka\")","v":"MGTK_mormarka"},"Marcell","Morocz",{"$f":"_xlfn.XLOOKUP(A374,BDD!A370:A10368,BDD!B370:B10368,\" \",0,1)","v":"marci.morocz@gmail.com"},14.431211498973306,5271,"MGTK_mormarka Indép. 26/10/2009 🇭🇺 Hungary Câble PlayStation 5 Filaire Volant Fanatec A+ S Legend 95 Safe  N/A N/A N/A N/A MGTK_mormarka Marcell Morocz marci.morocz@gmail.com"]
["Miakach_","Indép.","30/04/1966","🇫🇷 French","N/A","PlayStation 4","N/A","Volant Thrustmaster","A","S","Platinum",80,"Safe",0,"N/A","N/A","N/A","N/A",{"$f":"HYPERLINK(\"https://www.msleague.fr/?page_id=1502&um_user=Miakach_\", \"Miakach_\")","v":"Miakach_"},"Patrick","Trotevin",{"$f":"_xlfn.XLOOKUP(A375,BDD!A371:A10369,BDD!B371:B10369,\" \",0,1)","v":"P.trotevin@gmail.com"},57.921971252566735,21156,"Miakach_ Indép. 30/04/1966 🇫🇷 French N/A PlayStation 4 N/A Volant Thrustmaster A S Platinum 80 Safe 0 N/A N/A N/A N/A Miakach_ Patrick Trotevin P.trotevin@gmail.com"]
["MIG-L86","OSR","2/11/1986","🇨🇭 Switzerland","N/A","PlayStation 5","N/A","Volant Thrustmaster","A+","S","Legend",95,"Safe",0,"N/A","N/A",0,"N/A",{"$f":"HYPERLINK(\"https://www.msleague.fr/?page_id=1502&um_user=MIG-L86\", \"MIG-L86\")","v":"MIG-L86"},"Miguel","Lopes",{"$f":"_xlfn.XLOOKUP(A376,BDD!A372:A10370,BDD!B372:B10370,\" \",0,1)","v":"Ldshm@hotmail.com"},37.412731006160165,13665,"MIG-L86 OSR 2/11/1986 🇨🇭 Switzerland N/A PlayStation 5 N/A Volant Thrustmaster A+ S Legend 95 Safe 0 N/A N/A 0 N/A MIG-L86 Miguel Lopes Ldshm@hotmail.com"]
["Mighty--Fox","Indép.","29/07/1995","🇫🇷 French","N/A","PlayStation 4","N/A","Manette","A+","S","Legend",95,"Safe",0,"N/A","N/A",0,"N/A",{"$f":"HYPERLINK(\"https://www.msleague.fr/?page_id=1502&um_user=Mighty--Fox\", \"Mighty--Fox\")","v":"Mighty--Fox"},"Fox","Mighty",{"$f":"_xlfn.XLOOKUP(A377,BDD!A373:A10371,BDD!B373:B10371,\" \",0,1)","v":"Mister_julien_44@outlook.fr"},28.676249144421629,10474,"Mighty--Fox Indép. 29/07/1995 🇫🇷 French N/A PlayStation 4 N/A Manette A+ S Legend 95 Safe 0 N/A N/A 0 N/A Mighty--Fox Fox Mighty Mister_julien_44@outlook.fr"]
["MikaLauda","TGT","29/06/1982","🇨🇭 Switzerland","N/A","PlayStation 5","N/A","Volant Thrustmaster","B","B","Gold",60,"Batailleur",null,"N/A","N/A","N/A","N/A",{"$f":"HYPERLINK(\"https://www.msleague.fr/?page_id=1502&um_user=MikaLauda\", \"MikaLauda\")","v":"MikaLauda"},"Michael","Goeckeler",{"$f":"_xlfn.XLOOKUP(A378,BDD!A374:A10372,BDD!B374:B10372,\" \",0,1)","v":"nurburgring2000@gmail.com"},41.757700205338807,15252,"MikaLauda TGT 29/06/1982 🇨🇭 Switzerland N/A PlayStation 5 N/A Volant Thrustmaster B B Gold 60 Batailleur  N/A N/A N/A N/A MikaLauda Michael Goeckeler nurburgring2000@gmail.com"]
["mine96-zzz","OMT","6/12/1996","🇫🇷 French","N/A","PlayStation 5","N/A","Manette","B","B","Gold",60,"Batailleur",0,"N/A","N/A",0,"N/A",{"$f":"HYPERLINK(\"https://www.msleague.fr/?page_id=1502&um_user=mine96-zzz\", \"mine96-zzz\")","v":"mine96-zzz"},"Amine","PSG",{"$f":"_xlfn.XLOOKUP(A379,BDD!A375:A10373,BDD!B375:B10373,\" \",0,1)","v":"aminedu1996@gmail.com"},27.318275154004105,9978,"mine96-zzz OMT 6/12/1996 🇫🇷 French N/A PlayStation 5 N/A Manette B B Gold 60 Batailleur 0 N/A N/A 0 N/A mine96-zzz Amine PSG aminedu1996@gmail.com"]
["Mister__Coffee","Indép.","27/09/1979","🇫🇷 French","Fibre","PlayStation 5","Filaire","Volant Thrustmaster","D","S","Bronze",20,"Safe",null,"N/A","N/A","N/A","N/A",{"$f":"HYPERLINK(\"https://www.msleague.fr/?page_id=1502&um_user=Mister__Coffee\", \"Mister__Coffee\")","v":"Mister__Coffee"},"Cyril","Vincent",{"$f":"_xlfn.XLOOKUP(A380,BDD!A376:A10374,BDD!B376:B10374,\" \",0,1)","v":"cyril31100@hotmail.fr"},44.511978097193705,16258,"Mister__Coffee Indép. 27/09/1979 🇫🇷 French Fibre PlayStation 5 Filaire Volant Thrustmaster D S Bronze 20 Safe  N/A N/A N/A N/A Mister__Coffee Cyril Vincent cyril31100@hotmail.fr"]
["Mitch-LNZ","Indép.","13/06/1980","🇫🇷 French","N/A","PlayStation 5","N/A","Volant Thrustmaster","B","S","Gold",60,"Safe",0,"N/A","N/A","N/A","N/A",{"$f":"HYPERLINK(\"https://www.msleague.fr/?page_id=1502&um_user=Mitch-LNZ\", \"Mitch-LNZ\")","v":"Mitch-LNZ"},"Michel","Lanuza",{"$f":"_xlfn.XLOOKUP(A381,BDD!A377:A10375,BDD!B377:B10375,\" \",0,1)","v":"michellanuza@gmail.com"},43.800136892539356,15998,"Mitch-LNZ Indép. 13/06/1980 🇫🇷 French N/A PlayStation 5 N/A Volant Thrustmaster B S Gold 60 Safe 0 N/A N/A N/A N/A Mitch-LNZ Michel Lanuza michellanuza@gmail.com"]
["mitchon1973","TGT","22/09/1973","🇨🇭 Switzerland","Câble","PlayStation 5","Wifi","Volant Thrustmaster","A","S","Platinum",80,"Safe",null,"N/A","N/A","N/A","N/A",{"$f":"HYPERLINK(\"https://www.msleague.fr/?page_id=1502&um_user=mitchon1973\", \"mitchon1973\")","v":"mitchon1973"},"Michel","Vuilleumier",{"$f":"_xlfn.XLOOKUP(A382,BDD!A378:A10376,BDD!B378:B10376,\" \",0,1)","v":"michel-vuilleumier@hotmail.ch"},50.5242984257358,18454,"mitchon1973 TGT 22/09/1973 🇨🇭 Switzerland Câble PlayStation 5 Wifi Volant Thrustmaster A S Platinum 80 Safe  N/A N/A N/A N/A mitchon1973 Michel Vuilleumier michel-vuilleumier@hotmail.ch"]
["miumiu79","Indép.","7/12/2006","🇬🇧 English","Câble","PlayStation 5","Wifi","Volant Thrustmaster","A+","S","Legend",95,"Safe",null,"N/A","N/A","N/A","N/A",{"$f":"HYPERLINK(\"https://www.msleague.fr/?page_id=1502&um_user=miumiu79\", \"miumiu79\")","v":"miumiu79"},"Mikolaj","Sedziak",{"$f":"_xlfn.XLOOKUP(A383,BDD!A379:A10377,BDD!B379:B10377,\" \",0,1)","v":"mickljaysedziak@gmail.com"},17.316906228610542,6325,"miumiu79 Indép. 7/12/2006 🇬🇧 English Câble PlayStation 5 Wifi Volant Thrustmaster A+ S Legend 95 Safe  N/A N/A N/A N/A miumiu79 Mikolaj Sedziak mickljaysedziak@gmail.com"]
["MKanabeach","BAM","15/03/1978","🇫🇷 French","N/A","PlayStation 4","N/A","Manette","B","S","Gold",60.44,"Safe",0,1,"N/A",1,"N/A",{"$f":"HYPERLINK(\"https://www.msleague.fr/?page_id=1502&um_user=MKanabeach\", \"MKanabeach\")","v":"MKanabeach"},"Nicolas","Riba",{"$f":"_xlfn.XLOOKUP(A384,BDD!A380:A10378,BDD!B380:B10378,\" \",0,1)","v":"Nixolas.riba@gmail.com"},46.047912388774812,16819,"MKanabeach BAM 15/03/1978 🇫🇷 French N/A PlayStation 4 N/A Manette B S Gold 60,44 Safe 0 1 N/A 1 N/A MKanabeach Nicolas Riba Nixolas.riba@gmail.com"]
["MKV_Tatitu","MKV","22/06/2008","🇪🇸 Spain","N/A","PlayStation 4","N/A","Volant Thrustmaster","A+","S","Legend",95,"Safe",0,"N/A","N/A",0,"N/A",{"$f":"HYPERLINK(\"https://www.msleague.fr/?page_id=1502&um_user=MKV_Tatitu\", \"MKV_Tatitu\")","v":"MKV_Tatitu"},"Marcos López","Marcos",{"$f":"_xlfn.XLOOKUP(A385,BDD!A381:A10379,BDD!B381:B10379,\" \",0,1)","v":"tatitu.mlc@gmail.com"},15.775496235455167,5762,"MKV_Tatitu MKV 22/06/2008 🇪🇸 Spain N/A PlayStation 4 N/A Volant Thrustmaster A+ S Legend 95 Safe 0 N/A N/A 0 N/A MKV_Tatitu Marcos López Marcos tatitu.mlc@gmail.com"]
["MMSP_Capjulo","NEXUS","9/06/2007","🇫🇷 French","N/A","PlayStation 5","N/A","Volant Thrustmaster","A","S","Gold",57.48,"Safe",0,1,"N/A",1,"N/A",{"$f":"HYPERLINK(\"https://www.msleague.fr/?page_id=1502&um_user=MMSP_Capjulo\", \"MMSP_Capjulo\")","v":"MMSP_Capjulo"},"Arthur","Chaperon",{"$f":"_xlfn.XLOOKUP(A386,BDD!A382:A10380,BDD!B382:B10380,\" \",0,1)","v":"chaperonarthur16@gmail.com"},16.813141683778234,6141,"MMSP_Capjulo NEXUS 9/06/2007 🇫🇷 French N/A PlayStation 5 N/A Volant Thrustmaster A S Gold 57,48 Safe 0 1 N/A 1 N/A MMSP_Capjulo Arthur Chaperon chaperonarthur16@gmail.com"]
["MnT_Swizzy","MnT","13/11/1994","🇫🇮 Finland","N/A","PlayStation 5","N/A","Manette","A+","S","Legend",95,"Safe",0,"N/A","N/A",0,"N/A",{"$f":"HYPERLINK(\"https://www.msleague.fr/?page_id=1502&um_user=MnT_Swizzy\", \"MnT_Swizzy\")","v":"MnT_Swizzy"},"Oliver","Seppänen",{"$f":"_xlfn.XLOOKUP(A387,BDD!A383:A10381,BDD!B383:B10381,\" \",0,1)","v":"olkku87@gmail.com"},29.382614647501711,10732,"MnT_Swizzy MnT 13/11/1994 🇫🇮 Finland N/A PlayStation 5 N/A Manette A+ S Legend 95 Safe 0 N/A N/A 0 N/A MnT_Swizzy Oliver Seppänen olkku87@gmail.com"]
["Mojostuck","Indép.","21/02/1971","🇫🇷 French","N/A","PlayStation 4","N/A","Manette","D","A","Bronze",20,"Fair-Play",0,"N/A","N/A",0,"N/A",{"$f":"HYPERLINK(\"https://www.msleague.fr/?page_id=1502&um_user=Mojostuck\", \"Mojostuck\")","v":"Mojostuck"},"Lionel","DAGOT",{"$f":"_xlfn.XLOOKUP(A388,BDD!A384:A10382,BDD!B384:B10382,\" \",0,1)","v":"l.dagot@laposte.net"},53.108829568788501,19398,"Mojostuck Indép. 21/02/1971 🇫🇷 French N/A PlayStation 4 N/A Manette D A Bronze 20 Fair-Play 0 N/A N/A 0 N/A Mojostuck Lionel DAGOT l.dagot@laposte.net"]
["Mollusk66","FRK","2/06/1983","🇫🇷 French","N/A","PlayStation 4","N/A","Volant Logitech","B","S","Gold",54.93,"Safe",0,2,0,13,0,{"$f":"HYPERLINK(\"https://www.msleague.fr/?page_id=1502&um_user=Mollusk66\", \"Mollusk66\")","v":"Mollusk66"},"Cédric","Veron",{"$f":"_xlfn.XLOOKUP(A389,BDD!A385:A10383,BDD!B385:B10383,\" \",0,1)","v":"Xsiste66@hotmail.fr"},{"$f":"IF(X389=\"\",\"\",CONVERT(X389,\"day\",\"yr\"))","v":40.832306639288156},14914,"Mollusk66 FRK 2/06/1983 🇫🇷 French N/A PlayStation 4 N/A Volant Logitech B S Gold 54,93 Safe 0 2 0 13 0 Mollusk66 Cédric Veron Xsiste66@hotmail.fr"]
["Monteam","BAM","27/02/1958","🇨🇭 Switzerland","Câble","PlayStation 5","Filaire","Volant Thrustmaster","B","S","Gold",60.09,"Safe",0,2,0,2,0,{"$f":"HYPERLINK(\"https://www.msleague.fr/?page_id=1502&um_user=Monteam\", \"Monteam\")","v":"Monteam"},"Claude","Spaetti",{"$f":"_xlfn.XLOOKUP(A390,BDD!A386:A10384,BDD!B386:B10384,\" \",0,1)","v":"c.spaetti@bluewin.ch"},66.091718001368932,24140,{"$f":"A390 & \" \" & B390 & \" \" & C390 & \" \" & D390 & \" \" & E390 & \" \" & F390 & \" \" & G390 & \" \" & H390 & \" \" & I390 & \" \" & J390 & \" \" & K390 & \" \" & L390 & \" \" & M390 & \" \" & N390 & \" \" & O390 & \" \" & P390 & \" \" &Q390 & \" \" & R390 & \" \" & S390 & \" \" & T390 & \" \" & U390 & \" \" & V390","v":"Monteam BAM 27/02/1958 🇨🇭 Switzerland Câble PlayStation 5 Filaire Volant Thrustmaster B S Gold 60,09 Safe 0 2 0 2 0 Monteam Claude Spaetti c.spaetti@bluewin.ch"}]
["Mr__Sandy__","Indép.","11/10/1978","🇫🇷 French","Fibre","PlayStation 5","Filaire","Manette","A","S","Platinum",80,"Safe",null,"N/A","N/A","N/A","N/A",{"$f":"HYPERLINK(\"https://www.msleague.fr/?page_id=1502&um_user=Mr__Sandy__\", \"Mr__Sandy__\")","v":"Mr__Sandy__"},"sandy","quérité",{"$f":"_xlfn.XLOOKUP(A391,BDD!A387:A10385,BDD!B387:B10385,\" \",0,1)","v":"sandy-sw@hotmail.fr"},45.472963723477072,16609,"Mr__Sandy__ Indép. 11/10/1978 🇫🇷 French Fibre PlayStation 5 Filaire Manette A S Platinum 80 Safe  N/A N/A N/A N/A Mr__Sandy__ sandy quérité sandy-sw@hotmail.fr"]
["Mr-Drex93","Indép.","8/07/1995","🇫🇷 French","N/A","PlayStation 5","N/A","Volant Thrustmaster","A","A","Platinum",80,"Fair-Play",0,"N/A","N/A",0,"N/A",{"$f":"HYPERLINK(\"https://www.msleague.fr/?page_id=1502&um_user=Mr-Drex93\", \"Mr-Drex93\")","v":"Mr-Drex93"},"Dylan","Barbitch",{"$f":"_xlfn.XLOOKUP(A392,BDD!A388:A10386,BDD!B388:B10386,\" \",0,1)","v":"dylan.barbittch@gmail.com"},28.733744010951405,10495,"Mr-Drex93 Indép. 8/07/1995 🇫🇷 French N/A PlayStation 5 N/A Volant Thrustmaster A A Platinum 80 Fair-Play 0 N/A N/A 0 N/A Mr-Drex93 Dylan Barbitch dylan.barbittch@gmail.com"]
["MrAlf1_10","OWLS","20/01/2004","🇪🇸 Spain","N/A","PlayStation 4","N/A","Volant Logitech","A+","S","Legend",98.79,"Safe",0,1,1,1,0,{"$f":"HYPERLINK(\"https://www.msleague.fr/?page_id=1502&um_user=MrAlf1_10\", \"MrAlf1_10\")","v":"MrAlf1_10"},"Alfredo","Alonso",{"$f":"_xlfn.XLOOKUP(A393,BDD!A389:A10387,BDD!B389:B10387,\" \",0,1)","v":"mralf110@gmail.com"},20.197125256673512,7377,"MrAlf1_10 OWLS 20/01/2004 🇪🇸 Spain N/A PlayStation 4 N/A Volant Logitech A+ S Legend 98,79 Safe 0 1 1 1 0 MrAlf1_10 Alfredo Alonso mralf110@gmail.com"]
["Mrkarizer","NEXUS","6/01/2007","🇫🇷 French","N/A","PlayStation 4","N/A","Volant Thrustmaster","A","S","Platinum",72.989999999999995,"Safe",0,2,"N/A",2,"N/A",{"$f":"HYPERLINK(\"https://www.msleague.fr/?page_id=1502&um_user=Mrkarizer\", \"Mrkarizer\")","v":"Mrkarizer"},"Sacha","Letellier",{"$f":"_xlfn.XLOOKUP(A394,BDD!A390:A10388,BDD!B390:B10388,\" \",0,1)","v":"icisacha@gmail.com"},17.234770704996578,6295,"Mrkarizer NEXUS 6/01/2007 🇫🇷 French N/A PlayStation 4 N/A Volant Thrustmaster A S Platinum 72,99 Safe 0 2 N/A 2 N/A Mrkarizer Sacha Letellier icisacha@gmail.com"]
["MSL","Indép.","3/05/2023","🇫🇷 French","N/A","PlayStation 5","N/A","Volant Fanatec","A+","S","Master",100,"Gentleman Driver",0,"N/A","N/A","N/A","N/A",{"$f":"HYPERLINK(\"https://www.msleague.fr/?page_id=1502&um_user=MSL\", \"MSL\")","v":"MSL"},"Carlos","Papayoulélé",{"$f":"_xlfn.XLOOKUP(A395,BDD!A391:A10389,BDD!B391:B10389,\" \",0,1)","v":"dasilva80700@gmail.com"},0.91444216290212188,334,"MSL Indép. 3/05/2023 🇫🇷 French N/A PlayStation 5 N/A Volant Fanatec A+ S Master 100 Gentleman Driver 0 N/A N/A N/A N/A MSL Carlos Papayoulélé dasilva80700@gmail.com"]
["Myssklick","BLDG","29/12/2007","🇫🇷 French","N/A","PlayStation 4","N/A","Volant Thrustmaster","C","A","Silver",40,"Fair-Play",0,"N/A","N/A","N/A","N/A",{"$f":"HYPERLINK(\"https://www.msleague.fr/?page_id=1502&um_user=Myssklick\", \"Myssklick\")","v":"Myssklick"},"Maxime","Ney",{"$f":"_xlfn.XLOOKUP(A396,BDD!A392:A10390,BDD!B392:B10390,\" \",0,1)","v":"neymaxime54@gmail.com"},16.257357973990416,5938,"Myssklick BLDG 29/12/2007 🇫🇷 French N/A PlayStation 4 N/A Volant Thrustmaster C A Silver 40 Fair-Play 0 N/A N/A N/A N/A Myssklick Maxime Ney neymaxime54@gmail.com"]
["MYTEAM-AymericK","MYTEAM","17/11/2002","🇫🇷 French","Fibre","PlayStation 5","Wifi","Volant Thrustmaster","A+","S","Legend",95.62,"Safe",14,1,0,1,0,{"$f":"HYPERLINK(\"https://www.msleague.fr/?page_id=1502&um_user=MYTEAM-AymericK\", \"MYTEAM-AymericK\")","v":"MYTEAM-AymericK"},"Aymeric","Bolze",{"$f":"_xlfn.XLOOKUP(A397,BDD!A393:A10391,BDD!B393:B10391,\" \",0,1)","v":"bolzeaymeric@gmail.com"},21.371663244353183,7806,"MYTEAM-AymericK MYTEAM 17/11/2002 🇫🇷 French Fibre PlayStation 5 Wifi Volant Thrustmaster A+ S Legend 95,62 Safe 14 1 0 1 0 MYTEAM-AymericK Aymeric Bolze bolzeaymeric@gmail.com"]
["MYTEAM-Chveux","MYTEAM","25/08/2006","🇫🇷 French","Fibre","PlayStation 4","Wifi","Volant Thrustmaster","A","S","Platinum",84.04,"Safe",8,1,0,1,0,{"$f":"HYPERLINK(\"https://www.msleague.fr/?page_id=1502&um_user=MYTEAM-Chveux\", \"MYTEAM-Chveux\")","v":"MYTEAM-Chveux"},"Hadrien","Mony",{"$f":"_xlfn.XLOOKUP(A398,BDD!A394:A10392,BDD!B394:B10392,\" \",0,1)","v":"hadrien.mony@gmail.com"},17.60164271047228,6429,"MYTEAM-Chveux MYTEAM 25/08/2006 🇫🇷 French Fibre PlayStation 4 Wifi Volant Thrustmaster A S Platinum 84,04 Safe 8 1 0 1 0 MYTEAM-Chveux Hadrien Mony hadrien.mony@gmail.com"]
["MYTEAM-CoCo","MYTEAM","17/02/1991","🇫🇷 French","ADSL","PlayStation 5","Wifi","Volant Thrustmaster","A+","S","Platinum",89.71,"Safe",8,1,0,1,0,{"$f":"HYPERLINK(\"https://www.msleague.fr/?page_id=1502&um_user=MYTEAM-CoCo\", \"MYTEAM-CoCo\")","v":"MYTEAM-CoCo"},"jeremy","skrzypczak",{"$f":"_xlfn.XLOOKUP(A399,BDD!A395:A10393,BDD!B395:B10393,\" \",0,1)","v":"j.skrzypczak367@gmail.com"},33.119780971937033,12097,"MYTEAM-CoCo MYTEAM 17/02/1991 🇫🇷 French ADSL PlayStation 5 Wifi Volant Thrustmaster A+ S Platinum 89,71 Safe 8 1 0 1 0 MYTEAM-CoCo jeremy skrzypczak j.skrzypczak367@gmail.com"]
["MYTEAM-Jonathan","MYTEAM","2/03/1990","🇫🇷 French","N/A","PlayStation 5","N/A","Volant Thrustmaster","A+","S","Legend",93.69,"Safe",8,3,0,3,0,{"$f":"HYPERLINK(\"https://www.msleague.fr/?page_id=1502&um_user=MYTEAM-Jonathan\", \"MYTEAM-Jonathan\")","v":"MYTEAM-Jonathan"},"Jonathan","Lemarre",{"$f":"_xlfn.XLOOKUP(A400,BDD!A396:A10394,BDD!B396:B10394,\" \",0,1)","v":"Lemarrejonathan34@gmail.com"},34.083504449007528,12449,"MYTEAM-Jonathan MYTEAM 2/03/1990 🇫🇷 French N/A PlayStation 5 N/A Volant Thrustmaster A+ S Legend 93,69 Safe 8 3 0 3 0 MYTEAM-Jonathan Jonathan Lemarre Lemarrejonathan34@gmail.com"]
["MYTEAM-KYPTSO","MYTEAM","8/10/1999","🇧🇪 Belgium","N/A","PlayStation 4","N/A","Volant Logitech","A+","S","Legend",95.39,"Safe",14,1,0,1,0,{"$f":"HYPERLINK(\"https://www.msleague.fr/?page_id=1502&um_user=MYTEAM-KYPTSO\", \"MYTEAM-KYPTSO\")","v":"MYTEAM-KYPTSO"},"Jimmy","Crousse",{"$f":"_xlfn.XLOOKUP(A401,BDD!A397:A10395,BDD!B397:B10395,\" \",0,1)","v":"pr1kyptso@gmail.com"},24.481861738535251,8942,"MYTEAM-KYPTSO MYTEAM 8/10/1999 🇧🇪 Belgium N/A PlayStation 4 N/A Volant Logitech A+ S Legend 95,39 Safe 14 1 0 1 0 MYTEAM-KYPTSO Jimmy Crousse pr1kyptso@gmail.com"]
["MYTEAM-MadMaiky82","MYTEAM","25/10/1982","🇫🇷 French","Câble","PlayStation 4","Filaire","Volant Logitech","A+","S","Legend",95,"Safe",0,"N/A","N/A",0,"N/A",{"$f":"HYPERLINK(\"https://www.msleague.fr/?page_id=1502&um_user=MYTEAM-MadMaiky82\", \"MYTEAM-MadMaiky82\")","v":"MYTEAM-MadMaiky82"},"Mickael","Demortier",{"$f":"_xlfn.XLOOKUP(A402,BDD!A398:A10396,BDD!B398:B10396,\" \",0,1)","v":"demortiermicka@aol.com"},41.434633812457221,15134,"MYTEAM-MadMaiky82 MYTEAM 25/10/1982 🇫🇷 French Câble PlayStation 4 Filaire Volant Logitech A+ S Legend 95 Safe 0 N/A N/A 0 N/A MYTEAM-MadMaiky82 Mickael Demortier demortiermicka@aol.com"]
["MYTEAM-MEPHY","MYTEAM","15/08/1996","🇫🇷 French","Fibre","PlayStation 5","Filaire","Volant Fanatec","A","S","Gold",57.93,"Safe",0,1,0,0,0,{"$f":"HYPERLINK(\"https://www.msleague.fr/?page_id=1502&um_user=MYTEAM-MEPHY\", \"MYTEAM-MEPHY\")","v":"MYTEAM-MEPHY"},"Mephysto","Zeleph",{"$f":"_xlfn.XLOOKUP(A403,BDD!A399:A10397,BDD!B399:B10397,\" \",0,1)","v":"mephysto62100@gmail.com"},27.627652292950035,10091,"MYTEAM-MEPHY MYTEAM 15/08/1996 🇫🇷 French Fibre PlayStation 5 Filaire Volant Fanatec A S Gold 57,93 Safe 0 1 0 0 0 MYTEAM-MEPHY Mephysto Zeleph mephysto62100@gmail.com"]
["MYTEAM-Noctil","MYTEAM","16/11/1993","🇫🇷 French","Fibre","PlayStation 5","Filaire","Volant Fanatec","A+","S","Legend",95,"Safe",null,"N/A","N/A","N/A","N/A",{"$f":"HYPERLINK(\"https://www.msleague.fr/?page_id=1502&um_user=MYTEAM-Noctil\", \"MYTEAM-Noctil\")","v":"MYTEAM-Noctil"},"Rémi","Jaoui",{"$f":"_xlfn.XLOOKUP(A404,BDD!A400:A10398,BDD!B400:B10398,\" \",0,1)","v":"noctil78@hotmail.fr"},30.373716632443532,11094,"MYTEAM-Noctil MYTEAM 16/11/1993 🇫🇷 French Fibre PlayStation 5 Filaire Volant Fanatec A+ S Legend 95 Safe  N/A N/A N/A N/A MYTEAM-Noctil Rémi Jaoui noctil78@hotmail.fr"]
["MYTEAM-OZ","MYTEAM","19/09/1979","🇫🇷 French","Box/Partage 3G/4G","PlayStation 5","Filaire","Volant Thrustmaster","A+","S","Legend",90.76,"Safe",14,2,0,8,0,{"$f":"HYPERLINK(\"https://www.msleague.fr/?page_id=1502&um_user=MYTEAM-OZ\", \"MYTEAM-OZ\")","v":"MYTEAM-OZ"},"Lionel","Mulhem",{"$f":"_xlfn.XLOOKUP(A405,BDD!A401:A10399,BDD!B401:B10399,\" \",0,1)","v":"Mulhemlionel@yahoo.fr"},44.533880903490761,16266,"MYTEAM-OZ MYTEAM 19/09/1979 🇫🇷 French Box/Partage 3G/4G PlayStation 5 Filaire Volant Thrustmaster A+ S Legend 90,76 Safe 14 2 0 8 0 MYTEAM-OZ Lionel Mulhem Mulhemlionel@yahoo.fr"]
["MYTEAM-Poc","MYTEAM","29/10/1983","🇫🇷 French","N/A","PlayStation 5","N/A","Volant Thrustmaster","A+","S","Legend",98.62,"Safe",14,2,0,8,"25,57 %",{"$f":"HYPERLINK(\"https://www.msleague.fr/?page_id=1502&um_user=MYTEAM-Poc\", \"MYTEAM-Poc\")","v":"MYTEAM-Poc"},"Nicolas","Chaumont",{"$f":"_xlfn.XLOOKUP(A406,BDD!A402:A10400,BDD!B402:B10400,\" \",0,1)","v":"nicochaumont@outlook.fr"},40.424366872005479,14765,"MYTEAM-Poc MYTEAM 29/10/1983 🇫🇷 French N/A PlayStation 5 N/A Volant Thrustmaster A+ S Legend 98,62 Safe 14 2 0 8 25,57 % MYTEAM-Poc Nicolas Chaumont nicochaumont@outlook.fr"]
["MYTEAM-Schumini","MYTEAM","27/07/2000","🇨🇭 Switzerland","Fibre","PlayStation 5","Filaire","Volant Thrustmaster","A+","S","Legend",92.96,"Fair-Play",8,1,0,1,0,{"$f":"HYPERLINK(\"https://www.msleague.fr/?page_id=1502&um_user=MYTEAM-Schumini\", \"MYTEAM-Schumini\")","v":"MYTEAM-Schumini"},"Yanis","Ducommun",{"$f":"_xlfn.XLOOKUP(A407,BDD!A403:A10401,BDD!B403:B10401,\" \",0,1)","v":"yanis.ducommun27@gmail.com"},23.679671457905545,8649,"MYTEAM-Schumini MYTEAM 27/07/2000 🇨🇭 Switzerland Fibre PlayStation 5 Filaire Volant Thrustmaster A+ S Legend 92,96 Fair-Play 8 1 0 1 0 MYTEAM-Schumini Yanis Ducommun yanis.ducommun27@gmail.com"]
["MYTEAM-ZAL","MYTEAM","9/01/1985","🇫🇷 French","N/A","PlayStation 5","N/A","Volant Thrustmaster","A+","S","Gold",60,"Safe",0,"N/A","N/A","N/A","N/A",{"$f":"HYPERLINK(\"https://www.msleague.fr/?page_id=1502&um_user=MYTEAM-ZAL\", \"MYTEAM-ZAL\")","v":"MYTEAM-ZAL"},"Alan","Ferrari",{"$f":"_xlfn.XLOOKUP(A408,BDD!A404:A10402,BDD!B404:B10402,\" \",0,1)","v":"iphonedezalan@gmail.com"},39.225188227241617,14327,"MYTEAM-ZAL MYTEAM 9/01/1985 🇫🇷 French N/A PlayStation 5 N/A Volant Thrustmaster A+ S Gold 60 Safe 0 N/A N/A N/A N/A MYTEAM-ZAL Alan Ferrari iphonedezalan@gmail.com"]
["MyW25","Indép.","22/06/2011","🇫🇷 French","N/A","PlayStation 4","N/A","Volant Thrustmaster","D","S","Bronze",20,"Batailleur",0,"N/A","N/A",0,"N/A",{"$f":"HYPERLINK(\"https://www.msleague.fr/?page_id=1502&um_user=MyW25\", \"MyW25\")","v":"MyW25"},"Thiméo","Rouquet",{"$f":"_xlfn.XLOOKUP(A409,BDD!A405:A10403,BDD!B405:B10403,\" \",0,1)","v":"thimeokarting@gmail.com"},12.777549623545516,{"$f":"IF(C409=\"N/A\",\"\",TODAY()-$C409)","v":4667},"MyW25 Indép. 22/06/2011 🇫🇷 French N/A PlayStation 4 N/A Volant Thrustmaster D S Bronze 20 Batailleur 0 N/A N/A 0 N/A MyW25 Thiméo Rouquet thimeokarting@gmail.com"]
["Nicaro88","VALKY","12/01/1981","🇧🇪 Belgium","ADSL","PlayStation 4","Filaire","Volant Thrustmaster","A+","S","Legend",95,"Safe",null,"N/A","N/A","N/A","N/A",{"$f":"HYPERLINK(\"https://www.msleague.fr/?page_id=1502&um_user=Nicaro88\", \"Nicaro88\")","v":"Nicaro88"},"Nico","Froms",{"$f":"_xlfn.XLOOKUP(A410,BDD!A406:A10404,BDD!B406:B10404,\" \",0,1)","v":"fromsvtec88@hotmail.com"},43.21697467488022,15785,"Nicaro88 VALKY 12/01/1981 🇧🇪 Belgium ADSL PlayStation 4 Filaire Volant Thrustmaster A+ S Legend 95 Safe  N/A N/A N/A N/A Nicaro88 Nico Froms fromsvtec88@hotmail.com"]
["NicoPaho","Indép.","6/10/1980","🇫🇷 French","N/A","PlayStation 5","N/A","Volant Thrustmaster","B","S","Gold",60,"Safe",0,"N/A","N/A","N/A","N/A",{"$f":"HYPERLINK(\"https://www.msleague.fr/?page_id=1502&um_user=NicoPaho\", \"NicoPaho\")","v":"NicoPaho"},"Nicolas","Aldebert",{"$f":"_xlfn.XLOOKUP(A411,BDD!A407:A10405,BDD!B407:B10405,\" \",0,1)","v":"nicopaho@gmail.com"},43.485284052019168,15883,"NicoPaho Indép. 6/10/1980 🇫🇷 French N/A PlayStation 5 N/A Volant Thrustmaster B S Gold 60 Safe 0 N/A N/A N/A N/A NicoPaho Nicolas Aldebert nicopaho@gmail.com"]
["Nicosana","VBF","31/03/1989","🇫🇷 French","N/A","PlayStation 5","N/A","Volant Logitech","D","S","Silver",40,"Safe",0,"N/A","N/A","N/A","N/A",{"$f":"HYPERLINK(\"https://www.msleague.fr/?page_id=1502&um_user=Nicosana\", \"Nicosana\")","v":"Nicosana"},"Nicolas","Posada",{"$f":"_xlfn.XLOOKUP(A412,BDD!A408:A10406,BDD!B408:B10406,\" \",0,1)","v":"nicolas83posada@gmail.com"},35.003422313483917,12785,"Nicosana VBF 31/03/1989 🇫🇷 French N/A PlayStation 5 N/A Volant Logitech D S Silver 40 Safe 0 N/A N/A N/A N/A Nicosana Nicolas Posada nicolas83posada@gmail.com"]
["NLR_Absolute","NLR","19/03/2004","🇫🇷 French","N/A","PlayStation 4","N/A","Volant Thrustmaster","A+","S","Legend",95.25,"Safe",0,2,"N/A",9,"N/A",{"$f":"HYPERLINK(\"https://www.msleague.fr/?page_id=1502&um_user=NLR_Absolute\", \"NLR_Absolute\")","v":"NLR_Absolute"},"Clement","Prestat",{"$f":"_xlfn.XLOOKUP(A413,BDD!A409:A10407,BDD!B409:B10407,\" \",0,1)","v":"absolute@nlresport.fr"},20.035592060232716,7318,"NLR_Absolute NLR 19/03/2004 🇫🇷 French N/A PlayStation 4 N/A Volant Thrustmaster A+ S Legend 95,25 Safe 0 2 N/A 9 N/A NLR_Absolute Clement Prestat absolute@nlresport.fr"]
["NLR_Amnesia45","NLR","23/12/1993","🇫🇷 French","Fibre","PlayStation 5","Wifi","Volant Thrustmaster","B","S","Gold",60,"Safe",null,"N/A","N/A","N/A","N/A",{"$f":"HYPERLINK(\"https://www.msleague.fr/?page_id=1502&um_user=NLR_Amnesia45\", \"NLR_Amnesia45\")","v":"NLR_Amnesia45"},"Kevin","Almimoff",{"$f":"_xlfn.XLOOKUP(A414,BDD!A410:A10408,BDD!B410:B10408,\" \",0,1)","v":"Amnesia@nlresport.fr"},30.272416153319643,11057,"NLR_Amnesia45 NLR 23/12/1993 🇫🇷 French Fibre PlayStation 5 Wifi Volant Thrustmaster B S Gold 60 Safe  N/A N/A N/A N/A NLR_Amnesia45 Kevin Almimoff Amnesia@nlresport.fr"]
["NLR_Axl-R","NLR","1/07/1973","🇫🇷 French","Fibre","PlayStation 5","Filaire","Volant Fanatec","A+","S","Legend",96.18,"Safe",0,1,0,8,0,{"$f":"HYPERLINK(\"https://www.msleague.fr/?page_id=1502&um_user=NLR_Axl-R\", \"NLR_Axl-R\")","v":"NLR_Axl-R"},"Stéphane","BABICZ",{"$f":"_xlfn.XLOOKUP(A415,BDD!A411:A10409,BDD!B411:B10409,\" \",0,1)","v":"axl-r@nlresport.fr"},50.751540041067763,18537,"NLR_Axl-R NLR 1/07/1973 🇫🇷 French Fibre PlayStation 5 Filaire Volant Fanatec A+ S Legend 96,18 Safe 0 1 0 8 0 NLR_Axl-R Stéphane BABICZ axl-r@nlresport.fr"]
["NLR_Biotron","NLR","18/07/1984","🇫🇷 French","N/A","PlayStation 4","N/A","Volant Thrustmaster","A+","S","Legend",97.34,"Safe",0,3,"33,33 %",10,0.1,{"$f":"HYPERLINK(\"https://www.msleague.fr/?page_id=1502&um_user=NLR_Biotron\", \"NLR_Biotron\")","v":"NLR_Biotron"},"Nicolas","Boutron",{"$f":"_xlfn.XLOOKUP(A416,BDD!A412:A10410,BDD!B412:B10410,\" \",0,1)","v":"nicoboutron@msn.com"},39.704312114989733,14502,"NLR_Biotron NLR 18/07/1984 🇫🇷 French N/A PlayStation 4 N/A Volant Thrustmaster A+ S Legend 97,34 Safe 0 3 33,33 % 10 0,1 NLR_Biotron Nicolas Boutron nicoboutron@msn.com"]
["NLR_BISON-FUTE","NLR","14/12/1973","🇫🇷 French","N/A","PlayStation 5","N/A","Volant Fanatec","B","S","Gold",58.86,"Safe",0,1,"N/A",6,"N/A",{"$f":"HYPERLINK(\"https://www.msleague.fr/?page_id=1502&um_user=NLR_BISON-FUTE\", \"NLR_BISON-FUTE\")","v":"NLR_BISON-FUTE"},"Jean jacques","LOUISON",{"$f":"_xlfn.XLOOKUP(A417,BDD!A413:A10411,BDD!B413:B10411,\" \",0,1)","v":"louison.jean-jacques@orange.fr"},50.297056810403831,18371,"NLR_BISON-FUTE NLR 14/12/1973 🇫🇷 French N/A PlayStation 5 N/A Volant Fanatec B S Gold 58,86 Safe 0 1 N/A 6 N/A NLR_BISON-FUTE Jean jacques LOUISON louison.jean-jacques@orange.fr"]
["NLR_Brabus","NLR","13/12/2003","🇫🇷 French","N/A","PlayStation 4","N/A","Manette","A","S","Platinum",84.93,"Safe",0,1,100,1,100,{"$f":"HYPERLINK(\"https://www.msleague.fr/?page_id=1502&um_user=NLR_Brabus\", \"NLR_Brabus\")","v":"NLR_Brabus"},"Riyad","Oussous",{"$f":"_xlfn.XLOOKUP(A418,BDD!A414:A10412,BDD!B414:B10412,\" \",0,1)","v":"riyadoussous@hotmail.com"},20.301163586584533,7415,"NLR_Brabus NLR 13/12/2003 🇫🇷 French N/A PlayStation 4 N/A Manette A S Platinum 84,93 Safe 0 1 100 1 100 NLR_Brabus Riyad Oussous riyadoussous@hotmail.com"]
["NLR_Damso","NLR","30/08/1991","🇫🇷 French","N/A","PlayStation 4","N/A","Volant Thrustmaster","A+","S","Legend",94.29,"Safe",0,1,"N/A",6,"N/A",{"$f":"HYPERLINK(\"https://www.msleague.fr/?page_id=1502&um_user=NLR_Damso\", \"NLR_Damso\")","v":"NLR_Damso"},"Olivier","Lartigue",{"$f":"_xlfn.XLOOKUP(A419,BDD!A415:A10413,BDD!B415:B10413,\" \",0,1)","v":"Olivierlartigue33@gmail.com"},32.588637919233399,11903,"NLR_Damso NLR 30/08/1991 🇫🇷 French N/A PlayStation 4 N/A Volant Thrustmaster A+ S Legend 94,29 Safe 0 1 N/A 6 N/A NLR_Damso Olivier Lartigue Olivierlartigue33@gmail.com"]
["NLR_HnBal_974","NLR","9/05/1976","🇫🇷 French","N/A","PlayStation 4","N/A","Volant Thrustmaster","A","S","Platinum",80,"Safe",0,"N/A","N/A","N/A","N/A",{"$f":"HYPERLINK(\"https://www.msleague.fr/?page_id=1502&um_user=NLR_HnBal_974\", \"NLR_HnBal_974\")","v":"NLR_HnBal_974"},"Bruno","Etheves",{"$f":"_xlfn.XLOOKUP(A420,BDD!A416:A10414,BDD!B416:B10414,\" \",0,1)","v":"etheves974@gmail.com"},47.89596167008898,17494,"NLR_HnBal_974 NLR 9/05/1976 🇫🇷 French N/A PlayStation 4 N/A Volant Thrustmaster A S Platinum 80 Safe 0 N/A N/A N/A N/A NLR_HnBal_974 Bruno Etheves etheves974@gmail.com"]
["NLR_Lecath93","NLR","31/01/1979","🇫🇷 French","N/A","PlayStation 5","N/A","Volant Thrustmaster","A+","S","Legend",95,"Safe",0,"N/A","N/A","N/A","N/A",{"$f":"HYPERLINK(\"https://www.msleague.fr/?page_id=1502&um_user=NLR_Lecath93\", \"NLR_Lecath93\")","v":"NLR_Lecath93"},"maxime","cathelinaud",{"$f":"_xlfn.XLOOKUP(A421,BDD!A417:A10415,BDD!B417:B10415,\" \",0,1)","v":"lecath93@gmail.com"},45.166324435318273,16497,"NLR_Lecath93 NLR 31/01/1979 🇫🇷 French N/A PlayStation 5 N/A Volant Thrustmaster A+ S Legend 95 Safe 0 N/A N/A N/A N/A NLR_Lecath93 maxime cathelinaud lecath93@gmail.com"]
["NLR_LeLionMalin","NLR","27/07/1987","🇫🇷 French","N/A","PlayStation 4","N/A","Volant Thrustmaster","A","S","Platinum",79.78,"Safe",0,2,"N/A",7,"N/A",{"$f":"HYPERLINK(\"https://www.msleague.fr/?page_id=1502&um_user=NLR_LeLionMalin\", \"NLR_LeLionMalin\")","v":"NLR_LeLionMalin"},"Yannick","Virginius",{"$f":"_xlfn.XLOOKUP(A422,BDD!A418:A10416,BDD!B418:B10416,\" \",0,1)","v":"virginiusyannick@gmail.com"},36.681724845995895,13398,"NLR_LeLionMalin NLR 27/07/1987 🇫🇷 French N/A PlayStation 4 N/A Volant Thrustmaster A S Platinum 79,78 Safe 0 2 N/A 7 N/A NLR_LeLionMalin Yannick Virginius virginiusyannick@gmail.com"]
["NLR_M-Roshi","NLR","26/02/2001","🇫🇷 French","Fibre","PlayStation 5","Filaire","Volant Logitech","A+","S","Legend",95.28,"Safe",10,1,0,1,0,{"$f":"HYPERLINK(\"https://www.msleague.fr/?page_id=1502&um_user=NLR_M-Roshi\", \"NLR_M-Roshi\")","v":"NLR_M-Roshi"},"Quentin","Dupuis Alivaud",{"$f":"_xlfn.XLOOKUP(A423,BDD!A419:A10417,BDD!B419:B10417,\" \",0,1)","v":"m-roshi@nlresport.fr"},23.093771389459274,8435,"NLR_M-Roshi NLR 26/02/2001 🇫🇷 French Fibre PlayStation 5 Filaire Volant Logitech A+ S Legend 95,28 Safe 10 1 0 1 0 NLR_M-Roshi Quentin Dupuis Alivaud m-roshi@nlresport.fr"]
["NLR_Mich","NLR","6/04/1988","🇫🇷 French","N/A","PlayStation 5","N/A","Volant Thrustmaster","B","S","Gold",60,"Safe",0,"N/A","N/A",0,"N/A",{"$f":"HYPERLINK(\"https://www.msleague.fr/?page_id=1502&um_user=NLR_Mich\", \"NLR_Mich\")","v":"NLR_Mich"},"Michel","Lorsom",{"$f":"_xlfn.XLOOKUP(A424,BDD!A420:A10418,BDD!B420:B10418,\" \",0,1)","v":"Neveu88@hotmail.fr"},35.986310746064341,13144,"NLR_Mich NLR 6/04/1988 🇫🇷 French N/A PlayStation 5 N/A Volant Thrustmaster B S Gold 60 Safe 0 N/A N/A 0 N/A NLR_Mich Michel Lorsom Neveu88@hotmail.fr"]
["NLR_MickElAngelo","NLR","28/09/1978","🇫🇷 French","N/A","PlayStation 4","N/A","Volant Thrustmaster","A+","S","Legend",94.19,"Safe",0,3,0,9,0,{"$f":"HYPERLINK(\"https://www.msleague.fr/?page_id=1502&um_user=NLR_MickElAngelo\", \"NLR_MickElAngelo\")","v":"NLR_MickElAngelo"},"Michel","GYPPAZ",{"$f":"_xlfn.XLOOKUP(A425,BDD!A421:A10419,BDD!B421:B10419,\" \",0,1)","v":"gyppaz@orange.fr"},45.508555783709788,16622,"NLR_MickElAngelo NLR 28/09/1978 🇫🇷 French N/A PlayStation 4 N/A Volant Thrustmaster A+ S Legend 94,19 Safe 0 3 0 9 0 NLR_MickElAngelo Michel GYPPAZ gyppaz@orange.fr"]
["NLR_Nico69","NLR","28/12/1995","🇫🇷 French","N/A","PlayStation 5","N/A","Volant Thrustmaster","A+","S","Legend",95,"Safe",0,"N/A","N/A","N/A","N/A",{"$f":"HYPERLINK(\"https://www.msleague.fr/?page_id=1502&um_user=NLR_Nico69\", \"NLR_Nico69\")","v":"NLR_Nico69"},"Nicolas","Gressard",{"$f":"_xlfn.XLOOKUP(A426,BDD!A422:A10420,BDD!B422:B10420,\" \",0,1)","v":"Gressardnicolassm@gmail.com"},28.260095824777551,10322,"NLR_Nico69 NLR 28/12/1995 🇫🇷 French N/A PlayStation 5 N/A Volant Thrustmaster A+ S Legend 95 Safe 0 N/A N/A N/A N/A NLR_Nico69 Nicolas Gressard Gressardnicolassm@gmail.com"]
["NLR_Phoenix","NLR","10/12/1985","🇫🇷 French","Fibre","PlayStation 5","Filaire","Volant Fanatec","A+","S","Legend",97.18,"Safe",0,2,0,7,"42,86%",{"$f":"HYPERLINK(\"https://www.msleague.fr/?page_id=1502&um_user=NLR_Phoenix\", \"NLR_Phoenix\")","v":"NLR_Phoenix"},"Jeremie","Piat",{"$f":"_xlfn.XLOOKUP(A427,BDD!A423:A10421,BDD!B423:B10421,\" \",0,1)","v":"nlrphoenix7@gmail.com"},38.308008213552363,13992,"NLR_Phoenix NLR 10/12/1985 🇫🇷 French Fibre PlayStation 5 Filaire Volant Fanatec A+ S Legend 97,18 Safe 0 2 0 7 42,86% NLR_Phoenix Jeremie Piat nlrphoenix7@gmail.com"]
["NLR_PreludeGen04","NLR","28/09/1992","🇫🇷 French","N/A","PlayStation 5","N/A","Volant Thrustmaster","A+","S","Legend",99.94,"Gentleman Driver",10,2,0,8,"37,50 %",{"$f":"HYPERLINK(\"https://www.msleague.fr/?page_id=1502&um_user=NLR_PreludeGen04\", \"NLR_PreludeGen04\")","v":"NLR_PreludeGen04"},"Sebastien","Herbaut",{"$f":"_xlfn.XLOOKUP(A428,BDD!A424:A10422,BDD!B424:B10422,\" \",0,1)","v":"Sebastien.herbaut@outlook.fr"},31.507186858316221,11508,"NLR_PreludeGen04 NLR 28/09/1992 🇫🇷 French N/A PlayStation 5 N/A Volant Thrustmaster A+ S Legend 99,94 Gentleman Driver 10 2 0 8 37,50 % NLR_PreludeGen04 Sebastien Herbaut Sebastien.herbaut@outlook.fr"]
["NLR_SoPr4","NLR","28/08/1990","🇫🇷 French","N/A","PlayStation 5","N/A","Volant Thrustmaster","A+","S","Legend",93.49,"Safe",0,1,"N/A",8,"N/A",{"$f":"HYPERLINK(\"https://www.msleague.fr/?page_id=1502&um_user=NLR_SoPr4\", \"NLR_SoPr4\")","v":"NLR_SoPr4"},"Thibaut","Coet",{"$f":"_xlfn.XLOOKUP(A429,BDD!A425:A10423,BDD!B425:B10423,\" \",0,1)","v":"Thcoet@laposte.net"},33.593429158110879,12270,"NLR_SoPr4 NLR 28/08/1990 🇫🇷 French N/A PlayStation 5 N/A Volant Thrustmaster A+ S Legend 93,49 Safe 0 1 N/A 8 N/A NLR_SoPr4 Thibaut Coet Thcoet@laposte.net"]
["NLR_Starsky","NLR","22/05/1971","🇫🇷 French","N/A","PlayStation 5","N/A","Volant Thrustmaster","A","S","Platinum",88.47,"Safe",0,1,0,7,0,{"$f":"HYPERLINK(\"https://www.msleague.fr/?page_id=1502&um_user=NLR_Starsky\", \"NLR_Starsky\")","v":"NLR_Starsky"},"Thierry","Sala",{"$f":"_xlfn.XLOOKUP(A430,BDD!A426:A10424,BDD!B426:B10424,\" \",0,1)","v":"tsala@leni.fr"},52.862422997946609,19308,"NLR_Starsky NLR 22/05/1971 🇫🇷 French N/A PlayStation 5 N/A Volant Thrustmaster A S Platinum 88,47 Safe 0 1 0 7 0 NLR_Starsky Thierry Sala tsala@leni.fr"]
["NLR_Tosh","NLR","31/12/1993","🇫🇷 French","Fibre","PlayStation 5","Filaire","Volant Logitech","A","S","Platinum",80,"Safe",0,"N/A","N/A","N/A","N/A",{"$f":"HYPERLINK(\"https://www.msleague.fr/?page_id=1502&um_user=NLR_Tosh\", \"NLR_Tosh\")","v":"NLR_Tosh"},"Anthony","DURO",{"$f":"_xlfn.XLOOKUP(A431,BDD!A427:A10425,BDD!B427:B10425,\" \",0,1)","v":"zobellegaming@gmail.com"},30.250513347022586,11049,"NLR_Tosh NLR 31/12/1993 🇫🇷 French Fibre PlayStation 5 Filaire Volant Logitech A S Platinum 80 Safe 0 N/A N/A N/A N/A NLR_Tosh Anthony DURO zobellegaming@gmail.com"]
["NLR_YoannB","NLR","30/11/1985","🇫🇷 French","N/A","PlayStation 5","N/A","Volant Thrustmaster","A+","S","Legend",93.61,"Safe",0,3,0,21,0,{"$f":"HYPERLINK(\"https://www.msleague.fr/?page_id=1502&um_user=NLR_YoannB\", \"NLR_YoannB\")","v":"NLR_YoannB"},"Yoann","Bernolin",{"$f":"_xlfn.XLOOKUP(A432,BDD!A428:A10426,BDD!B428:B10426,\" \",0,1)","v":"Easyrider71@gmail.com"},38.335386721423681,14002,"NLR_YoannB NLR 30/11/1985 🇫🇷 French N/A PlayStation 5 N/A Volant Thrustmaster A+ S Legend 93,61 Safe 0 3 0 21 0 NLR_YoannB Yoann Bernolin Easyrider71@gmail.com"]
["Noah91410","Indép.","29/11/1982","🇫🇷 French","ADSL","PlayStation 5","Filaire","Volant Fanatec","B","S","Gold",60,"Safe",null,"N/A","N/A","N/A","N/A",{"$f":"HYPERLINK(\"https://www.msleague.fr/?page_id=1502&um_user=Noah91410\", \"Noah91410\")","v":"Noah91410"},"Bruno","Oliveira",{"$f":"_xlfn.XLOOKUP(A433,BDD!A429:A10427,BDD!B429:B10427,\" \",0,1)","v":"bruno91410@free.fr"},41.338809034907598,15099,"Noah91410 Indép. 29/11/1982 🇫🇷 French ADSL PlayStation 5 Filaire Volant Fanatec B S Gold 60 Safe  N/A N/A N/A N/A Noah91410 Bruno Oliveira bruno91410@free.fr"]
["nom_nom_power-NL","Indép.","10/01/2008","🇳🇱 Netherland","N/A","PlayStation 4","N/A","Volant Logitech","C","B","Silver",40,"Batailleur",0,"N/A","N/A","N/A","N/A",{"$f":"HYPERLINK(\"https://www.msleague.fr/?page_id=1502&um_user=nom_nom_power-NL\", \"nom_nom_power-NL\")","v":"nom_nom_power-NL"},"Thomas","Smit",{"$f":"_xlfn.XLOOKUP(A434,BDD!A430:A10428,BDD!B430:B10428,\" \",0,1)","v":"tsmit6181@gmail.com"},16.224503764544831,5926,"nom_nom_power-NL Indép. 10/01/2008 🇳🇱 Netherland N/A PlayStation 4 N/A Volant Logitech C B Silver 40 Batailleur 0 N/A N/A N/A N/A nom_nom_power-NL Thomas Smit tsmit6181@gmail.com"]
["NRT_Benna","NRT","22/06/2004","🇧🇪 Belgium","N/A","PlayStation 4","N/A","Volant Thrustmaster","A+","S","Legend",90.65,"Safe",0,1,"N/A",8,"N/A",{"$f":"HYPERLINK(\"https://www.msleague.fr/?page_id=1502&um_user=NRT_Benna\", \"NRT_Benna\")","v":"NRT_Benna"},"Noah","Blero",{"$f":"_xlfn.XLOOKUP(A435,BDD!A431:A10429,BDD!B431:B10429,\" \",0,1)","v":"noah.blero@gmail.com"},19.775496235455169,7223,"NRT_Benna NRT 22/06/2004 🇧🇪 Belgium N/A PlayStation 4 N/A Volant Thrustmaster A+ S Legend 90,65 Safe 0 1 N/A 8 N/A NRT_Benna Noah Blero noah.blero@gmail.com"]
["NRW_Sonic77","NRW","13/02/1977","🇩🇪 Germany","N/A","PlayStation 5","N/A","Volant Logitech","A+","S","Legend",95,"Safe",0,"N/A","N/A",0,"N/A",{"$f":"HYPERLINK(\"https://www.msleague.fr/?page_id=1502&um_user=NRW_Sonic77\", \"NRW_Sonic77\")","v":"NRW_Sonic77"},"Thomas","Mönkebüscher",{"$f":"_xlfn.XLOOKUP(A436,BDD!A432:A10430,BDD!B432:B10430,\" \",0,1)","v":"thomas.moenkebuescher@gmx.net"},47.129363449691994,17214,"NRW_Sonic77 NRW 13/02/1977 🇩🇪 Germany N/A PlayStation 5 N/A Volant Logitech A+ S Legend 95 Safe 0 N/A N/A 0 N/A NRW_Sonic77 Thomas Mönkebüscher thomas.moenkebuescher@gmx.net"]
["Nrw_tuts","NRW","16/06/1981","🇩🇪 Germany","N/A","PlayStation 5","N/A","Volant Fanatec","A+","S","Legend",95,"Safe",0,"N/A","N/A",0,"N/A",{"$f":"HYPERLINK(\"https://www.msleague.fr/?page_id=1502&um_user=Nrw_tuts\", \"Nrw_tuts\")","v":"Nrw_tuts"},"Thomas","Piletis",{"$f":"_xlfn.XLOOKUP(A437,BDD!A433:A10431,BDD!B433:B10431,\" \",0,1)","v":"tutsmc@web.de"},42.792607802874741,15630,"Nrw_tuts NRW 16/06/1981 🇩🇪 Germany N/A PlayStation 5 N/A Volant Fanatec A+ S Legend 95 Safe 0 N/A N/A 0 N/A Nrw_tuts Thomas Piletis tutsmc@web.de"]
["Occulus64","PRT","3/02/2000","🇫🇷 French","Fibre","PlayStation 5","Filaire","Volant Logitech","A","S","Platinum",80,"Safe",0,"N/A","N/A","N/A","N/A",{"$f":"HYPERLINK(\"https://www.msleague.fr/?page_id=1502&um_user=Occulus64\", \"Occulus64\")","v":"Occulus64"},"Steve","Dimey",{"$f":"_xlfn.XLOOKUP(A438,BDD!A434:A10432,BDD!B434:B10432,\" \",0,1)","v":"Killuasta64@gmail.com"},24.158795345653662,8824,"Occulus64 PRT 3/02/2000 🇫🇷 French Fibre PlayStation 5 Filaire Volant Logitech A S Platinum 80 Safe 0 N/A N/A N/A N/A Occulus64 Steve Dimey Killuasta64@gmail.com"]
["ODS_JOSE82","ODS","3/01/1982","🇵🇹 Portugal","N/A","PlayStation 5","N/A","Volant Logitech","A","S","Platinum",80,"Safe",0,"N/A","N/A",0,"N/A",{"$f":"HYPERLINK(\"https://www.msleague.fr/?page_id=1502&um_user=ODS_JOSE82\", \"ODS_JOSE82\")","v":"ODS_JOSE82"},"NOGUEIRA","José",{"$f":"_xlfn.XLOOKUP(A439,BDD!A435:A10433,BDD!B435:B10433,\" \",0,1)","v":"josecarlossilvanogueira@gmail.com"},42.242299794661193,15429,"ODS_JOSE82 ODS 3/01/1982 🇵🇹 Portugal N/A PlayStation 5 N/A Volant Logitech A S Platinum 80 Safe 0 N/A N/A 0 N/A ODS_JOSE82 NOGUEIRA José josecarlossilvanogueira@gmail.com"]
["ODS_OrSylvain67","Indép.","17/01/1984","🇫🇷 French","N/A","PlayStation 5","N/A","Volant Thrustmaster","B","S","Gold",60,"Safe",0,"N/A","N/A","N/A","N/A",{"$f":"HYPERLINK(\"https://www.msleague.fr/?page_id=1502&um_user=ODS_OrSylvain67\", \"ODS_OrSylvain67\")","v":"ODS_OrSylvain67"},"Sylvain","Hamm",{"$f":"_xlfn.XLOOKUP(A440,BDD!A436:A10434,BDD!B436:B10434,\" \",0,1)","v":"hamm67380@gmail.com"},40.205338809034906,14685,"ODS_OrSylvain67 Indép. 17/01/1984 🇫🇷 French N/A PlayStation 5 N/A Volant Thrustmaster B S Gold 60 Safe 0 N/A N/A N/A N/A ODS_OrSylvain67 Sylvain Hamm hamm67380@gmail.com"]
["ODS-Marco","ODS","13/05/1971","🇧🇪 Belgium","N/A","PlayStation 5","N/A","Volant Fanatec","C","S","Silver",40,"Safe",0,"N/A","N/A","N/A","N/A",{"$f":"HYPERLINK(\"https://www.msleague.fr/?page_id=1502&um_user=ODS-Marco\", \"ODS-Marco\")","v":"ODS-Marco"},"Marco","Fiori",{"$f":"_xlfn.XLOOKUP(A441,BDD!A437:A10435,BDD!B437:B10435,\" \",0,1)","v":"marco.fiori.1971@hotmail.com"},52.887063655030801,19317,"ODS-Marco ODS 13/05/1971 🇧🇪 Belgium N/A PlayStation 5 N/A Volant Fanatec C S Silver 40 Safe 0 N/A N/A N/A N/A ODS-Marco Marco Fiori marco.fiori.1971@hotmail.com"]
["Ofon37","VBF","4/10/1986","🇫🇷 French","N/A","PlayStation 4","N/A","Manette","C","S","Silver",40,"Safe",0,"N/A","N/A",0,"N/A",{"$f":"HYPERLINK(\"https://www.msleague.fr/?page_id=1502&um_user=Ofon37\", \"Ofon37\")","v":"Ofon37"},"Jimmy","Bruler",{"$f":"_xlfn.XLOOKUP(A442,BDD!A438:A10436,BDD!B438:B10436,\" \",0,1)","v":"ofon1086@gmail.com"},37.492128678986994,13694,"Ofon37 VBF 4/10/1986 🇫🇷 French N/A PlayStation 4 N/A Manette C S Silver 40 Safe 0 N/A N/A 0 N/A Ofon37 Jimmy Bruler ofon1086@gmail.com"]
["OMR_Smaid","OMR","29/03/1989","🇫🇷 French","N/A","PlayStation 5","N/A","Volant Thrustmaster","A+","S","Legend",95,"Safe",0,"N/A","N/A","N/A","N/A",{"$f":"HYPERLINK(\"https://www.msleague.fr/?page_id=1502&um_user=OMR_Smaid\", \"OMR_Smaid\")","v":"OMR_Smaid"},"Alexandre","Dias",{"$f":"_xlfn.XLOOKUP(A443,BDD!A439:A10437,BDD!B439:B10437,\" \",0,1)","v":"smaid1@hotmail.fr"},35.008898015058179,12787,"OMR_Smaid OMR 29/03/1989 🇫🇷 French N/A PlayStation 5 N/A Volant Thrustmaster A+ S Legend 95 Safe 0 N/A N/A N/A N/A OMR_Smaid Alexandre Dias smaid1@hotmail.fr"]
["OMT_disjoncter29","OMT","25/09/1986","🇧🇪 Belgium","N/A","PlayStation 4","N/A","Volant Thrustmaster","B","S","Gold",60,"Safe",0,"N/A","N/A",0,"N/A",{"$f":"HYPERLINK(\"https://www.msleague.fr/?page_id=1502&um_user=OMT_disjoncter29\", \"OMT_disjoncter29\")","v":"OMT_disjoncter29"},"jonathan","simon",{"$f":"_xlfn.XLOOKUP(A444,BDD!A440:A10438,BDD!B440:B10438,\" \",0,1)","v":"jonathanangel10.22@gmail.com"},37.516769336071185,13703,"OMT_disjoncter29 OMT 25/09/1986 🇧🇪 Belgium N/A PlayStation 4 N/A Volant Thrustmaster B S Gold 60 Safe 0 N/A N/A 0 N/A OMT_disjoncter29 jonathan simon jonathanangel10.22@gmail.com"]
["OMT_Takayoshi","OMt","19/10/1974","🇧🇪 Belgium","N/A","PlayStation 4","N/A","Volant Thrustmaster","D","B","Bronze",20,"Batailleur",0,"N/A","N/A",0,"N/A",{"$f":"HYPERLINK(\"https://www.msleague.fr/?page_id=1502&um_user=OMT_Takayoshi\", \"OMT_Takayoshi\")","v":"OMT_Takayoshi"},"Michel","Harbicki",{"$f":"_xlfn.XLOOKUP(A445,BDD!A441:A10439,BDD!B441:B10439,\" \",0,1)","v":"michelharbicki74@gmail.com"},49.451060917180016,18062,"OMT_Takayoshi OMt 19/10/1974 🇧🇪 Belgium N/A PlayStation 4 N/A Volant Thrustmaster D B Bronze 20 Batailleur 0 N/A N/A 0 N/A OMT_Takayoshi Michel Harbicki michelharbicki74@gmail.com"]
["OMT_TOYZ","OMT","10/05/1975","🇫🇷 French","N/A","PlayStation 5","N/A","Volant Fanatec","B","S","Gold",60,"Safe",0,"N/A","N/A",0,"N/A",{"$f":"HYPERLINK(\"https://www.msleague.fr/?page_id=1502&um_user=OMT_TOYZ\", \"OMT_TOYZ\")","v":"OMT_TOYZ"},"Germain","Tuaillon",{"$f":"_xlfn.XLOOKUP(A446,BDD!A442:A10440,BDD!B442:B10440,\" \",0,1)","v":"toyz21300@hotmail.fr"},48.895277207392198,17859,"OMT_TOYZ OMT 10/05/1975 🇫🇷 French N/A PlayStation 5 N/A Volant Fanatec B S Gold 60 Safe 0 N/A N/A 0 N/A OMT_TOYZ Germain Tuaillon toyz21300@hotmail.fr"]
["OMT_Ulyss63","OMT","9/11/1963","🇫🇷 French","N/A","PlayStation 4","N/A","Volant Thrustmaster","B","S","Gold",60,"Safe",0,"N/A","N/A",0,"N/A",{"$f":"HYPERLINK(\"https://www.msleague.fr/?page_id=1502&um_user=OMT_Ulyss63\", \"OMT_Ulyss63\")","v":"OMT_Ulyss63"},"Philippe","Castagné",{"$f":"_xlfn.XLOOKUP(A447,BDD!A443:A10441,BDD!B443:B10441,\" \",0,1)","v":"camaroz28s@laposte.net"},60.394250513347025,22059,"OMT_Ulyss63 OMT 9/11/1963 🇫🇷 French N/A PlayStation 4 N/A Volant Thrustmaster B S Gold 60 Safe 0 N/A N/A 0 N/A OMT_Ulyss63 Philippe Castagné camaroz28s@laposte.net"]
["OMT_Vicking93","OMT","10/02/1971","🇫🇷 French","N/A","PlayStation 5","N/A","Volant Thrustmaster","B","S","Gold",60,"Safe",0,"N/A","N/A",0,"N/A",{"$f":"HYPERLINK(\"https://www.msleague.fr/?page_id=1502&um_user=OMT_Vicking93\", \"OMT_Vicking93\")","v":"OMT_Vicking93"},"David","Saussaye",{"$f":"_xlfn.XLOOKUP(A448,BDD!A444:A10442,BDD!B444:B10442,\" \",0,1)","v":"christdav.saus@bbox.fr"},53.138945927446954,19409,"OMT_Vicking93 OMT 10/02/1971 🇫🇷 French N/A PlayStation 5 N/A Volant Thrustmaster B S Gold 60 Safe 0 N/A N/A 0 N/A OMT_Vicking93 David Saussaye christdav.saus@bbox.fr"]
["OMT-DEMONIAQUE","OMT","10/01/1975","🇫🇷 French","N/A","PlayStation 5","N/A","Volant Thrustmaster","B","S","Gold",60,"Safe",0,"N/A","N/A","N/A","N/A",{"$f":"HYPERLINK(\"https://www.msleague.fr/?page_id=1502&um_user=OMT-DEMONIAQUE\", \"OMT-DEMONIAQUE\")","v":"OMT-DEMONIAQUE"},"Max","Lefrancois",{"$f":"_xlfn.XLOOKUP(A449,BDD!A445:A10443,BDD!B445:B10443,\" \",0,1)","v":"Sullyvan62400@live.fr"},49.223819301848046,17979,"OMT-DEMONIAQUE OMT 10/01/1975 🇫🇷 French N/A PlayStation 5 N/A Volant Thrustmaster B S Gold 60 Safe 0 N/A N/A N/A N/A OMT-DEMONIAQUE Max Lefrancois Sullyvan62400@live.fr"]
["OMT-NICO72","OMT","17/05/1988","🇫🇷 French","N/A","PlayStation 5","N/A","Manette","C","S","Silver",40,"Safe",0,"N/A","N/A",0,"N/A",{"$f":"HYPERLINK(\"https://www.msleague.fr/?page_id=1502&um_user=OMT-NICO72\", \"OMT-NICO72\")","v":"OMT-NICO72"},"Nicolas","Furon",{"$f":"_xlfn.XLOOKUP(A450,BDD!A446:A10444,BDD!B446:B10444,\" \",0,1)","v":"Furonn72700@gmail.com"},35.874058863791923,13103,"OMT-NICO72 OMT 17/05/1988 🇫🇷 French N/A PlayStation 5 N/A Manette C S Silver 40 Safe 0 N/A N/A 0 N/A OMT-NICO72 Nicolas Furon Furonn72700@gmail.com"]
["OSR_docbrown40","OSR","7/02/1983","🇫🇷 French","N/A","PlayStation 5","N/A","Volant Thrustmaster","A+","S","Legend",95,"Safe",0,"N/A","N/A","N/A","N/A",{"$f":"HYPERLINK(\"https://www.msleague.fr/?page_id=1502&um_user=OSR_docbrown40\", \"OSR_docbrown40\")","v":"OSR_docbrown40"},"François","Rabier",{"$f":"_xlfn.XLOOKUP(A451,BDD!A447:A10445,BDD!B447:B10445,\" \",0,1)","v":"labayts40@hotmail.fr"},41.147159479808352,15029,"OSR_docbrown40 OSR 7/02/1983 🇫🇷 French N/A PlayStation 5 N/A Volant Thrustmaster A+ S Legend 95 Safe 0 N/A N/A N/A N/A OSR_docbrown40 François Rabier labayts40@hotmail.fr"]
["OSR_Evilsnake64","Indép.","3/06/1972","🇫🇷 French","N/A","PlayStation 5","N/A","Volant Thrustmaster","B","S","Gold",60,"Safe",0,"N/A","N/A","N/A","N/A",{"$f":"HYPERLINK(\"https://www.msleague.fr/?page_id=1502&um_user=OSR_Evilsnake64\", \"OSR_Evilsnake64\")","v":"OSR_Evilsnake64"},"philippe","DEGUERRE",{"$f":"_xlfn.XLOOKUP(A452,BDD!A448:A10446,BDD!B448:B10446,\" \",0,1)","v":"philippedeguerre@gmail.com"},51.827515400410675,18930,"OSR_Evilsnake64 Indép. 3/06/1972 🇫🇷 French N/A PlayStation 5 N/A Volant Thrustmaster B S Gold 60 Safe 0 N/A N/A N/A N/A OSR_Evilsnake64 philippe DEGUERRE philippedeguerre@gmail.com"]
["OSR_GUY","OSR","5/08/1963","🇫🇷 French","N/A","PlayStation 5","N/A","Volant Thrustmaster","A","S","Platinum",75.040000000000006,"Safe",0,2,0,7,"14,30 %",{"$f":"HYPERLINK(\"https://www.msleague.fr/?page_id=1502&um_user=OSR_GUY\", \"OSR_GUY\")","v":"OSR_GUY"},"Guy","Devaux",{"$f":"_xlfn.XLOOKUP(A453,BDD!A449:A10447,BDD!B449:B10447,\" \",0,1)","v":"Guy.devaux3@orange.fr"},{"$f":"IF(X453=\"\",\"\",CONVERT(X453,\"day\",\"yr\"))","v":60.657084188911703},22155,"OSR_GUY OSR 5/08/1963 🇫🇷 French N/A PlayStation 5 N/A Volant Thrustmaster A S Platinum 75,04 Safe 0 2 0 7 14,30 % OSR_GUY Guy Devaux Guy.devaux3@orange.fr"]
["OSR_JROS1968","OSR","8/06/1968","🇫🇷 French","N/A","PlayStation 5","N/A","Volant Thrustmaster","B","S","Gold",59.5,"Safe",0,1,"N/A",6,"N/A",{"$f":"HYPERLINK(\"https://www.msleague.fr/?page_id=1502&um_user=OSR_JROS1968\", \"OSR_JROS1968\")","v":"OSR_JROS1968"},"Jean roland","Saintignan",{"$f":"_xlfn.XLOOKUP(A454,BDD!A450:A10448,BDD!B450:B10448,\" \",0,1)","v":"saintignan.jean-roland@orange.fr"},55.813826146475016,20386,{"$f":"A454 & \" \" & B454 & \" \" & C454 & \" \" & D454 & \" \" & E454 & \" \" & F454 & \" \" & G454 & \" \" & H454 & \" \" & I454 & \" \" & J454 & \" \" & K454 & \" \" & L454 & \" \" & M454 & \" \" & N454 & \" \" & O454 & \" \" & P454 & \" \" &Q454 & \" \" & R454 & \" \" & S454 & \" \" & T454 & \" \" & U454 & \" \" & V454","v":"OSR_JROS1968 OSR 8/06/1968 🇫🇷 French N/A PlayStation 5 N/A Volant Thrustmaster B S Gold 59,5 Safe 0 1 N/A 6 N/A OSR_JROS1968 Jean roland Saintignan saintignan.jean-roland@orange.fr"}]
["OSR_MonsterPatou","OSR","27/10/1976","🇫🇷 French","N/A","PlayStation 4","N/A","Volant Fanatec","C","S","Silver",40,"Safe",0,"N/A","N/A","N/A","N/A",{"$f":"HYPERLINK(\"https://www.msleague.fr/?page_id=1502&um_user=OSR_MonsterPatou\", \"OSR_MonsterPatou\")","v":"OSR_MonsterPatou"},"Patrick","FONTAINE",{"$f":"_xlfn.XLOOKUP(A455,BDD!A451:A10449,BDD!B451:B10449,\" \",0,1)","v":"Gts.patouleboss28@gmail.com"},47.427789185489388,17323,"OSR_MonsterPatou OSR 27/10/1976 🇫🇷 French N/A PlayStation 4 N/A Volant Fanatec C S Silver 40 Safe 0 N/A N/A N/A N/A OSR_MonsterPatou Patrick FONTAINE Gts.patouleboss28@gmail.com"]
["OSR_Nilom","OSR","7/11/2000","🇫🇷 French","N/A","PlayStation 5","N/A","Volant Thrustmaster","A+","S","Legend",95,"Safe",0,"N/A","N/A",0,"N/A",{"$f":"HYPERLINK(\"https://www.msleague.fr/?page_id=1502&um_user=OSR_Nilom\", \"OSR_Nilom\")","v":"OSR_Nilom"},"Tom","Julien",{"$f":"_xlfn.XLOOKUP(A456,BDD!A452:A10450,BDD!B452:B10450,\" \",0,1)","v":"axelgtm@gmail.com"},23.397672826830938,8546,"OSR_Nilom OSR 7/11/2000 🇫🇷 French N/A PlayStation 5 N/A Volant Thrustmaster A+ S Legend 95 Safe 0 N/A N/A 0 N/A OSR_Nilom Tom Julien axelgtm@gmail.com"]
["OSR_R50GTR","OSR","21/02/1978","🇫🇷 French","N/A","PlayStation 5","N/A","Volant Logitech","D","S","Bronze",20,"Safe",0,"N/A","N/A","N/A","N/A",{"$f":"HYPERLINK(\"https://www.msleague.fr/?page_id=1502&um_user=OSR_R50GTR\", \"OSR_R50GTR\")","v":"OSR_R50GTR"},"Vincent","Sarcy",{"$f":"_xlfn.XLOOKUP(A457,BDD!A453:A10451,BDD!B453:B10451,\" \",0,1)","v":"sarcyvincent@gmail.com"},46.108145106091719,16841,"OSR_R50GTR OSR 21/02/1978 🇫🇷 French N/A PlayStation 5 N/A Volant Logitech D S Bronze 20 Safe 0 N/A N/A N/A N/A OSR_R50GTR Vincent Sarcy sarcyvincent@gmail.com"]
["OSR_Rasorbac12","OSR","11/11/1969","🇫🇷 French","N/A","PlayStation 5","N/A","Volant Thrustmaster","A","S","Platinum",75.569999999999993,"Safe",0,2,0,7,0,{"$f":"HYPERLINK(\"https://www.msleague.fr/?page_id=1502&um_user=OSR_Rasorbac12\", \"OSR_Rasorbac12\")","v":"OSR_Rasorbac12"},"Christophe","Deloge",{"$f":"_xlfn.XLOOKUP(A458,BDD!A454:A10452,BDD!B454:B10452,\" \",0,1)","v":"christophe.deloge0155@orange.fr"},54.387405886379192,19865,"OSR_Rasorbac12 OSR 11/11/1969 🇫🇷 French N/A PlayStation 5 N/A Volant Thrustmaster A S Platinum 75,57 Safe 0 2 0 7 0 OSR_Rasorbac12 Christophe Deloge christophe.deloge0155@orange.fr"]
["OSR-NISMO-M-Spec","OSR","3/01/1988","🇫🇷 French","N/A","PlayStation 4","N/A","Volant Thrustmaster","A+","S","Legend",90.27,"Fair-Play",0,1,"N/A",6,"N/A",{"$f":"HYPERLINK(\"https://www.msleague.fr/?page_id=1502&um_user=OSR-NISMO-M-Spec\", \"OSR-NISMO-M-Spec\")","v":"OSR-NISMO-M-Spec"},"Mehdi","Benalia",{"$f":"_xlfn.XLOOKUP(A459,BDD!A455:A10453,BDD!B455:B10453,\" \",0,1)","v":"m.benalia88@gmail.com"},36.243668720054757,13238,"OSR-NISMO-M-Spec OSR 3/01/1988 🇫🇷 French N/A PlayStation 4 N/A Volant Thrustmaster A+ S Legend 90,27 Fair-Play 0 1 N/A 6 N/A OSR-NISMO-M-Spec Mehdi Benalia m.benalia88@gmail.com"]
["OSR-SPAWN","OSR","27/09/1996","🇫🇷 French","Fibre","PlayStation 5","Filaire","Volant Logitech","B","S","Gold",58.11,"Dirty",0,1,0,1,0,{"$f":"HYPERLINK(\"https://www.msleague.fr/?page_id=1502&um_user=OSR-SPAWN\", \"OSR-SPAWN\")","v":"OSR-SPAWN"},"Tristan","Cailleux",{"$f":"_xlfn.XLOOKUP(A460,BDD!A456:A10454,BDD!B456:B10454,\" \",0,1)","v":"Cailleux93@gmail.com"},27.509924709103355,10048,"OSR-SPAWN OSR 27/09/1996 🇫🇷 French Fibre PlayStation 5 Filaire Volant Logitech B S Gold 58,11 Dirty 0 1 0 1 0 OSR-SPAWN Tristan Cailleux Cailleux93@gmail.com"]
["OWLS_ByJim24","OWLS","6/09/2008","🇪🇸 Spain","Câble","PlayStation 5","CPL","Volant Fanatec","A+","S","Legend",95,"Safe",null,"N/A","N/A","N/A","N/A",{"$f":"HYPERLINK(\"https://www.msleague.fr/?page_id=1502&um_user=OWLS_ByJim24\", \"OWLS_ByJim24\")","v":"OWLS_ByJim24"},"Jaime","Caballero",{"$f":"_xlfn.XLOOKUP(A461,BDD!A457:A10455,BDD!B457:B10455,\" \",0,1)","v":"byjim24@gmail.com"},15.567419575633128,5686,"OWLS_ByJim24 OWLS 6/09/2008 🇪🇸 Spain Câble PlayStation 5 CPL Volant Fanatec A+ S Legend 95 Safe  N/A N/A N/A N/A OWLS_ByJim24 Jaime Caballero byjim24@gmail.com"]
["OWLS_JMarti","OWLS","22/02/2007","🇪🇸 Spain","Câble","PlayStation 5","Filaire","Volant Fanatec","A+","S","Legend",95,"Safe",null,"N/A","N/A","N/A","N/A",{"$f":"HYPERLINK(\"https://www.msleague.fr/?page_id=1502&um_user=OWLS_JMarti\", \"OWLS_JMarti\")","v":"OWLS_JMarti"},"Jaime","Martí",{"$f":"_xlfn.XLOOKUP(A462,BDD!A458:A10456,BDD!B458:B10456,\" \",0,1)","v":"jmartigt@gmail.com"},17.10609171800137,6248,"OWLS_JMarti OWLS 22/02/2007 🇪🇸 Spain Câble PlayStation 5 Filaire Volant Fanatec A+ S Legend 95 Safe  N/A N/A N/A N/A OWLS_JMarti Jaime Martí jmartigt@gmail.com"]
["P2P_clemoteur66","P2P","15/04/1966","🇫🇷 French","N/A","PlayStation 5","N/A","Volant Fanatec","A","S","Platinum",80,"Safe",0,"N/A","N/A","N/A","N/A",{"$f":"HYPERLINK(\"https://www.msleague.fr/?page_id=1502&um_user=P2P_clemoteur66\", \"P2P_clemoteur66\")","v":"P2P_clemoteur66"},"Christophe","Lablee",{"$f":"_xlfn.XLOOKUP(A463,BDD!A459:A10457,BDD!B459:B10457,\" \",0,1)","v":"Christophe.lablee66@gmail.com"},57.963039014373713,21171,"P2P_clemoteur66 P2P 15/04/1966 🇫🇷 French N/A PlayStation 5 N/A Volant Fanatec A S Platinum 80 Safe 0 N/A N/A N/A N/A P2P_clemoteur66 Christophe Lablee Christophe.lablee66@gmail.com"]
["P2P_moto","P2P","25/11/1987","🇨🇭 Switzerland","N/A","PlayStation 5","N/A","Manette","A","S","Platinum",80,"Safe",0,"N/A","N/A",0,"N/A",{"$f":"HYPERLINK(\"https://www.msleague.fr/?page_id=1502&um_user=P2P_moto\", \"P2P_moto\")","v":"P2P_moto"},"Michael","Pinheiro",{"$f":"_xlfn.XLOOKUP(A464,BDD!A460:A10458,BDD!B460:B10458,\" \",0,1)","v":"michaelpinheiro2511@gmail.com"},36.350444900752912,13277,"P2P_moto P2P 25/11/1987 🇨🇭 Switzerland N/A PlayStation 5 N/A Manette A S Platinum 80 Safe 0 N/A N/A 0 N/A P2P_moto Michael Pinheiro michaelpinheiro2511@gmail.com"]
["Panamoric","ACTA","9/07/1997","🇨🇿 Czechia","Câble","PlayStation 5","Wifi","Volant Fanatec","A+","S","Legend",95,"Safe",null,"N/A","N/A","N/A","N/A",{"$f":"HYPERLINK(\"https://www.msleague.fr/?page_id=1502&um_user=Panamoric\", \"Panamoric\")","v":"Panamoric"},"Kryštof Jochec","Nobber",{"$f":"_xlfn.XLOOKUP(A465,BDD!A461:A10459,BDD!B461:B10459,\" \",0,1)","v":"krystof.jochec@gmail.com"},26.729637234770706,9763,"Panamoric ACTA 9/07/1997 🇨🇿 Czechia Câble PlayStation 5 Wifi Volant Fanatec A+ S Legend 95 Safe  N/A N/A N/A N/A Panamoric Kryštof Jochec Nobber krystof.jochec@gmail.com"]
["PaPa Pixels","Indép.","17/08/1981","🇫🇷 French","N/A","PlayStation 5","N/A","Volant Thrustmaster","A","S","Platinum",80,"Safe",0,"N/A","N/A","N/A","N/A",{"$f":"HYPERLINK(\"https://www.msleague.fr/?page_id=1502&um_user=PaPa Pixels\", \"PaPa Pixels\")","v":"PaPa Pixels"},"Jimmy","Peressutti",{"$f":"_xlfn.XLOOKUP(A466,BDD!A462:A10460,BDD!B462:B10460,\" \",0,1)","v":"papapixelsofficiel@gmail.com"},42.622861054072551,15568,"PaPa Pixels Indép. 17/08/1981 🇫🇷 French N/A PlayStation 5 N/A Volant Thrustmaster A S Platinum 80 Safe 0 N/A N/A N/A N/A PaPa Pixels Jimmy Peressutti papapixelsofficiel@gmail.com"]
["Papier-q","HRC","19/08/1994","🇫🇷 French","Fibre","PlayStation 5","Filaire","Volant Thrustmaster","A","S","Platinum",80,"Safe",null,"N/A","N/A","N/A","N/A",{"$f":"HYPERLINK(\"https://www.msleague.fr/?page_id=1502&um_user=Papier-q\", \"Papier-q\")","v":"Papier-q"},"Romaric","Lucet",{"$f":"_xlfn.XLOOKUP(A467,BDD!A463:A10461,BDD!B463:B10461,\" \",0,1)","v":"romariclucet19@hotmail.fr"},29.618069815195071,10818,"Papier-q HRC 19/08/1994 🇫🇷 French Fibre PlayStation 5 Filaire Volant Thrustmaster A S Platinum 80 Safe  N/A N/A N/A N/A Papier-q Romaric Lucet romariclucet19@hotmail.fr"]
["Parametric69","DAX","23/01/1972","🇫🇷 French","N/A","PlayStation 4","N/A","Volant Logitech","B","S","Gold",60,"Safe",0,"N/A","N/A","N/A","N/A",{"$f":"HYPERLINK(\"https://www.msleague.fr/?page_id=1502&um_user=Parametric69\", \"Parametric69\")","v":"Parametric69"},"David","Gandon",{"$f":"_xlfn.XLOOKUP(A468,BDD!A464:A10462,BDD!B464:B10462,\" \",0,1)","v":"Daxparametric@gmail.com"},52.188911704312112,19062,"Parametric69 DAX 23/01/1972 🇫🇷 French N/A PlayStation 4 N/A Volant Logitech B S Gold 60 Safe 0 N/A N/A N/A N/A Parametric69 David Gandon Daxparametric@gmail.com"]
["pat_31","Indép.","21/01/2009","🇫🇷 French","Fibre","PlayStation 5","Wifi","Volant Logitech","D","S","Bronze",20,"Safe",null,"N/A","N/A","N/A","N/A",{"$f":"HYPERLINK(\"https://www.msleague.fr/?page_id=1502&um_user=pat_31\", \"pat_31\")","v":"pat_31"},"Antoine","Clapier",{"$f":"_xlfn.XLOOKUP(A469,BDD!A465:A10463,BDD!B465:B10463,\" \",0,1)","v":"pclapier@gmail.com"},15.19233401779603,5549,"pat_31 Indép. 21/01/2009 🇫🇷 French Fibre PlayStation 5 Wifi Volant Logitech D S Bronze 20 Safe  N/A N/A N/A N/A pat_31 Antoine Clapier pclapier@gmail.com"]
["Patcheur006","OMT","25/04/1974","🇫🇷 French","N/A","PlayStation 5","N/A","Volant Fanatec","A+","S","Legend",95,"Safe",0,"N/A","N/A",0,"N/A",{"$f":"HYPERLINK(\"https://www.msleague.fr/?page_id=1502&um_user=Patcheur006\", \"Patcheur006\")","v":"Patcheur006"},"stephane","Patcheur",{"$f":"_xlfn.XLOOKUP(A470,BDD!A466:A10464,BDD!B466:B10464,\" \",0,1)","v":"greeg06@hotmail.fr"},49.935660506502394,18239,"Patcheur006 OMT 25/04/1974 🇫🇷 French N/A PlayStation 5 N/A Volant Fanatec A+ S Legend 95 Safe 0 N/A N/A 0 N/A Patcheur006 stephane Patcheur greeg06@hotmail.fr"]
["Paullhino","BLDG","16/10/1998","🇫🇷 French","N/A","PlayStation 5","N/A","Volant Thrustmaster","B","S","Gold",60,"Safe",0,"N/A","N/A","N/A","N/A",{"$f":"HYPERLINK(\"https://www.msleague.fr/?page_id=1502&um_user=Paullhino\", \"Paullhino\")","v":"Paullhino"},"Paul","TILLIER",{"$f":"_xlfn.XLOOKUP(A471,BDD!A467:A10465,BDD!B467:B10465,\" \",0,1)","v":"paul.tillier@icloud.com"},25.459274469541409,9299,"Paullhino BLDG 16/10/1998 🇫🇷 French N/A PlayStation 5 N/A Volant Thrustmaster B S Gold 60 Safe 0 N/A N/A N/A N/A Paullhino Paul TILLIER paul.tillier@icloud.com"]
["Paulo5455","OMT","7/09/1975","🇫🇷 French","N/A","PlayStation 5","N/A","Manette","A","S","Platinum",80,"Batailleur",0,"N/A","N/A",0,"N/A",{"$f":"HYPERLINK(\"https://www.msleague.fr/?page_id=1502&um_user=Paulo5455\", \"Paulo5455\")","v":"Paulo5455"},"Paulo","Monteiro",{"$f":"_xlfn.XLOOKUP(A472,BDD!A468:A10466,BDD!B468:B10466,\" \",0,1)","v":"paulomonteiro735@gmail.com"},48.566735112936342,17739,"Paulo5455 OMT 7/09/1975 🇫🇷 French N/A PlayStation 5 N/A Manette A S Platinum 80 Batailleur 0 N/A N/A 0 N/A Paulo5455 Paulo Monteiro paulomonteiro735@gmail.com"]
["PCHINE","OMT","27/11/1953","🇫🇷 French","N/A","PlayStation 5","N/A","Volant Thrustmaster","B","S","Gold",60,"Safe",0,"N/A","N/A",0,"N/A",{"$f":"HYPERLINK(\"https://www.msleague.fr/?page_id=1502&um_user=PCHINE\", \"PCHINE\")","v":"PCHINE"},"JP","GAGNEUR",{"$f":"_xlfn.XLOOKUP(A473,BDD!A469:A10467,BDD!B469:B10467,\" \",0,1)","v":"jpgagneur@aol.com"},70.343600273785086,{"$f":"IF(C473=\"N/A\",\"\",TODAY()-$C473)","v":25693},"PCHINE OMT 27/11/1953 🇫🇷 French N/A PlayStation 5 N/A Volant Thrustmaster B S Gold 60 Safe 0 N/A N/A 0 N/A PCHINE JP GAGNEUR jpgagneur@aol.com"]
["Philippe 1562","Indép.","15/01/1962","🇫🇷 French","Fibre","PlayStation 5","Wifi","Volant Logitech","D","S","Bronze",20,"Safe",null,"N/A","N/A","N/A","N/A",{"$f":"HYPERLINK(\"https://www.msleague.fr/?page_id=1502&um_user=Philippe 1562\", \"Philippe 1562\")","v":"Philippe 1562"},"Philippe","Debessel",{"$f":"_xlfn.XLOOKUP(A474,BDD!A470:A10468,BDD!B470:B10468,\" \",0,1)","v":"debesselphilippe@gmail.com"},62.209445585215605,22722,"Philippe 1562 Indép. 15/01/1962 🇫🇷 French Fibre PlayStation 5 Wifi Volant Logitech D S Bronze 20 Safe  N/A N/A N/A N/A Philippe 1562 Philippe Debessel debesselphilippe@gmail.com"]
["PHX_DimS","PHX","18/07/1981","🇧🇪 Belgium","N/A","PlayStation 4","N/A","Volant Thrustmaster","A","S","Platinum",80,"Safe",0,"N/A","N/A",0,"N/A",{"$f":"HYPERLINK(\"https://www.msleague.fr/?page_id=1502&um_user=PHX_DimS\", \"PHX_DimS\")","v":"PHX_DimS"},"Dimitri","La Porta",{"$f":"_xlfn.XLOOKUP(A475,BDD!A471:A10469,BDD!B471:B10469,\" \",0,1)","v":"dims_lp06@hotmail.com"},42.704996577686515,15598,"PHX_DimS PHX 18/07/1981 🇧🇪 Belgium N/A PlayStation 4 N/A Volant Thrustmaster A S Platinum 80 Safe 0 N/A N/A 0 N/A PHX_DimS Dimitri La Porta dims_lp06@hotmail.com"]
["phx_Haroo","PHX","8/11/1980","🇧🇪 Belgium","N/A","PlayStation 4","N/A","Volant Thrustmaster","B","S","Gold",60,"Fair-Play",0,"N/A","N/A","N/A","N/A",{"$f":"HYPERLINK(\"https://www.msleague.fr/?page_id=1502&um_user=phx_Haroo\", \"phx_Haroo\")","v":"phx_Haroo"},"harold","rovoletto",{"$f":"_xlfn.XLOOKUP(A476,BDD!A472:A10470,BDD!B472:B10470,\" \",0,1)","v":"rovoletto.harold@orange.fr"},43.394934976043807,15850,"phx_Haroo PHX 8/11/1980 🇧🇪 Belgium N/A PlayStation 4 N/A Volant Thrustmaster B S Gold 60 Fair-Play 0 N/A N/A N/A N/A phx_Haroo harold rovoletto rovoletto.harold@orange.fr"]
["Pinker","DTS","25/10/1973","🇫🇷 French","N/A","PlayStation 5","N/A","Volant Fanatec","B","S","Gold",60,"Safe",0,"N/A","N/A",0,"N/A",{"$f":"HYPERLINK(\"https://www.msleague.fr/?page_id=1502&um_user=Pinker\", \"Pinker\")","v":"Pinker"},"Hervé","Hubert",{"$f":"_xlfn.XLOOKUP(A477,BDD!A473:A10471,BDD!B473:B10471,\" \",0,1)","v":"19pinker73@gmail.com"},50.433949349760439,18421,"Pinker DTS 25/10/1973 🇫🇷 French N/A PlayStation 5 N/A Volant Fanatec B S Gold 60 Safe 0 N/A N/A 0 N/A Pinker Hervé Hubert 19pinker73@gmail.com"]
["Pit_abord","PRT","13/06/1981","🇨🇭 Switzerland","N/A","PlayStation 5","N/A","Volant Thrustmaster","A","S","Platinum",77.81,"Safe",5,1,0,1,0,{"$f":"HYPERLINK(\"https://www.msleague.fr/?page_id=1502&um_user=Pit_abord\", \"Pit_abord\")","v":"Pit_abord"},"Yves","Denereaz",{"$f":"_xlfn.XLOOKUP(A478,BDD!A474:A10472,BDD!B474:B10472,\" \",0,1)","v":"Underdown1260@gmail.com"},42.800821355236138,15633,"Pit_abord PRT 13/06/1981 🇨🇭 Switzerland N/A PlayStation 5 N/A Volant Thrustmaster A S Platinum 77,81 Safe 5 1 0 1 0 Pit_abord Yves Denereaz Underdown1260@gmail.com"]
["ponzanitto84","ITM","8/04/2000","🇮🇹 Italy","Fibre","PlayStation 5","Wifi","Volant Logitech","A","S","Platinum",80,"Safe",null,"N/A","N/A","N/A","N/A",{"$f":"HYPERLINK(\"https://www.msleague.fr/?page_id=1502&um_user=ponzanitto84\", \"ponzanitto84\")","v":"ponzanitto84"},"Riccardo","Ponzani",{"$f":"_xlfn.XLOOKUP(A479,BDD!A475:A10473,BDD!B475:B10473,\" \",0,1)","v":"riccardoponzani@gmail.com"},23.980835044490075,8759,"ponzanitto84 ITM 8/04/2000 🇮🇹 Italy Fibre PlayStation 5 Wifi Volant Logitech A S Platinum 80 Safe  N/A N/A N/A N/A ponzanitto84 Riccardo Ponzani riccardoponzani@gmail.com"]
["PORTOS_932","Indép.","23/05/1996","🇫🇷 French","N/A","PlayStation 5","N/A","Manette","C","C","Silver",40,"Casse-Cou",0,"N/A","N/A",0,"N/A",{"$f":"HYPERLINK(\"https://www.msleague.fr/?page_id=1502&um_user=PORTOS_932\", \"PORTOS_932\")","v":"PORTOS_932"},"Allan","Chaumette",{"$f":"_xlfn.XLOOKUP(A480,BDD!A476:A10474,BDD!B476:B10474,\" \",0,1)","v":"allan.chaumette@gmail.com"},27.857631759069132,10175,"PORTOS_932 Indép. 23/05/1996 🇫🇷 French N/A PlayStation 5 N/A Manette C C Silver 40 Casse-Cou 0 N/A N/A 0 N/A PORTOS_932 Allan Chaumette allan.chaumette@gmail.com"]
["Poulikk","3MSIM","8/11/1998","🇫🇷 French","Fibre","PlayStation 5","Wifi","Volant Fanatec","A","S","Platinum",80,"Safe",null,"N/A","N/A","N/A","N/A",{"$f":"HYPERLINK(\"https://www.msleague.fr/?page_id=1502&um_user=Poulikk\", \"Poulikk\")","v":"Poulikk"},"Nathan","Pouliquen",{"$f":"_xlfn.XLOOKUP(A481,BDD!A477:A10475,BDD!B477:B10475,\" \",0,1)","v":"nathanpouliquen2@gmail.com"},25.396303901437371,9276,"Poulikk 3MSIM 8/11/1998 🇫🇷 French Fibre PlayStation 5 Wifi Volant Fanatec A S Platinum 80 Safe  N/A N/A N/A N/A Poulikk Nathan Pouliquen nathanpouliquen2@gmail.com"]
["PRiMA_AlbaThor89","PRiMA","29/09/2003","🇫🇷 French","N/A","PlayStation 5","N/A","Volant Thrustmaster","A+","S","Legend",98.21,"Safe",0,1,"N/A",1,"N/A",{"$f":"HYPERLINK(\"https://www.msleague.fr/?page_id=1502&um_user=PRiMA_AlbaThor89\", \"PRiMA_AlbaThor89\")","v":"PRiMA_AlbaThor89"},"Fabio","Merenda",{"$f":"_xlfn.XLOOKUP(A482,BDD!A478:A10476,BDD!B478:B10476,\" \",0,1)","v":"albathor95@gmail.com"},20.506502395619439,7490,"PRiMA_AlbaThor89 PRiMA 29/09/2003 🇫🇷 French N/A PlayStation 5 N/A Volant Thrustmaster A+ S Legend 98,21 Safe 0 1 N/A 1 N/A PRiMA_AlbaThor89 Fabio Merenda albathor95@gmail.com"]
["PRiMA_Alpina","PRiMA","17/06/2007","🇫🇷 French","N/A","PlayStation 5","N/A","Volant Fanatec","A+","S","Legend",92.89,"Safe",0,2,0,2,0,{"$f":"HYPERLINK(\"https://www.msleague.fr/?page_id=1502&um_user=PRiMA_Alpina\", \"PRiMA_Alpina\")","v":"PRiMA_Alpina"},"Ellioth","Coste",{"$f":"_xlfn.XLOOKUP(A483,BDD!A479:A10477,BDD!B479:B10477,\" \",0,1)","v":"Ellioth07.co@gmail.com"},16.791238877481177,6133,"PRiMA_Alpina PRiMA 17/06/2007 🇫🇷 French N/A PlayStation 5 N/A Volant Fanatec A+ S Legend 92,89 Safe 0 2 0 2 0 PRiMA_Alpina Ellioth Coste Ellioth07.co@gmail.com"]
["PRiMA_Evan","PRiMA","10/12/2004","🇫🇷 French","N/A","PlayStation 5","N/A","Volant Thrustmaster","A+","S","Legend",95.38,"Safe",0,1,"N/A",1,"N/A",{"$f":"HYPERLINK(\"https://www.msleague.fr/?page_id=1502&um_user=PRiMA_Evan\", \"PRiMA_Evan\")","v":"PRiMA_Evan"},"Evan","Leproux",{"$f":"_xlfn.XLOOKUP(A484,BDD!A480:A10478,BDD!B480:B10478,\" \",0,1)","v":"evan.leproux@gmail.com"},19.307323750855577,7052,"PRiMA_Evan PRiMA 10/12/2004 🇫🇷 French N/A PlayStation 5 N/A Volant Thrustmaster A+ S Legend 95,38 Safe 0 1 N/A 1 N/A PRiMA_Evan Evan Leproux evan.leproux@gmail.com"]
["PRiMA_Gabin","PRiMA","11/06/2007","🇫🇷 French","N/A","PlayStation 4","N/A","Volant Thrustmaster","A+","S","Legend",95,"Safe",0,"N/A","N/A","N/A","N/A",{"$f":"HYPERLINK(\"https://www.msleague.fr/?page_id=1502&um_user=PRiMA_Gabin\", \"PRiMA_Gabin\")","v":"PRiMA_Gabin"},"Gabin","Molina Nunez",{"$f":"_xlfn.XLOOKUP(A485,BDD!A481:A10479,BDD!B481:B10479,\" \",0,1)","v":"gab.mlnnz@gmail.com"},16.807665982203972,6139,"PRiMA_Gabin PRiMA 11/06/2007 🇫🇷 French N/A PlayStation 4 N/A Volant Thrustmaster A+ S Legend 95 Safe 0 N/A N/A N/A N/A PRiMA_Gabin Gabin Molina Nunez gab.mlnnz@gmail.com"]
["PRiMA_GearTilt","PRiMA","8/05/1981","🇫🇷 French","Fibre","PlayStation 5","Filaire","Volant Thrustmaster","A+","S","Legend",97.28,"Safe",17,1,1,2,1,{"$f":"HYPERLINK(\"https://www.msleague.fr/?page_id=1502&um_user=PRiMA_GearTilt\", \"PRiMA_GearTilt\")","v":"PRiMA_GearTilt"},"Louis","PETIT",{"$f":"_xlfn.XLOOKUP(A486,BDD!A482:A10480,BDD!B482:B10480,\" \",0,1)","v":"faxapop@gmail.com"},42.899383983572896,15669,"PRiMA_GearTilt PRiMA 8/05/1981 🇫🇷 French Fibre PlayStation 5 Filaire Volant Thrustmaster A+ S Legend 97,28 Safe 17 1 1 2 1 PRiMA_GearTilt Louis PETIT faxapop@gmail.com"]
["PRiMA_Haku","PRiMA","8/08/2005","🇩🇪 Germany","N/A","PlayStation 5","N/A","Volant Fanatec","A+","S","Legend",95,"Safe",0,"N/A","N/A","N/A","N/A",{"$f":"HYPERLINK(\"https://www.msleague.fr/?page_id=1502&um_user=PRiMA_Haku\", \"PRiMA_Haku\")","v":"PRiMA_Haku"},"Callum","Lux",{"$f":"_xlfn.XLOOKUP(A487,BDD!A483:A10481,BDD!B483:B10481,\" \",0,1)","v":"callumlux@gmail.com"},18.647501711156742,6811,"PRiMA_Haku PRiMA 8/08/2005 🇩🇪 Germany N/A PlayStation 5 N/A Volant Fanatec A+ S Legend 95 Safe 0 N/A N/A N/A N/A PRiMA_Haku Callum Lux callumlux@gmail.com"]
["PRiMA_Juju34","PRIMA","10/09/2007","🇫🇷 French","Fibre","PlayStation 5","Filaire","Volant Thrustmaster","A+","S","Master",100,"Gentleman Driver",0,2,50,9,"44,44",{"$f":"HYPERLINK(\"https://www.msleague.fr/?page_id=1502&um_user=PRiMA_Juju34\", \"PRiMA_Juju34\")","v":"PRiMA_Juju34"},"Julien","Veyrunes",{"$f":"_xlfn.XLOOKUP(A488,BDD!A484:A10482,BDD!B484:B10482,\" \",0,1)","v":"gtfrjuju34@gmail.com"},16.558521560574949,6048,"PRiMA_Juju34 PRIMA 10/09/2007 🇫🇷 French Fibre PlayStation 5 Filaire Volant Thrustmaster A+ S Master 100 Gentleman Driver 0 2 50 9 44,44 PRiMA_Juju34 Julien Veyrunes gtfrjuju34@gmail.com"]
["PRiMA_Kazuya","PRiMA","21/02/1995","🇫🇷 French","N/A","PlayStation 5","N/A","Volant Thrustmaster","A+","S","Legend",95.33,"Safe",0,1,1,7,"28,57 %",{"$f":"HYPERLINK(\"https://www.msleague.fr/?page_id=1502&um_user=PRiMA_Kazuya\", \"PRiMA_Kazuya\")","v":"PRiMA_Kazuya"},"Maxime","Da Silva",{"$f":"_xlfn.XLOOKUP(A489,BDD!A485:A10483,BDD!B485:B10483,\" \",0,1)","v":"prima.esports.kazuya@gmail.com"},29.108829568788501,10632,"PRiMA_Kazuya PRiMA 21/02/1995 🇫🇷 French N/A PlayStation 5 N/A Volant Thrustmaster A+ S Legend 95,33 Safe 0 1 1 7 28,57 % PRiMA_Kazuya Maxime Da Silva prima.esports.kazuya@gmail.com"]
["PRiMA_Kronos","PRiMA","25/12/2000","🇧🇪 Belgium","N/A","PlayStation 5","N/A","Volant Fanatec","A+","S","Legend",95,"Safe",0,"N/A","N/A","N/A","N/A",{"$f":"HYPERLINK(\"https://www.msleague.fr/?page_id=1502&um_user=PRiMA_Kronos\", \"PRiMA_Kronos\")","v":"PRiMA_Kronos"},"Keanu","De Vroe",{"$f":"_xlfn.XLOOKUP(A490,BDD!A486:A10484,BDD!B486:B10484,\" \",0,1)","v":"Keanu2512@gmail.com"},23.266255989048595,8498,"PRiMA_Kronos PRiMA 25/12/2000 🇧🇪 Belgium N/A PlayStation 5 N/A Volant Fanatec A+ S Legend 95 Safe 0 N/A N/A N/A N/A PRiMA_Kronos Keanu De Vroe Keanu2512@gmail.com"]
["PRiMA_Mohamed","PRiMA","30/09/2003","🇬🇧 English","Câble","PlayStation 5","Filaire","Volant Thrustmaster","A+","S","Legend",97.08,"Safe",17,1,0,1,0,{"$f":"HYPERLINK(\"https://www.msleague.fr/?page_id=1502&um_user=PRiMA_Mohamed\", \"PRiMA_Mohamed\")","v":"PRiMA_Mohamed"},"Mohamed","Mohamed",{"$f":"_xlfn.XLOOKUP(A491,BDD!A487:A10485,BDD!B487:B10485,\" \",0,1)","v":"mohamedbuhdeima@gmail.com"},20.503764544832308,7489,"PRiMA_Mohamed PRiMA 30/09/2003 🇬🇧 English Câble PlayStation 5 Filaire Volant Thrustmaster A+ S Legend 97,08 Safe 17 1 0 1 0 PRiMA_Mohamed Mohamed Mohamed mohamedbuhdeima@gmail.com"]
["PRiMA_Nono","PRiMA","12/03/2007","🇫🇷 French","N/A","PlayStation 5","N/A","Volant Thrustmaster","A+","S","Legend",95,"Safe",0,"N/A","N/A",0,"N/A",{"$f":"HYPERLINK(\"https://www.msleague.fr/?page_id=1502&um_user=PRiMA_Nono\", \"PRiMA_Nono\")","v":"PRiMA_Nono"},"Noah","Lanuza",{"$f":"_xlfn.XLOOKUP(A492,BDD!A488:A10486,BDD!B488:B10486,\" \",0,1)","v":"noah.lanuza@gmail.com"},17.056810403832991,6230,"PRiMA_Nono PRiMA 12/03/2007 🇫🇷 French N/A PlayStation 5 N/A Volant Thrustmaster A+ S Legend 95 Safe 0 N/A N/A 0 N/A PRiMA_Nono Noah Lanuza noah.lanuza@gmail.com"]
["PRiMA_Piiro","PRiMA","27/04/1993","🇫🇷 French","N/A","PlayStation 5","N/A","Volant Thrustmaster","A+","S","Legend",93.61,"Safe",0,1,"N/A",1,"N/A",{"$f":"HYPERLINK(\"https://www.msleague.fr/?page_id=1502&um_user=PRiMA_Piiro\", \"PRiMA_Piiro\")","v":"PRiMA_Piiro"},"Robin","Piazza",{"$f":"_xlfn.XLOOKUP(A493,BDD!A489:A10487,BDD!B489:B10487,\" \",0,1)","v":"Piazza.robin.rp@gmail.com"},30.92950034223135,11297,"PRiMA_Piiro PRiMA 27/04/1993 🇫🇷 French N/A PlayStation 5 N/A Volant Thrustmaster A+ S Legend 93,61 Safe 0 1 N/A 1 N/A PRiMA_Piiro Robin Piazza Piazza.robin.rp@gmail.com"]
["PRiMA_Quartz","PRiMA","10/05/2007","🇨🇦 Canada","N/A","PlayStation 5","N/A","Volant Thrustmaster","A+","S","Legend",95,"Safe",0,"N/A","N/A","N/A","N/A",{"$f":"HYPERLINK(\"https://www.msleague.fr/?page_id=1502&um_user=PRiMA_Quartz\", \"PRiMA_Quartz\")","v":"PRiMA_Quartz"},"Samuel","Cardinal",{"$f":"_xlfn.XLOOKUP(A494,BDD!A490:A10488,BDD!B490:B10488,\" \",0,1)","v":"quartztv61@gmail.com"},16.895277207392198,6171,"PRiMA_Quartz PRiMA 10/05/2007 🇨🇦 Canada N/A PlayStation 5 N/A Volant Thrustmaster A+ S Legend 95 Safe 0 N/A N/A N/A N/A PRiMA_Quartz Samuel Cardinal quartztv61@gmail.com"]
["Prima_Sportland","PRiMA","4/08/1987","🇫🇷 French","N/A","PlayStation 5","N/A","Volant Fanatec","A+","S","Legend",98.53,"Safe",0,1,0,7,0,{"$f":"HYPERLINK(\"https://www.msleague.fr/?page_id=1502&um_user=Prima_Sportland\", \"Prima_Sportland\")","v":"Prima_Sportland"},"Nicolas","Miras",{"$f":"_xlfn.XLOOKUP(A495,BDD!A491:A10489,BDD!B491:B10489,\" \",0,1)","v":"sportlandamerican@gmail.com"},36.659822039698838,13390,"Prima_Sportland PRiMA 4/08/1987 🇫🇷 French N/A PlayStation 5 N/A Volant Fanatec A+ S Legend 98,53 Safe 0 1 0 7 0 Prima_Sportland Nicolas Miras sportlandamerican@gmail.com"]
["PRiMA_Stardust","PRiMA","26/03/1992","🇫🇷 French","N/A","PlayStation 5","N/A","Volant Thrustmaster","A+","S","Legend",90.49,"Safe",0,1,0,7,"14,29 %",{"$f":"HYPERLINK(\"https://www.msleague.fr/?page_id=1502&um_user=PRiMA_Stardust\", \"PRiMA_Stardust\")","v":"PRiMA_Stardust"},"Pierre","NOTEBAERT",{"$f":"_xlfn.XLOOKUP(A496,BDD!A492:A10490,BDD!B492:B10490,\" \",0,1)","v":"notebaert.p@gmail.com"},32.016427104722794,11694,"PRiMA_Stardust PRiMA 26/03/1992 🇫🇷 French N/A PlayStation 5 N/A Volant Thrustmaster A+ S Legend 90,49 Safe 0 1 0 7 14,29 % PRiMA_Stardust Pierre NOTEBAERT notebaert.p@gmail.com"]
["PRiMA_Tyraath","PRiMA","26/04/1979","🇫🇷 French","N/A","PlayStation 4","N/A","Volant Thrustmaster","A+","S","Legend",95,"Safe",0,"N/A","N/A","N/A","N/A",{"$f":"HYPERLINK(\"https://www.msleague.fr/?page_id=1502&um_user=PRiMA_Tyraath\", \"PRiMA_Tyraath\")","v":"PRiMA_Tyraath"},"Alain","Jovanovic",{"$f":"_xlfn.XLOOKUP(A497,BDD!A493:A10491,BDD!B493:B10491,\" \",0,1)","v":"alainjovanovic@gmail.com"},44.933607118412048,16412,"PRiMA_Tyraath PRiMA 26/04/1979 🇫🇷 French N/A PlayStation 4 N/A Volant Thrustmaster A+ S Legend 95 Safe 0 N/A N/A N/A N/A PRiMA_Tyraath Alain Jovanovic alainjovanovic@gmail.com"]
["Printmaxx","PRT","13/05/1986","🇨🇭 Switzerland","VDSL","PlayStation 5","Filaire","Volant Fanatec","A","S","Platinum",77.83,"Safe",5,1,0,1,0,{"$f":"HYPERLINK(\"https://www.msleague.fr/?page_id=1502&um_user=Printmaxx\", \"Printmaxx\")","v":"Printmaxx"},"LUDOVIC","BARRAT",{"$f":"_xlfn.XLOOKUP(A498,BDD!A494:A10492,BDD!B494:B10492,\" \",0,1)","v":"ludochivas@hotmail.com"},37.886379192334019,13838,"Printmaxx PRT 13/05/1986 🇨🇭 Switzerland VDSL PlayStation 5 Filaire Volant Fanatec A S Platinum 77,83 Safe 5 1 0 1 0 Printmaxx LUDOVIC BARRAT ludochivas@hotmail.com"]
["ProfTopito","Indép.","18/05/1975","🇫🇷 French","N/A","PlayStation 5","N/A","Volant Thrustmaster","D","S","Bronze",20,"Safe",0,"N/A","N/A",0,"N/A",{"$f":"HYPERLINK(\"https://www.msleague.fr/?page_id=1502&um_user=ProfTopito\", \"ProfTopito\")","v":"ProfTopito"},"Stuart","Brooks",{"$f":"_xlfn.XLOOKUP(A499,BDD!A495:A10493,BDD!B495:B10493,\" \",0,1)","v":"stuartb1234@hotmail.com"},48.873374401095141,17851,"ProfTopito Indép. 18/05/1975 🇫🇷 French N/A PlayStation 5 N/A Volant Thrustmaster D S Bronze 20 Safe 0 N/A N/A 0 N/A ProfTopito Stuart Brooks stuartb1234@hotmail.com"]
["PRT_KeyZ","PRT","13/07/2004","🇫🇷 French","Fibre","PlayStation 5","Filaire","Manette","A+","S","Legend",95,"Safe",null,"N/A","N/A","N/A","N/A",{"$f":"HYPERLINK(\"https://www.msleague.fr/?page_id=1502&um_user=PRT_KeyZ\", \"PRT_KeyZ\")","v":"PRT_KeyZ"},"Théo","Sébilo",{"$f":"_xlfn.XLOOKUP(A500,BDD!A496:A10494,BDD!B496:B10494,\" \",0,1)","v":"theosebilo976@gmail.com"},19.718001368925393,7202,"PRT_KeyZ PRT 13/07/2004 🇫🇷 French Fibre PlayStation 5 Filaire Manette A+ S Legend 95 Safe  N/A N/A N/A N/A PRT_KeyZ Théo Sébilo theosebilo976@gmail.com"]
["PRT_Seb","PRT","28/06/1982","🇫🇷 French","N/A","PlayStation 5","N/A","Volant Thrustmaster","C","S","Silver",41.8,"Safe",0,1,"N/A",1,"N/A",{"$f":"HYPERLINK(\"https://www.msleague.fr/?page_id=1502&um_user=PRT_Seb\", \"PRT_Seb\")","v":"PRT_Seb"},"sebastien","level",{"$f":"_xlfn.XLOOKUP(A501,BDD!A497:A10495,BDD!B497:B10495,\" \",0,1)","v":"sebastien.level@outlook.fr"},41.760438056125942,15253,"PRT_Seb PRT 28/06/1982 🇫🇷 French N/A PlayStation 5 N/A Volant Thrustmaster C S Silver 41,8 Safe 0 1 N/A 1 N/A PRT_Seb sebastien level sebastien.level@outlook.fr"]
["PRT_Wiilly6613","PRT","1/03/2024","🇫🇷 French","Box/Partage 3G/4G","PlayStation 5","Wifi","Volant Fanatec","A+","S","Legend",95,"Safe",null,"N/A","N/A","N/A","N/A",{"$f":"HYPERLINK(\"https://www.msleague.fr/?page_id=1502&um_user=PRT_Wiilly6613\", \"PRT_Wiilly6613\")","v":"PRT_Wiilly6613"},"Willy","Lagadec",{"$f":"_xlfn.XLOOKUP(A502,BDD!A498:A10496,BDD!B498:B10496,\" \",0,1)","v":"wiilfried.lagadec@gmail.com"},8.4873374401095145E-2,31,"PRT_Wiilly6613 PRT 1/03/2024 🇫🇷 French Box/Partage 3G/4G PlayStation 5 Wifi Volant Fanatec A+ S Legend 95 Safe  N/A N/A N/A N/A PRT_Wiilly6613 Willy Lagadec wiilfried.lagadec@gmail.com"]
["PRT-Armando-11","PRT","21/09/1968","🇫🇷 French","Câble","PlayStation 5","Wifi","Volant Thrustmaster","A","S","Platinum",80,"Safe",0,"N/A","N/A",0,"N/A",{"$f":"HYPERLINK(\"https://www.msleague.fr/?page_id=1502&um_user=PRT-Armando-11\", \"PRT-Armando-11\")","v":"PRT-Armando-11"},"Armand","Robin",{"$f":"_xlfn.XLOOKUP(A503,BDD!A499:A10497,BDD!B499:B10497,\" \",0,1)","v":"armand.robin@hotmail.fr"},55.526351813826146,20281,"PRT-Armando-11 PRT 21/09/1968 🇫🇷 French Câble PlayStation 5 Wifi Volant Thrustmaster A S Platinum 80 Safe 0 N/A N/A 0 N/A PRT-Armando-11 Armand Robin armand.robin@hotmail.fr"]
["PRT-Belmondo","PRT","6/03/1975","🇨🇭 Switzerland","ADSL","PlayStation 5","Wifi","Volant Thrustmaster","D","S","Bronze",22.2,"Safe",0,1,"N/A",1,"N/A",{"$f":"HYPERLINK(\"https://www.msleague.fr/?page_id=1502&um_user=PRT-Belmondo\", \"PRT-Belmondo\")","v":"PRT-Belmondo"},"Thierry","Frontenaud",{"$f":"_xlfn.XLOOKUP(A504,BDD!A500:A10498,BDD!B500:B10498,\" \",0,1)","v":"frontenaudphoto@gmail.com"},49.073237508555785,17924,"PRT-Belmondo PRT 6/03/1975 🇨🇭 Switzerland ADSL PlayStation 5 Wifi Volant Thrustmaster D S Bronze 22,2 Safe 0 1 N/A 1 N/A PRT-Belmondo Thierry Frontenaud frontenaudphoto@gmail.com"]
["PSC_themiang_FSR","PSC","27/11/1991","🇹🇭 Thaïland","N/A","PlayStation 5","N/A","Volant Thrustmaster","A+","S","Platinum",74.44,"Safe",0,1,0,7,0,{"$f":"HYPERLINK(\"https://www.msleague.fr/?page_id=1502&um_user=PSC_themiang_FSR\", \"PSC_themiang_FSR\")","v":"PSC_themiang_FSR"},"Nathayos","Sirigaya",{"$f":"_xlfn.XLOOKUP(A505,BDD!A501:A10499,BDD!B501:B10499,\" \",0,1)","v":"miangns11@gmail.com"},32.344969199178642,11814,"PSC_themiang_FSR PSC 27/11/1991 🇹🇭 Thaïland N/A PlayStation 5 N/A Volant Thrustmaster A+ S Platinum 74,44 Safe 0 1 0 7 0 PSC_themiang_FSR Nathayos Sirigaya miangns11@gmail.com"]
["PtitGreg","Indép.","11/01/2007","🇫🇷 French","Fibre","PlayStation 5","Filaire","Manette","B","S","Gold",60,"Safe",null,"N/A","N/A","N/A","N/A",{"$f":"HYPERLINK(\"https://www.msleague.fr/?page_id=1502&um_user=PtitGreg\", \"PtitGreg\")","v":"PtitGreg"},"Grégory","Aubert",{"$f":"_xlfn.XLOOKUP(A506,BDD!A502:A10500,BDD!B502:B10500,\" \",0,1)","v":"gregory95am@gmail.com"},17.221081451060918,6290,"PtitGreg Indép. 11/01/2007 🇫🇷 French Fibre PlayStation 5 Filaire Manette B S Gold 60 Safe  N/A N/A N/A N/A PtitGreg Grégory Aubert gregory95am@gmail.com"]
["Ptititix63","Indép.","10/07/1978","🇫🇷 French","N/A","PlayStation 5","N/A","Volant Logitech","B","S","Gold",60,"Safe",0,"N/A","N/A","N/A","N/A",{"$f":"HYPERLINK(\"https://www.msleague.fr/?page_id=1502&um_user=Ptititix63\", \"Ptititix63\")","v":"Ptititix63"},"Ludovic","Monteilhet",{"$f":"_xlfn.XLOOKUP(A507,BDD!A503:A10501,BDD!B503:B10501,\" \",0,1)","v":"Onizuka63@gmail.com"},45.727583846680353,16702,"Ptititix63 Indép. 10/07/1978 🇫🇷 French N/A PlayStation 5 N/A Volant Logitech B S Gold 60 Safe 0 N/A N/A N/A N/A Ptititix63 Ludovic Monteilhet Onizuka63@gmail.com"]
["R00SWELL44","MYTEAM","9/07/1979","🇧🇪 Belgium","N/A","PlayStation 4","N/A","Volant Fanatec","A+","S","Legend",95,"Safe",0,"N/A","N/A",0,"N/A",{"$f":"HYPERLINK(\"https://www.msleague.fr/?page_id=1502&um_user=R00SWELL44\", \"R00SWELL44\")","v":"R00SWELL44"},"Xavier","Ringuet",{"$f":"_xlfn.XLOOKUP(A508,BDD!A504:A10502,BDD!B504:B10502,\" \",0,1)","v":"ventoxa@hotmail.com"},44.73100616016427,16338,"R00SWELL44 MYTEAM 9/07/1979 🇧🇪 Belgium N/A PlayStation 4 N/A Volant Fanatec A+ S Legend 95 Safe 0 N/A N/A 0 N/A R00SWELL44 Xavier Ringuet ventoxa@hotmail.com"]
["Raizox_Thomas","EET","21/09/2005","🇫🇷 French","Fibre","PlayStation 5","Wifi","Volant Logitech","B","S","Gold",60,"Safe",null,"N/A","N/A","N/A","N/A",{"$f":"HYPERLINK(\"https://www.msleague.fr/?page_id=1502&um_user=Raizox_Thomas\", \"Raizox_Thomas\")","v":"Raizox_Thomas"},"Thomas","Pothier",{"$f":"_xlfn.XLOOKUP(A509,BDD!A505:A10503,BDD!B505:B10503,\" \",0,1)","v":"Thomas83520@outlook.fr"},18.527036276522928,6767,"Raizox_Thomas EET 21/09/2005 🇫🇷 French Fibre PlayStation 5 Wifi Volant Logitech B S Gold 60 Safe  N/A N/A N/A N/A Raizox_Thomas Thomas Pothier Thomas83520@outlook.fr"]
["Rasmus_wiltrup","Indép.","5/03/2010","🇩🇰 Dennemark","Fibre","PlayStation 5","CPL","Volant Fanatec","A","S","Platinum",80,"Safe",null,"N/A","N/A","N/A","N/A",{"$f":"HYPERLINK(\"https://www.msleague.fr/?page_id=1502&um_user=Rasmus_wiltrup\", \"Rasmus_wiltrup\")","v":"Rasmus_wiltrup"},"Rasmus","Jensen",{"$f":"_xlfn.XLOOKUP(A510,BDD!A506:A10504,BDD!B506:B10504,\" \",0,1)","v":"rasmuswjensen@icloud.com"},14.075290896646132,5141,"Rasmus_wiltrup Indép. 5/03/2010 🇩🇰 Dennemark Fibre PlayStation 5 CPL Volant Fanatec A S Platinum 80 Safe  N/A N/A N/A N/A Rasmus_wiltrup Rasmus Jensen rasmuswjensen@icloud.com"]
["RCR-allidini_65","RCR","13/02/2009","🇫🇷 French","N/A","PlayStation 5","N/A","Volant Thrustmaster","B","S","Gold",60,"Safe",0,"N/A","N/A",0,"N/A",{"$f":"HYPERLINK(\"https://www.msleague.fr/?page_id=1502&um_user=RCR-allidini_65\", \"RCR-allidini_65\")","v":"RCR-allidini_65"},"Diya","Elkar",{"$f":"_xlfn.XLOOKUP(A511,BDD!A507:A10505,BDD!B507:B10505,\" \",0,1)","v":"elkardiya@gmail.com"},15.129363449691992,5526,"RCR-allidini_65 RCR 13/02/2009 🇫🇷 French N/A PlayStation 5 N/A Volant Thrustmaster B S Gold 60 Safe 0 N/A N/A 0 N/A RCR-allidini_65 Diya Elkar elkardiya@gmail.com"]
["RDT_J0k3r","RDT","21/05/1996","🇫🇷 French","N/A","PlayStation 5","N/A","Volant Fanatec","A","S","Platinum",80,"Safe",0,"N/A","N/A","N/A","N/A",{"$f":"HYPERLINK(\"https://www.msleague.fr/?page_id=1502&um_user=RDT_J0k3r\", \"RDT_J0k3r\")","v":"RDT_J0k3r"},"Guillaume","Vocanson",{"$f":"_xlfn.XLOOKUP(A512,BDD!A508:A10506,BDD!B508:B10506,\" \",0,1)","v":"guillaume.voc@gmail.com"},27.863107460643395,10177,"RDT_J0k3r RDT 21/05/1996 🇫🇷 French N/A PlayStation 5 N/A Volant Fanatec A S Platinum 80 Safe 0 N/A N/A N/A N/A RDT_J0k3r Guillaume Vocanson guillaume.voc@gmail.com"]
["Red-Most-69","Indép.","23/10/1980","🇫🇷 French","Fibre","PlayStation 5","Filaire","Volant Fanatec","A","S","Platinum",80,"Safe",0,"N/A","N/A",0,"N/A",{"$f":"HYPERLINK(\"https://www.msleague.fr/?page_id=1502&um_user=Red-Most-69\", \"Red-Most-69\")","v":"Red-Most-69"},"Cyril","Bofi",{"$f":"_xlfn.XLOOKUP(A513,BDD!A509:A10507,BDD!B509:B10507,\" \",0,1)","v":"cyrille.bofi@sfr.fr"},43.43874058863792,15866,"Red-Most-69 Indép. 23/10/1980 🇫🇷 French Fibre PlayStation 5 Filaire Volant Fanatec A S Platinum 80 Safe 0 N/A N/A 0 N/A Red-Most-69 Cyril Bofi cyrille.bofi@sfr.fr"]
["RidwanF1","FRR","29/07/2004","🇦🇺 Australia","Box/Partage 3G/4G","PlayStation 5","Wifi","Volant Fanatec","A+","S","Legend",95,"Safe",null,"N/A","N/A","N/A","N/A",{"$f":"HYPERLINK(\"https://www.msleague.fr/?page_id=1502&um_user=RidwanF1\", \"RidwanF1\")","v":"RidwanF1"},"Ridwan","Ridwan Ibn Hamza",{"$f":"_xlfn.XLOOKUP(A514,BDD!A510:A10508,BDD!B510:B10508,\" \",0,1)","v":"ridwanf1@iinet.net.au"},19.674195756331279,7186,"RidwanF1 FRR 29/07/2004 🇦🇺 Australia Box/Partage 3G/4G PlayStation 5 Wifi Volant Fanatec A+ S Legend 95 Safe  N/A N/A N/A N/A RidwanF1 Ridwan Ridwan Ibn Hamza ridwanf1@iinet.net.au"]
["RM_Ostry17","RM","19/01/1983","🇵🇱 Poland","N/A","PlayStation 5","N/A","Volant Fanatec","B","S","Gold",60,"Safe",0,"N/A","N/A",0,"N/A",{"$f":"HYPERLINK(\"https://www.msleague.fr/?page_id=1502&um_user=RM_Ostry17\", \"RM_Ostry17\")","v":"RM_Ostry17"},"Adam","Ostrowski",{"$f":"_xlfn.XLOOKUP(A515,BDD!A511:A10509,BDD!B511:B10509,\" \",0,1)","v":"a.ostrowski@gladio.pl"},41.199178644763862,15048,"RM_Ostry17 RM 19/01/1983 🇵🇱 Poland N/A PlayStation 5 N/A Volant Fanatec B S Gold 60 Safe 0 N/A N/A 0 N/A RM_Ostry17 Adam Ostrowski a.ostrowski@gladio.pl"]
["RM_Shifter","RM","30/01/1997","🇵🇱 Poland","N/A","PlayStation 5","N/A","Volant Thrustmaster","B","S","Gold",60,"Safe",0,"N/A","N/A",0,"N/A",{"$f":"HYPERLINK(\"https://www.msleague.fr/?page_id=1502&um_user=RM_Shifter\", \"RM_Shifter\")","v":"RM_Shifter"},"Damian","Pawelka",{"$f":"_xlfn.XLOOKUP(A516,BDD!A512:A10510,BDD!B512:B10510,\" \",0,1)","v":"shifter0711@gmail.com"},27.167693360711841,9923,"RM_Shifter RM 30/01/1997 🇵🇱 Poland N/A PlayStation 5 N/A Volant Thrustmaster B S Gold 60 Safe 0 N/A N/A 0 N/A RM_Shifter Damian Pawelka shifter0711@gmail.com"]
["Robinou93","VBF","16/11/1992","🇫🇷 French","N/A","PlayStation 5","N/A","Manette","B","S","Gold",60,"Safe",0,"N/A","N/A",0,"N/A",{"$f":"HYPERLINK(\"https://www.msleague.fr/?page_id=1502&um_user=Robinou93\", \"Robinou93\")","v":"Robinou93"},"Robin","Brugier",{"$f":"_xlfn.XLOOKUP(A517,BDD!A513:A10511,BDD!B513:B10511,\" \",0,1)","v":"robinbrugier@gmail.com"},{"$f":"IF(X517=\"\",\"\",CONVERT(X517,\"day\",\"yr\"))","v":31.37303216974675},11459,"Robinou93 VBF 16/11/1992 🇫🇷 French N/A PlayStation 5 N/A Manette B S Gold 60 Safe 0 N/A N/A 0 N/A Robinou93 Robin Brugier robinbrugier@gmail.com"]
["rolphi6973","Indép.","8/03/1980","🇫🇷 French","N/A","PlayStation 4","N/A","Volant Logitech","D","B","Bronze",20,"Batailleur",0,"N/A","N/A",0,"N/A",{"$f":"HYPERLINK(\"https://www.msleague.fr/?page_id=1502&um_user=rolphi6973\", \"rolphi6973\")","v":"rolphi6973"},"Rodolphe","Leclercq",{"$f":"_xlfn.XLOOKUP(A518,BDD!A514:A10512,BDD!B514:B10512,\" \",0,1)","v":"rodolphe.leclercq69@gmail.com"},44.06570841889117,16095,{"$f":"A518 & \" \" & B518 & \" \" & C518 & \" \" & D518 & \" \" & E518 & \" \" & F518 & \" \" & G518 & \" \" & H518 & \" \" & I518 & \" \" & J518 & \" \" & K518 & \" \" & L518 & \" \" & M518 & \" \" & N518 & \" \" & O518 & \" \" & P518 & \" \" &Q518 & \" \" & R518 & \" \" & S518 & \" \" & T518 & \" \" & U518 & \" \" & V518","v":"rolphi6973 Indép. 8/03/1980 🇫🇷 French N/A PlayStation 4 N/A Volant Logitech D B Bronze 20 Batailleur 0 N/A N/A 0 N/A rolphi6973 Rodolphe Leclercq rodolphe.leclercq69@gmail.com"}]
["Rom102-frk","FRK","10/02/2005","🇧🇪 Belgium","N/A","PlayStation 4","N/A","Volant Thrustmaster","D","C","Bronze",19.399999999999999,"Fair-Play",0,2,0,7,0,{"$f":"HYPERLINK(\"https://www.msleague.fr/?page_id=1502&um_user=Rom102-frk\", \"Rom102-frk\")","v":"Rom102-frk"},"Romain","Hotton",{"$f":"_xlfn.XLOOKUP(A519,BDD!A515:A10513,BDD!B515:B10513,\" \",0,1)","v":"romain.hotton@proximus.be"},19.137577002053387,6990,"Rom102-frk FRK 10/02/2005 🇧🇪 Belgium N/A PlayStation 4 N/A Volant Thrustmaster D C Bronze 19,4 Fair-Play 0 2 0 7 0 Rom102-frk Romain Hotton romain.hotton@proximus.be"]
["RomaFX","DTS","22/01/1973","🇫🇷 French","N/A","PlayStation 5","N/A","Volant Fanatec","A","S","Platinum",78.430000000000007,"Safe",10,2,0,2,0,{"$f":"HYPERLINK(\"https://www.msleague.fr/?page_id=1502&um_user=RomaFX\", \"RomaFX\")","v":"RomaFX"},"Harold","Romagny",{"$f":"_xlfn.XLOOKUP(A520,BDD!A516:A10514,BDD!B516:B10514,\" \",0,1)","v":"romagnyh@gmail.com"},51.189596167008901,18697,"RomaFX DTS 22/01/1973 🇫🇷 French N/A PlayStation 5 N/A Volant Fanatec A S Platinum 78,43 Safe 10 2 0 2 0 RomaFX Harold Romagny romagnyh@gmail.com"]
["Romaninho","DTS","25/07/1980","🇫🇷 French","N/A","PlayStation 5","N/A","Volant Fanatec","B","S","Gold",60,"Safe",0,"N/A","N/A",0,"N/A",{"$f":"HYPERLINK(\"https://www.msleague.fr/?page_id=1502&um_user=Romaninho\", \"Romaninho\")","v":"Romaninho"},"Guillaume","Romagny",{"$f":"_xlfn.XLOOKUP(A521,BDD!A517:A10515,BDD!B517:B10515,\" \",0,1)","v":"guillaumeromagny@sfr.fr"},43.685147159479811,15956,"Romaninho DTS 25/07/1980 🇫🇷 French N/A PlayStation 5 N/A Volant Fanatec B S Gold 60 Safe 0 N/A N/A 0 N/A Romaninho Guillaume Romagny guillaumeromagny@sfr.fr"]
["RP1_Bilou","RP1","7/05/2002","🇧🇪 Belgium","N/A","PlayStation 4","N/A","Volant Thrustmaster","B","S","Gold",58.13,"Fair-Play",3,1,0,1,0,{"$f":"HYPERLINK(\"https://www.msleague.fr/?page_id=1502&um_user=RP1_Bilou\", \"RP1_Bilou\")","v":"RP1_Bilou"},"Tayron","Borgniez",{"$f":"_xlfn.XLOOKUP(A522,BDD!A518:A10516,BDD!B518:B10516,\" \",0,1)","v":"Tayronborgniez76@gmail.com"},21.902806297056809,8000,"RP1_Bilou RP1 7/05/2002 🇧🇪 Belgium N/A PlayStation 4 N/A Volant Thrustmaster B S Gold 58,13 Fair-Play 3 1 0 1 0 RP1_Bilou Tayron Borgniez Tayronborgniez76@gmail.com"]
["RP1_Frelo","RP1","30/08/1977","🇫🇷 French","N/A","PlayStation 5","N/A","Volant Fanatec","A","S","Platinum",81.819999999999993,"Safe",3,2,0,9,0,{"$f":"HYPERLINK(\"https://www.msleague.fr/?page_id=1502&um_user=RP1_Frelo\", \"RP1_Frelo\")","v":"RP1_Frelo"},"Fred","Raga",{"$f":"_xlfn.XLOOKUP(A523,BDD!A519:A10517,BDD!B519:B10517,\" \",0,1)","v":"seloan@outlook.fr"},46.587268993839835,17016,"RP1_Frelo RP1 30/08/1977 🇫🇷 French N/A PlayStation 5 N/A Volant Fanatec A S Platinum 81,82 Safe 3 2 0 9 0 RP1_Frelo Fred Raga seloan@outlook.fr"]
["RP1_Kif1870","RP1","18/05/1970","🇫🇷 French","Fibre","PlayStation 5","Wifi","Volant Thrustmaster","A","S","Gold",60,"Safe",0,"N/A","N/A","N/A","N/A",{"$f":"HYPERLINK(\"https://www.msleague.fr/?page_id=1502&um_user=RP1_Kif1870\", \"RP1_Kif1870\")","v":"RP1_Kif1870"},"Franck","Sublard",{"$f":"_xlfn.XLOOKUP(A524,BDD!A520:A10518,BDD!B520:B10518,\" \",0,1)","v":"kifmanou@yahoo.fr"},53.872689938398359,19677,"RP1_Kif1870 RP1 18/05/1970 🇫🇷 French Fibre PlayStation 5 Wifi Volant Thrustmaster A S Gold 60 Safe 0 N/A N/A N/A N/A RP1_Kif1870 Franck Sublard kifmanou@yahoo.fr"]
["RP1_MR-BER","RP1","11/07/1991","🇫🇷 French","N/A","PlayStation 5","N/A","Volant Fanatec","A+","S","Platinum",82.72,"Safe",3,2,0,9,0,{"$f":"HYPERLINK(\"https://www.msleague.fr/?page_id=1502&um_user=RP1_MR-BER\", \"RP1_MR-BER\")","v":"RP1_MR-BER"},"Ber","F",{"$f":"_xlfn.XLOOKUP(A525,BDD!A521:A10519,BDD!B521:B10519,\" \",0,1)","v":"Ber06140@hotmail.fr"},32.725530458590008,11953,"RP1_MR-BER RP1 11/07/1991 🇫🇷 French N/A PlayStation 5 N/A Volant Fanatec A+ S Platinum 82,72 Safe 3 2 0 9 0 RP1_MR-BER Ber F Ber06140@hotmail.fr"]
["RP1_Rotax_017","RP1","11/09/1988","🇵🇹 Portugal","Fibre","PlayStation 5","Filaire","Volant Thrustmaster","A+","S","Legend",95,"Safe",null,"N/A","N/A","N/A","N/A",{"$f":"HYPERLINK(\"https://www.msleague.fr/?page_id=1502&um_user=RP1_Rotax_017\", \"RP1_Rotax_017\")","v":"RP1_Rotax_017"},"Nuno","Ferreira",{"$f":"_xlfn.XLOOKUP(A526,BDD!A522:A10520,BDD!B522:B10520,\" \",0,1)","v":"Racingperformanceone@gmail.com"},35.553730321697465,12986,"RP1_Rotax_017 RP1 11/09/1988 🇵🇹 Portugal Fibre PlayStation 5 Filaire Volant Thrustmaster A+ S Legend 95 Safe  N/A N/A N/A N/A RP1_Rotax_017 Nuno Ferreira Racingperformanceone@gmail.com"]
["RP1_Ryux","RP1","16/05/1990","🇫🇷 French","Fibre","PlayStation 5","Filaire","Volant Thrustmaster","A+","S","Platinum",80,"Safe",0,"N/A","N/A",0,"N/A",{"$f":"HYPERLINK(\"https://www.msleague.fr/?page_id=1502&um_user=RP1_Ryux\", \"RP1_Ryux\")","v":"RP1_Ryux"},"Youri","Gaillard",{"$f":"_xlfn.XLOOKUP(A527,BDD!A523:A10521,BDD!B523:B10521,\" \",0,1)","v":"theryuxigg@gmail.com"},33.878165639972622,12374,"RP1_Ryux RP1 16/05/1990 🇫🇷 French Fibre PlayStation 5 Filaire Volant Thrustmaster A+ S Platinum 80 Safe 0 N/A N/A 0 N/A RP1_Ryux Youri Gaillard theryuxigg@gmail.com"]
["RP1_Scouby_12","GT_KRS","23/10/1966","🇧🇪 Belgium","N/A","PlayStation 5","N/A","Volant Fanatec","B","S","Gold",60,"Safe",0,"N/A","N/A","N/A","N/A",{"$f":"HYPERLINK(\"https://www.msleague.fr/?page_id=1502&um_user=RP1_Scouby_12\", \"RP1_Scouby_12\")","v":"RP1_Scouby_12"},"Pascal","DAVE",{"$f":"_xlfn.XLOOKUP(A528,BDD!A524:A10522,BDD!B524:B10522,\" \",0,1)","v":"scouby12ps@gmail.com"},57.440109514031484,20980,"RP1_Scouby_12 GT_KRS 23/10/1966 🇧🇪 Belgium N/A PlayStation 5 N/A Volant Fanatec B S Gold 60 Safe 0 N/A N/A N/A N/A RP1_Scouby_12 Pascal DAVE scouby12ps@gmail.com"]
["RP1_Seb","RP1","27/06/1979","🇫🇷 French","N/A","PlayStation 4","N/A","Volant Logitech","A","S","Gold",60,"Safe",0,"N/A","N/A",0,"N/A",{"$f":"HYPERLINK(\"https://www.msleague.fr/?page_id=1502&um_user=RP1_Seb\", \"RP1_Seb\")","v":"RP1_Seb"},"Sébastien","Carballo",{"$f":"_xlfn.XLOOKUP(A529,BDD!A525:A10523,BDD!B525:B10523,\" \",0,1)","v":"carballo.sebastien@orange.fr"},44.763860369609858,16350,"RP1_Seb RP1 27/06/1979 🇫🇷 French N/A PlayStation 4 N/A Volant Logitech A S Gold 60 Safe 0 N/A N/A 0 N/A RP1_Seb Sébastien Carballo carballo.sebastien@orange.fr"]
["RP1_SmoKeur_052","RP1","24/09/1985","🇧🇪 Belgium","N/A","PlayStation 4","N/A","Manette","A+","S","Legend",92.45,"Safe",3,1,0,1,0,{"$f":"HYPERLINK(\"https://www.msleague.fr/?page_id=1502&um_user=RP1_SmoKeur_052\", \"RP1_SmoKeur_052\")","v":"RP1_SmoKeur_052"},"Christophe","Preaux",{"$f":"_xlfn.XLOOKUP(A530,BDD!A526:A10524,BDD!B526:B10524,\" \",0,1)","v":"smokeur52@outlook.fr"},38.518822724161531,14069,"RP1_SmoKeur_052 RP1 24/09/1985 🇧🇪 Belgium N/A PlayStation 4 N/A Manette A+ S Legend 92,45 Safe 3 1 0 1 0 RP1_SmoKeur_052 Christophe Preaux smokeur52@outlook.fr"]
["RWS YTALIO","RWS","17/06/1977","🇫🇷 French","N/A","PlayStation 5","N/A","Volant Thrustmaster","A","S","Platinum",80,"Safe",0,"N/A","N/A",0,"N/A",{"$f":"HYPERLINK(\"https://www.msleague.fr/?page_id=1502&um_user=RWS YTALIO\", \"RWS YTALIO\")","v":"RWS YTALIO"},"Thierry","SLOMP",{"$f":"_xlfn.XLOOKUP(A531,BDD!A527:A10525,BDD!B527:B10525,\" \",0,1)","v":"tsartturi@gmail.com"},46.789869952087614,17090,"RWS YTALIO RWS 17/06/1977 🇫🇷 French N/A PlayStation 5 N/A Volant Thrustmaster A S Platinum 80 Safe 0 N/A N/A 0 N/A RWS YTALIO Thierry SLOMP tsartturi@gmail.com"]
["RWS08_Apex","RWS","8/09/1993","🇫🇷 French","Fibre","PlayStation 5","Filaire","Volant Fanatec","A","S","Platinum",80,"Safe",null,"N/A","N/A","N/A","N/A",{"$f":"HYPERLINK(\"https://www.msleague.fr/?page_id=1502&um_user=RWS08_Apex\", \"RWS08_Apex\")","v":"RWS08_Apex"},"Florent","Bricquet",{"$f":"_xlfn.XLOOKUP(A532,BDD!A528:A10526,BDD!B528:B10526,\" \",0,1)","v":"florent.bricquet@gmail.com"},30.562628336755647,11163,"RWS08_Apex RWS 8/09/1993 🇫🇷 French Fibre PlayStation 5 Filaire Volant Fanatec A S Platinum 80 Safe  N/A N/A N/A N/A RWS08_Apex Florent Bricquet florent.bricquet@gmail.com"]
["RWS20_Atom","RWS","3/02/1998","🇫🇷 French","Satelite","PlayStation 4","Filaire","Manette","A+","S","Legend",95,"Safe",null,"N/A","N/A","N/A","N/A",{"$f":"HYPERLINK(\"https://www.msleague.fr/?page_id=1502&um_user=RWS20_Atom\", \"RWS20_Atom\")","v":"RWS20_Atom"},"Lucas","Jacquet",{"$f":"_xlfn.XLOOKUP(A533,BDD!A529:A10527,BDD!B529:B10527,\" \",0,1)","v":"lucas.jacquet2@aol.fr"},26.157426420260094,9554,"RWS20_Atom RWS 3/02/1998 🇫🇷 French Satelite PlayStation 4 Filaire Manette A+ S Legend 95 Safe  N/A N/A N/A N/A RWS20_Atom Lucas Jacquet lucas.jacquet2@aol.fr"]
["RWS23_Nightdrive","RWS","7/03/1992","🇫🇷 French","N/A","PlayStation 4","N/A","Manette","B","S","Gold",60,"Safe",0,"N/A","N/A","N/A","N/A",{"$f":"HYPERLINK(\"https://www.msleague.fr/?page_id=1502&um_user=RWS23_Nightdrive\", \"RWS23_Nightdrive\")","v":"RWS23_Nightdrive"},"Darris","Dabouz",{"$f":"_xlfn.XLOOKUP(A534,BDD!A530:A10528,BDD!B530:B10528,\" \",0,1)","v":"darris.dabouz@gmail.com"},32.068446269678304,11713,"RWS23_Nightdrive RWS 7/03/1992 🇫🇷 French N/A PlayStation 4 N/A Manette B S Gold 60 Safe 0 N/A N/A N/A N/A RWS23_Nightdrive Darris Dabouz darris.dabouz@gmail.com"]
["RWS51_Skywalker","RWS","2/04/1994","🇫🇷 French","N/A","PlayStation 4","N/A","Volant Thrustmaster","A","S","Platinum",80,"Safe",0,"N/A","N/A",0,"N/A",{"$f":"HYPERLINK(\"https://www.msleague.fr/?page_id=1502&um_user=RWS51_Skywalker\", \"RWS51_Skywalker\")","v":"RWS51_Skywalker"},"Maxence","Leloup",{"$f":"_xlfn.XLOOKUP(A535,BDD!A531:A10529,BDD!B531:B10529,\" \",0,1)","v":"Leloup.maxence@hotmail.fr"},29.998631074606433,10957,"RWS51_Skywalker RWS 2/04/1994 🇫🇷 French N/A PlayStation 4 N/A Volant Thrustmaster A S Platinum 80 Safe 0 N/A N/A 0 N/A RWS51_Skywalker Maxence Leloup Leloup.maxence@hotmail.fr"]
["RWS58_FLO","RWS","24/06/1982","🇫🇷 French","N/A","PlayStation 5","N/A","Manette","B","S","Gold",60,"Safe",0,"N/A","N/A",0,"N/A",{"$f":"HYPERLINK(\"https://www.msleague.fr/?page_id=1502&um_user=RWS58_FLO\", \"RWS58_FLO\")","v":"RWS58_FLO"},"Florent","Vernet",{"$f":"_xlfn.XLOOKUP(A536,BDD!A532:A10530,BDD!B532:B10530,\" \",0,1)","v":"florent.vernet0763@orange.fr"},41.771389459274467,15257,"RWS58_FLO RWS 24/06/1982 🇫🇷 French N/A PlayStation 5 N/A Manette B S Gold 60 Safe 0 N/A N/A 0 N/A RWS58_FLO Florent Vernet florent.vernet0763@orange.fr"]
["RWS62_Rider","RWS","12/12/1992","🇫🇷 French","N/A","PlayStation 5","N/A","Volant Thrustmaster","A+","S","Legend",95,"Safe",0,"N/A","N/A",0,"N/A",{"$f":"HYPERLINK(\"https://www.msleague.fr/?page_id=1502&um_user=RWS62_Rider\", \"RWS62_Rider\")","v":"RWS62_Rider"},"Giovanni","Teilhet",{"$f":"_xlfn.XLOOKUP(A537,BDD!A533:A10531,BDD!B533:B10531,\" \",0,1)","v":"Giovanniteilhet@gmail.com"},31.301848049281315,{"$f":"IF(C537=\"N/A\",\"\",TODAY()-$C537)","v":11433},"RWS62_Rider RWS 12/12/1992 🇫🇷 French N/A PlayStation 5 N/A Volant Thrustmaster A+ S Legend 95 Safe 0 N/A N/A 0 N/A RWS62_Rider Giovanni Teilhet Giovanniteilhet@gmail.com"]
["RWS93_Tuscani","RWS","27/12/1993","🇫🇷 French","Fibre","PlayStation 5","Filaire","Manette","B","S","Gold",60,"Safe",null,"N/A","N/A","N/A","N/A",{"$f":"HYPERLINK(\"https://www.msleague.fr/?page_id=1502&um_user=RWS93_Tuscani\", \"RWS93_Tuscani\")","v":"RWS93_Tuscani"},"Charles","Dardelet",{"$f":"_xlfn.XLOOKUP(A538,BDD!A534:A10532,BDD!B534:B10532,\" \",0,1)","v":"bbr1@hotmail.fr"},30.261464750171115,11053,"RWS93_Tuscani RWS 27/12/1993 🇫🇷 French Fibre PlayStation 5 Filaire Manette B S Gold 60 Safe  N/A N/A N/A N/A RWS93_Tuscani Charles Dardelet bbr1@hotmail.fr"]
["s1jo212","FRK","19/06/1984","🇫🇷 French","N/A","PlayStation 5","N/A","Volant Thrustmaster","B","S","Gold",60,"Safe",0,"N/A","N/A","N/A","N/A",{"$f":"HYPERLINK(\"https://www.msleague.fr/?page_id=1502&um_user=s1jo212\", \"s1jo212\")","v":"s1jo212"},"Kévin","Peronet",{"$f":"_xlfn.XLOOKUP(A539,BDD!A535:A10533,BDD!B535:B10533,\" \",0,1)","v":"rudykevin212@gmail.com"},39.783709787816562,14531,"s1jo212 FRK 19/06/1984 🇫🇷 French N/A PlayStation 5 N/A Volant Thrustmaster B S Gold 60 Safe 0 N/A N/A N/A N/A s1jo212 Kévin Peronet rudykevin212@gmail.com"]
["S7VEN_Light","S7VEN","30/04/1978","🇫🇷 French","N/A","PlayStation 5","N/A","Volant Thrustmaster","A+","S","Platinum",88.37,"Safe",0,1,0,7,0,{"$f":"HYPERLINK(\"https://www.msleague.fr/?page_id=1502&um_user=S7VEN_Light\", \"S7VEN_Light\")","v":"S7VEN_Light"},"Francois","LEFEVRE",{"$f":"_xlfn.XLOOKUP(A540,BDD!A536:A10534,BDD!B536:B10534,\" \",0,1)","v":"francoislight@hotmail.fr"},45.921971252566735,16773,"S7VEN_Light S7VEN 30/04/1978 🇫🇷 French N/A PlayStation 5 N/A Volant Thrustmaster A+ S Platinum 88,37 Safe 0 1 0 7 0 S7VEN_Light Francois LEFEVRE francoislight@hotmail.fr"]
["S7VEN_Snail","Indép.","16/05/1976","🇫🇷 French","N/A","PlayStation 5","N/A","Volant Thrustmaster","A","S","Platinum",79.849999999999994,"Safe",0,1,0,7,0,{"$f":"HYPERLINK(\"https://www.msleague.fr/?page_id=1502&um_user=S7VEN_Snail\", \"S7VEN_Snail\")","v":"S7VEN_Snail"},"Samuel","Mille",{"$f":"_xlfn.XLOOKUP(A541,BDD!A537:A10535,BDD!B537:B10535,\" \",0,1)","v":"Smille.samuel@gmail.com"},47.876796714579058,17487,"S7VEN_Snail Indép. 16/05/1976 🇫🇷 French N/A PlayStation 5 N/A Volant Thrustmaster A S Platinum 79,85 Safe 0 1 0 7 0 S7VEN_Snail Samuel Mille Smille.samuel@gmail.com"]
["Salva_SimRacer00","GRT","30/09/1986","🇧🇪 Belgium","N/A","PlayStation 4","N/A","Volant Thrustmaster","A","S","Platinum",80,"Safe",0,"N/A","N/A",0,"N/A",{"$f":"HYPERLINK(\"https://www.msleague.fr/?page_id=1502&um_user=Salva_SimRacer00\", \"Salva_SimRacer00\")","v":"Salva_SimRacer00"},"salvatore","di piazza",{"$f":"_xlfn.XLOOKUP(A542,BDD!A538:A10536,BDD!B538:B10536,\" \",0,1)","v":"Salvatore_di_pi@hotmail.com"},37.503080082135526,13698,"Salva_SimRacer00 GRT 30/09/1986 🇧🇪 Belgium N/A PlayStation 4 N/A Volant Thrustmaster A S Platinum 80 Safe 0 N/A N/A 0 N/A Salva_SimRacer00 salvatore di piazza Salvatore_di_pi@hotmail.com"]
["Samabaal G","PRT","23/11/2001","🇫🇷 French","Fibre","PlayStation 5","Filaire","Volant Logitech","B","S","Gold",63.72,"Safe",0,1,0,7,0,{"$f":"HYPERLINK(\"https://www.msleague.fr/?page_id=1502&um_user=Samabaal G\", \"Samabaal G\")","v":"Samabaal G"},"Bastien","GIRAUDEAU",{"$f":"_xlfn.XLOOKUP(A543,BDD!A539:A10537,BDD!B539:B10537,\" \",0,1)","v":"bastiengiraude@gmail.com"},22.354551676933607,8165,"Samabaal G PRT 23/11/2001 🇫🇷 French Fibre PlayStation 5 Filaire Volant Logitech B S Gold 63,72 Safe 0 1 0 7 0 Samabaal G Bastien GIRAUDEAU bastiengiraude@gmail.com"]
["Sample_Koro","Sample","30/04/1998","🇫🇷 French","N/A","PlayStation 4","N/A","Volant Thrustmaster","A+","S","Legend",95,"Safe",0,"N/A","N/A","N/A","N/A",{"$f":"HYPERLINK(\"https://www.msleague.fr/?page_id=1502&um_user=Sample_Koro\", \"Sample_Koro\")","v":"Sample_Koro"},"Marius","JOVER",{"$f":"_xlfn.XLOOKUP(A544,BDD!A540:A10538,BDD!B540:B10538,\" \",0,1)","v":"mariusjover@outlook.fr"},25.921971252566735,9468,"Sample_Koro Sample 30/04/1998 🇫🇷 French N/A PlayStation 4 N/A Volant Thrustmaster A+ S Legend 95 Safe 0 N/A N/A N/A N/A Sample_Koro Marius JOVER mariusjover@outlook.fr"]
["Sample_Lilz","Sample","1/11/1998","🇫🇷 French","N/A","PlayStation 4","N/A","Volant Fanatec","A+","S","Platinum",80,"Safe",0,"N/A","N/A","N/A","N/A",{"$f":"HYPERLINK(\"https://www.msleague.fr/?page_id=1502&um_user=Sample_Lilz\", \"Sample_Lilz\")","v":"Sample_Lilz"},"Lilian","Michel",{"$f":"_xlfn.XLOOKUP(A545,BDD!A541:A10539,BDD!B541:B10539,\" \",0,1)","v":"michellilian58170@gmail.com"},25.415468856947296,9283,"Sample_Lilz Sample 1/11/1998 🇫🇷 French N/A PlayStation 4 N/A Volant Fanatec A+ S Platinum 80 Safe 0 N/A N/A N/A N/A Sample_Lilz Lilian Michel michellilian58170@gmail.com"]
["San_Xenian","NEXUS","7/09/2005","🇫🇷 French","N/A","PlayStation 4","N/A","Manette","B","A","Gold",59.24,"Safe",0,1,"N/A",2,"N/A",{"$f":"HYPERLINK(\"https://www.msleague.fr/?page_id=1502&um_user=San_Xenian\", \"San_Xenian\")","v":"San_Xenian"},"celian","Lescot",{"$f":"_xlfn.XLOOKUP(A546,BDD!A542:A10540,BDD!B542:B10540,\" \",0,1)","v":"celian.lescot@gmail.com"},18.565366187542779,6781,"San_Xenian NEXUS 7/09/2005 🇫🇷 French N/A PlayStation 4 N/A Manette B A Gold 59,24 Safe 0 1 N/A 2 N/A San_Xenian celian Lescot celian.lescot@gmail.com"]
["Santhyviet95-FTE","FTE","3/05/1994","🇫🇷 French","Fibre","PlayStation 4","Filaire","Manette","A+","S","Legend",95,"Safe",null,"N/A","N/A","N/A","N/A",{"$f":"HYPERLINK(\"https://www.msleague.fr/?page_id=1502&um_user=Santhyviet95-FTE\", \"Santhyviet95-FTE\")","v":"Santhyviet95-FTE"},"Jonathan","LÊ",{"$f":"_xlfn.XLOOKUP(A547,BDD!A543:A10541,BDD!B543:B10541,\" \",0,1)","v":"jonathan.le_3594@yahoo.fr"},29.913757700205338,10926,"Santhyviet95-FTE FTE 3/05/1994 🇫🇷 French Fibre PlayStation 4 Filaire Manette A+ S Legend 95 Safe  N/A N/A N/A N/A Santhyviet95-FTE Jonathan LÊ jonathan.le_3594@yahoo.fr"]
["SCR_SHREDDA84","Err. PSN","N/A","N/A","N/A","N/A","N/A","N/A","N/A","N/A","N/A",null,"N/A",null,"N/A","N/A","N/A","N/A",{"$f":"HYPERLINK(\"https://www.msleague.fr/?page_id=1502&um_user=SCR_SHREDDA84\", \"SCR_SHREDDA84\")","v":"SCR_SHREDDA84"},"N/A","N/A",{"$f":"_xlfn.XLOOKUP(A548,BDD!A544:A10542,BDD!B544:B10542,\" \",0,1)","v":"dsciarretta84@gmail.com"},"","","SCR_SHREDDA84 Err. PSN N/A N/A N/A N/A N/A N/A N/A N/A N/A  N/A  N/A N/A N/A N/A SCR_SHREDDA84 N/A N/A dsciarretta84@gmail.com"]
["SDET_Antho-76","SDET","29/06/1989","🇫🇷 French","N/A","PlayStation 5","N/A","Volant Fanatec","A","S","Platinum",80,"Safe",0,"N/A","N/A",0,"N/A",{"$f":"HYPERLINK(\"https://www.msleague.fr/?page_id=1502&um_user=SDET_Antho-76\", \"SDET_Antho-76\")","v":"SDET_Antho-76"},"Anthony","DEMARAIS",{"$f":"_xlfn.XLOOKUP(A549,BDD!A545:A10543,BDD!B545:B10543,\" \",0,1)","v":"mugen76@orange.fr"},34.757015742642025,12695,"SDET_Antho-76 SDET 29/06/1989 🇫🇷 French N/A PlayStation 5 N/A Volant Fanatec A S Platinum 80 Safe 0 N/A N/A 0 N/A SDET_Antho-76 Anthony DEMARAIS mugen76@orange.fr"]
["SDET_BeN","SDET","24/02/1988","🇫🇷 French","Fibre","PlayStation 5","Filaire","Volant Fanatec","B","S","Gold",60,"Safe",0,"N/A","N/A","N/A","N/A",{"$f":"HYPERLINK(\"https://www.msleague.fr/?page_id=1502&um_user=SDET_BeN\", \"SDET_BeN\")","v":"SDET_BeN"},"Benoit","Gauthier",{"$f":"_xlfn.XLOOKUP(A550,BDD!A546:A10544,BDD!B546:B10544,\" \",0,1)","v":"benoit.gthr@gmail.com"},36.101300479123886,13186,"SDET_BeN SDET 24/02/1988 🇫🇷 French Fibre PlayStation 5 Filaire Volant Fanatec B S Gold 60 Safe 0 N/A N/A N/A N/A SDET_BeN Benoit Gauthier benoit.gthr@gmail.com"]
["SDET_BENJI07","SDET","19/10/1969","🇫🇷 French","N/A","PlayStation 5","N/A","Volant Thrustmaster","C","S","Silver",40,"Safe",0,"N/A","N/A","N/A","N/A",{"$f":"HYPERLINK(\"https://www.msleague.fr/?page_id=1502&um_user=SDET_BENJI07\", \"SDET_BENJI07\")","v":"SDET_BENJI07"},"Benjamin","Renauld",{"$f":"_xlfn.XLOOKUP(A551,BDD!A547:A10545,BDD!B547:B10545,\" \",0,1)","v":"recifal74@gmail.com"},54.450376454483234,19888,"SDET_BENJI07 SDET 19/10/1969 🇫🇷 French N/A PlayStation 5 N/A Volant Thrustmaster C S Silver 40 Safe 0 N/A N/A N/A N/A SDET_BENJI07 Benjamin Renauld recifal74@gmail.com"]
["SDET_Citral73","SDET","11/10/1986","🇫🇷 French","N/A","PlayStation 5","N/A","Volant Fanatec","B","S","Gold",60,"Safe",0,"N/A","N/A","N/A","N/A",{"$f":"HYPERLINK(\"https://www.msleague.fr/?page_id=1502&um_user=SDET_Citral73\", \"SDET_Citral73\")","v":"SDET_Citral73"},"Dylan","Lenoble",{"$f":"_xlfn.XLOOKUP(A552,BDD!A548:A10546,BDD!B548:B10546,\" \",0,1)","v":"Mbxman73@hotmail.com"},37.472963723477072,13687,"SDET_Citral73 SDET 11/10/1986 🇫🇷 French N/A PlayStation 5 N/A Volant Fanatec B S Gold 60 Safe 0 N/A N/A N/A N/A SDET_Citral73 Dylan Lenoble Mbxman73@hotmail.com"]
["SDET_Firewolf","SDET","24/10/1998","🇫🇷 French","Fibre","PlayStation 5","Wifi","Volant Fanatec","B","S","Gold",60,"Safe",0,"N/A","N/A","N/A","N/A",{"$f":"HYPERLINK(\"https://www.msleague.fr/?page_id=1502&um_user=SDET_Firewolf\", \"SDET_Firewolf\")","v":"SDET_Firewolf"},"Djordan","Jouvel",{"$f":"_xlfn.XLOOKUP(A553,BDD!A549:A10547,BDD!B549:B10547,\" \",0,1)","v":"firewolf.officiel@gmail.com"},25.437371663244353,9291,"SDET_Firewolf SDET 24/10/1998 🇫🇷 French Fibre PlayStation 5 Wifi Volant Fanatec B S Gold 60 Safe 0 N/A N/A N/A N/A SDET_Firewolf Djordan Jouvel firewolf.officiel@gmail.com"]
["SDET_J87","SDET","28/03/1987","🇫🇷 French","N/A","PlayStation 5","N/A","Volant Fanatec","A","S","Platinum",80,"Safe",0,"N/A","N/A","N/A","N/A",{"$f":"HYPERLINK(\"https://www.msleague.fr/?page_id=1502&um_user=SDET_J87\", \"SDET_J87\")","v":"SDET_J87"},"Julien","Boutry",{"$f":"_xlfn.XLOOKUP(A554,BDD!A550:A10548,BDD!B550:B10548,\" \",0,1)","v":"julien.boutry.pro@gmail.com"},37.013004791238878,13519,"SDET_J87 SDET 28/03/1987 🇫🇷 French N/A PlayStation 5 N/A Volant Fanatec A S Platinum 80 Safe 0 N/A N/A N/A N/A SDET_J87 Julien Boutry julien.boutry.pro@gmail.com"]
["SDET_Lartiste","SDET","30/11/1987","🇫🇷 French","N/A","PlayStation 5","N/A","Volant Fanatec","C","S","Silver",40,"Safe",0,"N/A","N/A","N/A","N/A",{"$f":"HYPERLINK(\"https://www.msleague.fr/?page_id=1502&um_user=SDET_Lartiste\", \"SDET_Lartiste\")","v":"SDET_Lartiste"},"Yoan","Rose",{"$f":"_xlfn.XLOOKUP(A555,BDD!A551:A10549,BDD!B551:B10549,\" \",0,1)","v":"yoan76700@gmail.com"},36.336755646817245,13272,"SDET_Lartiste SDET 30/11/1987 🇫🇷 French N/A PlayStation 5 N/A Volant Fanatec C S Silver 40 Safe 0 N/A N/A N/A N/A SDET_Lartiste Yoan Rose yoan76700@gmail.com"]
["SDET_Simplayer","SDET","21/02/1992","🇫🇷 French","N/A","PlayStation 4","N/A","Volant Thrustmaster","A","S","Platinum",80,"Safe",0,"N/A","N/A","N/A","N/A",{"$f":"HYPERLINK(\"https://www.msleague.fr/?page_id=1502&um_user=SDET_Simplayer\", \"SDET_Simplayer\")","v":"SDET_Simplayer"},"Anthony","alcolea",{"$f":"_xlfn.XLOOKUP(A556,BDD!A552:A10550,BDD!B552:B10550,\" \",0,1)","v":"rastawooki@gmail.com"},32.109514031485283,11728,"SDET_Simplayer SDET 21/02/1992 🇫🇷 French N/A PlayStation 4 N/A Volant Thrustmaster A S Platinum 80 Safe 0 N/A N/A N/A N/A SDET_Simplayer Anthony alcolea rastawooki@gmail.com"]
["SDET-Djouve38","SDET","6/10/1973","🇫🇷 French","N/A","PlayStation 5","N/A","Volant Fanatec","B","S","Gold",60,"Safe",0,"N/A","N/A","N/A","N/A",{"$f":"HYPERLINK(\"https://www.msleague.fr/?page_id=1502&um_user=SDET-Djouve38\", \"SDET-Djouve38\")","v":"SDET-Djouve38"},"Stéphane","Jouvel Triollet",{"$f":"_xlfn.XLOOKUP(A557,BDD!A553:A10551,BDD!B553:B10551,\" \",0,1)","v":"Sdet.djouve38@gmail.com"},50.48596851471595,18440,"SDET-Djouve38 SDET 6/10/1973 🇫🇷 French N/A PlayStation 5 N/A Volant Fanatec B S Gold 60 Safe 0 N/A N/A N/A N/A SDET-Djouve38 Stéphane Jouvel Triollet Sdet.djouve38@gmail.com"]
["SDET-JPP61","SDET","13/12/1961","🇫🇷 French","N/A","PlayStation 5","N/A","Volant Thrustmaster","B","S","Gold",60,"Safe",0,"N/A","N/A","N/A","N/A",{"$f":"HYPERLINK(\"https://www.msleague.fr/?page_id=1502&um_user=SDET-JPP61\", \"SDET-JPP61\")","v":"SDET-JPP61"},"Jean-Pierre","Pillu",{"$f":"_xlfn.XLOOKUP(A558,BDD!A554:A10552,BDD!B554:B10552,\" \",0,1)","v":"Pillu.jp@hotmail.fr"},62.299794661190965,22755,"SDET-JPP61 SDET 13/12/1961 🇫🇷 French N/A PlayStation 5 N/A Volant Thrustmaster B S Gold 60 Safe 0 N/A N/A N/A N/A SDET-JPP61 Jean-Pierre Pillu Pillu.jp@hotmail.fr"]
["searos denethor","Indép.","5/07/1983","🇫🇷 French","N/A","PlayStation 5","N/A","Volant Fanatec","S","S","Legend",95,"Safe",0,"N/A","N/A",0,"N/A",{"$f":"HYPERLINK(\"https://www.msleague.fr/?page_id=1502&um_user=searos denethor\", \"searos denethor\")","v":"searos denethor"},"Benjamin","Gojon",{"$f":"_xlfn.XLOOKUP(A559,BDD!A555:A10553,BDD!B555:B10553,\" \",0,1)","v":"ben0083@live.fr"},40.741957563312802,14881,"searos denethor Indép. 5/07/1983 🇫🇷 French N/A PlayStation 5 N/A Volant Fanatec S S Legend 95 Safe 0 N/A N/A 0 N/A searos denethor Benjamin Gojon ben0083@live.fr"]
["Sese51100","Indép.","19/11/1991","🇫🇷 French","Fibre","PlayStation 5","Wifi","Volant Logitech","E","B","Rookie",5,"Batailleur",null,"N/A","N/A","N/A","N/A",{"$f":"HYPERLINK(\"https://www.msleague.fr/?page_id=1502&um_user=Sese51100\", \"Sese51100\")","v":"Sese51100"},"Ilyess","Safi",{"$f":"_xlfn.XLOOKUP(A560,BDD!A556:A10554,BDD!B556:B10554,\" \",0,1)","v":"ilyess.safi@gmail.com"},32.366872005475699,11822,"Sese51100 Indép. 19/11/1991 🇫🇷 French Fibre PlayStation 5 Wifi Volant Logitech E B Rookie 5 Batailleur  N/A N/A N/A N/A Sese51100 Ilyess Safi ilyess.safi@gmail.com"]
["SGEG_COPO83","SGEG","26/03/1986","🇫🇷 French","N/A","PlayStation 5","N/A","Volant Fanatec","A","S","Platinum",80,"Safe",0,"N/A","N/A","N/A","N/A",{"$f":"HYPERLINK(\"https://www.msleague.fr/?page_id=1502&um_user=SGEG_COPO83\", \"SGEG_COPO83\")","v":"SGEG_COPO83"},"Olivier","PETIT",{"$f":"_xlfn.XLOOKUP(A561,BDD!A557:A10555,BDD!B557:B10555,\" \",0,1)","v":"olivier83210@hotmail.com"},38.017796030116358,13886,"SGEG_COPO83 SGEG 26/03/1986 🇫🇷 French N/A PlayStation 5 N/A Volant Fanatec A S Platinum 80 Safe 0 N/A N/A N/A N/A SGEG_COPO83 Olivier PETIT olivier83210@hotmail.com"]
["SGEG-Grosjeune","SGEG","2/03/1982","🇫🇷 French","N/A","PlayStation 4","N/A","Volant Thrustmaster","A","S","Platinum",80,"Safe",0,"N/A","N/A",0,"N/A",{"$f":"HYPERLINK(\"https://www.msleague.fr/?page_id=1502&um_user=SGEG-Grosjeune\", \"SGEG-Grosjeune\")","v":"SGEG-Grosjeune"},"Frederic","Benazet",{"$f":"_xlfn.XLOOKUP(A562,BDD!A558:A10556,BDD!B558:B10556,\" \",0,1)","v":"frederic.benazet@gmail.com"},42.083504449007528,15371,"SGEG-Grosjeune SGEG 2/03/1982 🇫🇷 French N/A PlayStation 4 N/A Volant Thrustmaster A S Platinum 80 Safe 0 N/A N/A 0 N/A SGEG-Grosjeune Frederic Benazet frederic.benazet@gmail.com"]
["SGEG-Michel05","SGEG","15/02/1958","🇫🇷 French","N/A","PlayStation 4","N/A","Volant Logitech","B","S","Gold",60,"Safe",0,"N/A","N/A","N/A","N/A",{"$f":"HYPERLINK(\"https://www.msleague.fr/?page_id=1502&um_user=SGEG-Michel05\", \"SGEG-Michel05\")","v":"SGEG-Michel05"},"Michel","Costanzo",{"$f":"_xlfn.XLOOKUP(A563,BDD!A559:A10557,BDD!B559:B10557,\" \",0,1)","v":"Chelmicostanzo05300@gmail.com"},66.124572210814506,24152,"SGEG-Michel05 SGEG 15/02/1958 🇫🇷 French N/A PlayStation 4 N/A Volant Logitech B S Gold 60 Safe 0 N/A N/A N/A N/A SGEG-Michel05 Michel Costanzo Chelmicostanzo05300@gmail.com"]
["SGEG-Nimaemlu","SGEG","27/05/1980","🇫🇷 French","N/A","PlayStation 5","N/A","Volant Thrustmaster","A","S","Platinum",80,"Safe",0,"N/A","N/A","N/A","N/A",{"$f":"HYPERLINK(\"https://www.msleague.fr/?page_id=1502&um_user=SGEG-Nimaemlu\", \"SGEG-Nimaemlu\")","v":"SGEG-Nimaemlu"},"Nicolas","Ceugniez",{"$f":"_xlfn.XLOOKUP(A564,BDD!A560:A10558,BDD!B560:B10558,\" \",0,1)","v":"ceugniez@free.fr"},43.846680355920604,16015,"SGEG-Nimaemlu SGEG 27/05/1980 🇫🇷 French N/A PlayStation 5 N/A Volant Thrustmaster A S Platinum 80 Safe 0 N/A N/A N/A N/A SGEG-Nimaemlu Nicolas Ceugniez ceugniez@free.fr"]
["Shidory7912","BLDG","10/07/2009","🇧🇪 Belgium","Câble","PlayStation 5","Wifi","Volant Thrustmaster","C","S","Silver",40,"Safe",null,"N/A","N/A","N/A","N/A",{"$f":"HYPERLINK(\"https://www.msleague.fr/?page_id=1502&um_user=Shidory7912\", \"Shidory7912\")","v":"Shidory7912"},"Timéo","Delonville",{"$f":"_xlfn.XLOOKUP(A565,BDD!A561:A10559,BDD!B561:B10559,\" \",0,1)","v":"delonvillet@gmail.com"},14.726899383983573,5379,"Shidory7912 BLDG 10/07/2009 🇧🇪 Belgium Câble PlayStation 5 Wifi Volant Thrustmaster C S Silver 40 Safe  N/A N/A N/A N/A Shidory7912 Timéo Delonville delonvillet@gmail.com"]
["Shinobi_35-bjzk","Indép.","31/10/1998","🇫🇷 French","N/A","PlayStation 5","N/A","Manette","D","S","Bronze",20,"Safe",0,"N/A","N/A","N/A","N/A",{"$f":"HYPERLINK(\"https://www.msleague.fr/?page_id=1502&um_user=Shinobi_35-bjzk\", \"Shinobi_35-bjzk\")","v":"Shinobi_35-bjzk"},"Alexis","Le Noury",{"$f":"_xlfn.XLOOKUP(A566,BDD!A562:A10560,BDD!B562:B10560,\" \",0,1)","v":"alenour40@gmail.com"},25.418206707734427,9284,"Shinobi_35-bjzk Indép. 31/10/1998 🇫🇷 French N/A PlayStation 5 N/A Manette D S Bronze 20 Safe 0 N/A N/A N/A N/A Shinobi_35-bjzk Alexis Le Noury alenour40@gmail.com"]
["Shub-le-Wookie","TSR","9/06/1970","🇫🇷 French","N/A","PlayStation 4","N/A","Volant Logitech","B","S","Gold",60,"Safe",0,"N/A","N/A","N/A","N/A",{"$f":"HYPERLINK(\"https://www.msleague.fr/?page_id=1502&um_user=Shub-le-Wookie\", \"Shub-le-Wookie\")","v":"Shub-le-Wookie"},"David","Dagneaux",{"$f":"_xlfn.XLOOKUP(A567,BDD!A563:A10561,BDD!B563:B10561,\" \",0,1)","v":"shubakagraou@gmail.com"},53.812457221081452,19655,"Shub-le-Wookie TSR 9/06/1970 🇫🇷 French N/A PlayStation 4 N/A Volant Logitech B S Gold 60 Safe 0 N/A N/A N/A N/A Shub-le-Wookie David Dagneaux shubakagraou@gmail.com"]
["SIXKA-44","BKC","28/06/1977","🇫🇷 French","N/A","PlayStation 5","N/A","Volant Fanatec","C","S","Silver",40,"Safe",0,"N/A","N/A",0,"N/A",{"$f":"HYPERLINK(\"https://www.msleague.fr/?page_id=1502&um_user=SIXKA-44\", \"SIXKA-44\")","v":"SIXKA-44"},"Loïc","HUMEAU",{"$f":"_xlfn.XLOOKUP(A568,BDD!A564:A10562,BDD!B564:B10562,\" \",0,1)","v":"humeau.loic@gmail.com"},46.75975359342916,17079,"SIXKA-44 BKC 28/06/1977 🇫🇷 French N/A PlayStation 5 N/A Volant Fanatec C S Silver 40 Safe 0 N/A N/A 0 N/A SIXKA-44 Loïc HUMEAU humeau.loic@gmail.com"]
["Slater71_","VBF","8/08/2000","🇫🇷 French","N/A","PlayStation 4","N/A","Manette","B","S","Gold",60,"Safe",0,"N/A","N/A",0,"N/A",{"$f":"HYPERLINK(\"https://www.msleague.fr/?page_id=1502&um_user=Slater71_\", \"Slater71_\")","v":"Slater71_"},"Victor","Dupre",{"$f":"_xlfn.XLOOKUP(A569,BDD!A565:A10563,BDD!B565:B10563,\" \",0,1)","v":"thor.dupre@gmail.com"},23.646817248459961,8637,"Slater71_ VBF 8/08/2000 🇫🇷 French N/A PlayStation 4 N/A Manette B S Gold 60 Safe 0 N/A N/A 0 N/A Slater71_ Victor Dupre thor.dupre@gmail.com"]
["sleipnir974","FRK","13/04/1960","🇫🇷 French","N/A","PlayStation 4","N/A","Volant Logitech","B","S","Gold",60,"Safe",0,"N/A","N/A","N/A","N/A",{"$f":"HYPERLINK(\"https://www.msleague.fr/?page_id=1502&um_user=sleipnir974\", \"sleipnir974\")","v":"sleipnir974"},"Pascal","DUTHEIL",{"$f":"_xlfn.XLOOKUP(A570,BDD!A566:A10564,BDD!B566:B10564,\" \",0,1)","v":"dutvador@gmail.com"},63.967145790554412,23364,"sleipnir974 FRK 13/04/1960 🇫🇷 French N/A PlayStation 4 N/A Volant Logitech B S Gold 60 Safe 0 N/A N/A N/A N/A sleipnir974 Pascal DUTHEIL dutvador@gmail.com"]
["SLYCR500R","Indép.","10/11/1982","🇫🇷 French","N/A","PlayStation 5","N/A","Volant Logitech","A","S","Gold",60.11,"Fair-Play",0,1,"N/A",6,"N/A",{"$f":"HYPERLINK(\"https://www.msleague.fr/?page_id=1502&um_user=SLYCR500R\", \"SLYCR500R\")","v":"SLYCR500R"},"Sylvain","Penagos",{"$f":"_xlfn.XLOOKUP(A571,BDD!A567:A10565,BDD!B567:B10565,\" \",0,1)","v":"acroball.time@gmail.com"},41.390828199863108,15118,"SLYCR500R Indép. 10/11/1982 🇫🇷 French N/A PlayStation 5 N/A Volant Logitech A S Gold 60,11 Fair-Play 0 1 N/A 6 N/A SLYCR500R Sylvain Penagos acroball.time@gmail.com"]
["smag02110","N/A","26/02/1990","🇫🇷 French","N/A","PlayStation 5","N/A","Volant Fanatec","D","S","Bronze",20,"Safe",0,"N/A","N/A",0,"N/A",{"$f":"HYPERLINK(\"https://www.msleague.fr/?page_id=1502&um_user=smag02110\", \"smag02110\")","v":"smag02110"},"Salem","Magri",{"$f":"_xlfn.XLOOKUP(A572,BDD!A568:A10566,BDD!B568:B10566,\" \",0,1)","v":"smag02@hotmail.fr"},34.094455852156059,12453,"smag02110 N/A 26/02/1990 🇫🇷 French N/A PlayStation 5 N/A Volant Fanatec D S Bronze 20 Safe 0 N/A N/A 0 N/A smag02110 Salem Magri smag02@hotmail.fr"]
["sorrybabylka","Err. PSN","N/A","N/A","N/A","N/A","N/A","N/A","N/A","N/A","N/A",null,"N/A",null,"N/A","N/A","N/A","N/A",{"$f":"HYPERLINK(\"https://www.msleague.fr/?page_id=1502&um_user=sorrybabylka\", \"sorrybabylka\")","v":"sorrybabylka"},"N/A","N/A",{"$f":"_xlfn.XLOOKUP(A573,BDD!A569:A10567,BDD!B569:B10567,\" \",0,1)","v":"davidpastukhov@gmail.com"},"","","sorrybabylka Err. PSN N/A N/A N/A N/A N/A N/A N/A N/A N/A  N/A  N/A N/A N/A N/A sorrybabylka N/A N/A davidpastukhov@gmail.com"]
["southgangz480","Indép.","21/11/1989","🇫🇷 French","Fibre","PlayStation 4","Filaire","Volant Thrustmaster","D","B","Bronze",20,"Batailleur",null,"N/A","N/A","N/A","N/A",{"$f":"HYPERLINK(\"https://www.msleague.fr/?page_id=1502&um_user=southgangz480\", \"southgangz480\")","v":"southgangz480"},"Olivier Joel","K BIDI",{"$f":"_xlfn.XLOOKUP(A574,BDD!A570:A10568,BDD!B570:B10568,\" \",0,1)","v":"southgangz480@gmail.com"},34.360027378507873,12550,"southgangz480 Indép. 21/11/1989 🇫🇷 French Fibre PlayStation 4 Filaire Volant Thrustmaster D B Bronze 20 Batailleur  N/A N/A N/A N/A southgangz480 Olivier Joel K BIDI southgangz480@gmail.com"]
["SPORTEC_Atho","SPORTEC","11/06/1991","🇫🇷 French","N/A","PlayStation 5","N/A","Volant Fanatec","A+","S","Legend",95,"Safe",0,"N/A","N/A",0,"N/A",{"$f":"HYPERLINK(\"https://www.msleague.fr/?page_id=1502&um_user=SPORTEC_Atho\", \"SPORTEC_Atho\")","v":"SPORTEC_Atho"},"Anthony","Roinsolle",{"$f":"_xlfn.XLOOKUP(A575,BDD!A571:A10569,BDD!B571:B10569,\" \",0,1)","v":"anthony.roinsolle@laposte.net"},32.807665982203972,11983,"SPORTEC_Atho SPORTEC 11/06/1991 🇫🇷 French N/A PlayStation 5 N/A Volant Fanatec A+ S Legend 95 Safe 0 N/A N/A 0 N/A SPORTEC_Atho Anthony Roinsolle anthony.roinsolle@laposte.net"]
["SPORTEC_Eperna99","SPORTEC","25/11/1981","🇫🇷 French","N/A","PlayStation 5","N/A","Volant Thrustmaster","B","S","Gold",60,"Safe",0,"N/A","N/A",0,"N/A",{"$f":"HYPERLINK(\"https://www.msleague.fr/?page_id=1502&um_user=SPORTEC_Eperna99\", \"SPORTEC_Eperna99\")","v":"SPORTEC_Eperna99"},"Stephane","Cavé",{"$f":"_xlfn.XLOOKUP(A576,BDD!A572:A10570,BDD!B572:B10570,\" \",0,1)","v":"s.cave@hotmail.fr"},42.349075975359341,15468,"SPORTEC_Eperna99 SPORTEC 25/11/1981 🇫🇷 French N/A PlayStation 5 N/A Volant Thrustmaster B S Gold 60 Safe 0 N/A N/A 0 N/A SPORTEC_Eperna99 Stephane Cavé s.cave@hotmail.fr"]
["SPORTEC_Geek","SPORTEC","1/02/1972","🇫🇷 French","Fibre","PlayStation 5","Filaire","Volant Fanatec","B","S","Gold",60,"Safe",0,"N/A","N/A","N/A","N/A",{"$f":"HYPERLINK(\"https://www.msleague.fr/?page_id=1502&um_user=SPORTEC_Geek\", \"SPORTEC_Geek\")","v":"SPORTEC_Geek"},"Olivier","Monier",{"$f":"_xlfn.XLOOKUP(A577,BDD!A573:A10571,BDD!B573:B10571,\" \",0,1)","v":"sportec.geek@gmail.com"},52.164271047227928,19053,"SPORTEC_Geek SPORTEC 1/02/1972 🇫🇷 French Fibre PlayStation 5 Filaire Volant Fanatec B S Gold 60 Safe 0 N/A N/A N/A N/A SPORTEC_Geek Olivier Monier sportec.geek@gmail.com"]
["SPORTEC_Geo46","SPORTEC","3/01/1996","🇫🇷 French","N/A","PlayStation 5","N/A","Volant Fanatec","A","S","Platinum",80,"Safe",0,"N/A","N/A","N/A","N/A",{"$f":"HYPERLINK(\"https://www.msleague.fr/?page_id=1502&um_user=SPORTEC_Geo46\", \"SPORTEC_Geo46\")","v":"SPORTEC_Geo46"},"Geoffrey","Magdelaine",{"$f":"_xlfn.XLOOKUP(A578,BDD!A574:A10572,BDD!B574:B10572,\" \",0,1)","v":"sportecgeo46@gmail.com"},28.243668720054757,10316,"SPORTEC_Geo46 SPORTEC 3/01/1996 🇫🇷 French N/A PlayStation 5 N/A Volant Fanatec A S Platinum 80 Safe 0 N/A N/A N/A N/A SPORTEC_Geo46 Geoffrey Magdelaine sportecgeo46@gmail.com"]
["SPORTEC_JOUGE","SPORTEC","7/10/1977","🇫🇷 French","N/A","PlayStation 5","N/A","Volant Thrustmaster","B","S","Gold",60,"Safe",0,"N/A","N/A",0,"N/A",{"$f":"HYPERLINK(\"https://www.msleague.fr/?page_id=1502&um_user=SPORTEC_JOUGE\", \"SPORTEC_JOUGE\")","v":"SPORTEC_JOUGE"},"David","Delhaye",{"$f":"_xlfn.XLOOKUP(A579,BDD!A575:A10573,BDD!B575:B10573,\" \",0,1)","v":"Davidetcindy@live.fr"},46.483230663928815,16978,"SPORTEC_JOUGE SPORTEC 7/10/1977 🇫🇷 French N/A PlayStation 5 N/A Volant Thrustmaster B S Gold 60 Safe 0 N/A N/A 0 N/A SPORTEC_JOUGE David Delhaye Davidetcindy@live.fr"]
["SPORTEC_KaKaShI","SPORTEC","17/11/1989","🇫🇷 French","Fibre","PlayStation 5","Filaire","Volant Fanatec","A","S","Platinum",80,"Safe",0,"N/A","N/A","N/A","N/A",{"$f":"HYPERLINK(\"https://www.msleague.fr/?page_id=1502&um_user=SPORTEC_KaKaShI\", \"SPORTEC_KaKaShI\")","v":"SPORTEC_KaKaShI"},"Jérémy","HYVERT",{"$f":"_xlfn.XLOOKUP(A580,BDD!A576:A10574,BDD!B576:B10574,\" \",0,1)","v":"sportec2k10@gmail.com"},34.370978781656397,12554,"SPORTEC_KaKaShI SPORTEC 17/11/1989 🇫🇷 French Fibre PlayStation 5 Filaire Volant Fanatec A S Platinum 80 Safe 0 N/A N/A N/A N/A SPORTEC_KaKaShI Jérémy HYVERT sportec2k10@gmail.com"]
["SPORTEC_Kr0gu_","SPORTEC","9/09/2005","🇫🇷 French","N/A","PlayStation 4","N/A","Volant Logitech","B","B","Gold",60,"Batailleur",0,"N/A","N/A",0,"N/A",{"$f":"HYPERLINK(\"https://www.msleague.fr/?page_id=1502&um_user=SPORTEC_Kr0gu_\", \"SPORTEC_Kr0gu_\")","v":"SPORTEC_Kr0gu_"},"Ewen","Evin",{"$f":"_xlfn.XLOOKUP(A581,BDD!A577:A10575,BDD!B577:B10575,\" \",0,1)","v":"krogu.pro@gmail.com"},{"$f":"IF(X581=\"\",\"\",CONVERT(X581,\"day\",\"yr\"))","v":18.559890485968516},6779,"SPORTEC_Kr0gu_ SPORTEC 9/09/2005 🇫🇷 French N/A PlayStation 4 N/A Volant Logitech B B Gold 60 Batailleur 0 N/A N/A 0 N/A SPORTEC_Kr0gu_ Ewen Evin krogu.pro@gmail.com"]
["SPORTEC_MiniaSeb","N/A","22/08/1972","🇫🇷 French","N/A","PlayStation 5","N/A","Volant Fanatec","A","S","Platinum",80,"Safe",0,"N/A","N/A","N/A","N/A",{"$f":"HYPERLINK(\"https://www.msleague.fr/?page_id=1502&um_user=SPORTEC_MiniaSeb\", \"SPORTEC_MiniaSeb\")","v":"SPORTEC_MiniaSeb"},"Sébastien","VATTIER",{"$f":"_xlfn.XLOOKUP(A582,BDD!A578:A10576,BDD!B578:B10576,\" \",0,1)","v":"miniaseb@free.fr"},51.60848733744011,18850,{"$f":"A582 & \" \" & B582 & \" \" & C582 & \" \" & D582 & \" \" & E582 & \" \" & F582 & \" \" & G582 & \" \" & H582 & \" \" & I582 & \" \" & J582 & \" \" & K582 & \" \" & L582 & \" \" & M582 & \" \" & N582 & \" \" & O582 & \" \" & P582 & \" \" &Q582 & \" \" & R582 & \" \" & S582 & \" \" & T582 & \" \" & U582 & \" \" & V582","v":"SPORTEC_MiniaSeb N/A 22/08/1972 🇫🇷 French N/A PlayStation 5 N/A Volant Fanatec A S Platinum 80 Safe 0 N/A N/A N/A N/A SPORTEC_MiniaSeb Sébastien VATTIER miniaseb@free.fr"}]
["SPORTEC_Nono","SPORTEC","22/11/1983","🇫🇷 French","N/A","PlayStation 5","N/A","Volant Fanatec","B","S","Gold",60,"Safe",0,"N/A","N/A","N/A","N/A",{"$f":"HYPERLINK(\"https://www.msleague.fr/?page_id=1502&um_user=SPORTEC_Nono\", \"SPORTEC_Nono\")","v":"SPORTEC_Nono"},"Arnaud","GAUTIER",{"$f":"_xlfn.XLOOKUP(A583,BDD!A579:A10577,BDD!B579:B10577,\" \",0,1)","v":"arno.gautierbzh35@gmail.com"},40.358658453114302,14741,"SPORTEC_Nono SPORTEC 22/11/1983 🇫🇷 French N/A PlayStation 5 N/A Volant Fanatec B S Gold 60 Safe 0 N/A N/A N/A N/A SPORTEC_Nono Arnaud GAUTIER arno.gautierbzh35@gmail.com"]
["SPORTEC_PoMMe","SPORTEC","16/09/1998","🇫🇷 French","N/A","PlayStation 5","N/A","Manette","B","S","Gold",60,"Safe",0,"N/A","N/A",0,"N/A",{"$f":"HYPERLINK(\"https://www.msleague.fr/?page_id=1502&um_user=SPORTEC_PoMMe\", \"SPORTEC_PoMMe\")","v":"SPORTEC_PoMMe"},"Benoît","WEICZMANN",{"$f":"_xlfn.XLOOKUP(A584,BDD!A580:A10578,BDD!B580:B10578,\" \",0,1)","v":"w.benoit06@gmail.com"},25.541409993155373,9329,"SPORTEC_PoMMe SPORTEC 16/09/1998 🇫🇷 French N/A PlayStation 5 N/A Manette B S Gold 60 Safe 0 N/A N/A 0 N/A SPORTEC_PoMMe Benoît WEICZMANN w.benoit06@gmail.com"]
["SPORTEC_S-Kasuda","SPORTEC","26/03/1986","🇫🇷 French","N/A","PlayStation 5","N/A","Volant Thrustmaster","B","S","Gold",60,"Safe",0,"N/A","N/A","N/A","N/A",{"$f":"HYPERLINK(\"https://www.msleague.fr/?page_id=1502&um_user=SPORTEC_S-Kasuda\", \"SPORTEC_S-Kasuda\")","v":"SPORTEC_S-Kasuda"},"Sandy","Dardenne",{"$f":"_xlfn.XLOOKUP(A585,BDD!A581:A10579,BDD!B581:B10579,\" \",0,1)","v":"dardennesandy@gmail.com"},38.017796030116358,13886,"SPORTEC_S-Kasuda SPORTEC 26/03/1986 🇫🇷 French N/A PlayStation 5 N/A Volant Thrustmaster B S Gold 60 Safe 0 N/A N/A N/A N/A SPORTEC_S-Kasuda Sandy Dardenne dardennesandy@gmail.com"]
["SPORTEC_Steph","Sportec","1/01/1970","🇫🇷 French","Fibre","PlayStation 5","Filaire","Volant Fanatec","B","S","Gold",60,"Safe",null,"N/A","N/A","N/A","N/A",{"$f":"HYPERLINK(\"https://www.msleague.fr/?page_id=1502&um_user=SPORTEC_Steph\", \"SPORTEC_Steph\")","v":"SPORTEC_Steph"},"Stéphane","Guillaume",{"$f":"_xlfn.XLOOKUP(A586,BDD!A582:A10580,BDD!B582:B10580,\" \",0,1)","v":"powersteph@wanadoo.fr"},54.247775496235455,19814,"SPORTEC_Steph Sportec 1/01/1970 🇫🇷 French Fibre PlayStation 5 Filaire Volant Fanatec B S Gold 60 Safe  N/A N/A N/A N/A SPORTEC_Steph Stéphane Guillaume powersteph@wanadoo.fr"]
["Spykee13","Indép.","22/04/1982","🇫🇷 French","N/A","PlayStation 5","N/A","Volant Logitech","C","S","Silver",40,"Safe",0,"N/A","N/A","N/A","N/A",{"$f":"HYPERLINK(\"https://www.msleague.fr/?page_id=1502&um_user=Spykee13\", \"Spykee13\")","v":"Spykee13"},"Yvan","Caruso",{"$f":"_xlfn.XLOOKUP(A587,BDD!A583:A10581,BDD!B583:B10581,\" \",0,1)","v":"Spykeeland13@gmail.com"},41.943874058863791,15320,"Spykee13 Indép. 22/04/1982 🇫🇷 French N/A PlayStation 5 N/A Volant Logitech C S Silver 40 Safe 0 N/A N/A N/A N/A Spykee13 Yvan Caruso Spykeeland13@gmail.com"]
["sssunesss","GTHH","13/08/1986","🇸🇰 Slovakia","Câble","PlayStation 5","Filaire","Volant Thrustmaster","A+","S","Legend",89.72,"Safe",2,1,0,1,0,{"$f":"HYPERLINK(\"https://www.msleague.fr/?page_id=1502&um_user=sssunesss\", \"sssunesss\")","v":"sssunesss"},"Marcel","Istocy",{"$f":"_xlfn.XLOOKUP(A588,BDD!A584:A10582,BDD!B584:B10582,\" \",0,1)","v":"istocymarcel500@gmail.com"},37.634496919917865,13746,"sssunesss GTHH 13/08/1986 🇸🇰 Slovakia Câble PlayStation 5 Filaire Volant Thrustmaster A+ S Legend 89,72 Safe 2 1 0 1 0 sssunesss Marcel Istocy istocymarcel500@gmail.com"]
["Stayback26","LPG","17/05/1991","🇫🇷 French","N/A","PlayStation 5","N/A","Volant Fanatec","B","S","Gold",60,"Safe",0,"N/A","N/A",0,"N/A",{"$f":"HYPERLINK(\"https://www.msleague.fr/?page_id=1502&um_user=Stayback26\", \"Stayback26\")","v":"Stayback26"},"Florian","Perret",{"$f":"_xlfn.XLOOKUP(A589,BDD!A585:A10583,BDD!B585:B10583,\" \",0,1)","v":"florianperret14@gmail.com"},32.876112251882276,12008,"Stayback26 LPG 17/05/1991 🇫🇷 French N/A PlayStation 5 N/A Volant Fanatec B S Gold 60 Safe 0 N/A N/A 0 N/A Stayback26 Florian Perret florianperret14@gmail.com"]
["steph_lagaffe","BAM","28/11/1963","🇨🇭 Switzerland","N/A","PlayStation 5","N/A","Volant Fanatec","B","S","Gold",60,"Safe",0,"N/A","N/A","N/A","N/A",{"$f":"HYPERLINK(\"https://www.msleague.fr/?page_id=1502&um_user=steph_lagaffe\", \"steph_lagaffe\")","v":"steph_lagaffe"},"Stéphane","Schaer",{"$f":"_xlfn.XLOOKUP(A590,BDD!A586:A10584,BDD!B586:B10584,\" \",0,1)","v":"stephane.schaer@bluewin.ch"},60.342231348391515,22040,"steph_lagaffe BAM 28/11/1963 🇨🇭 Switzerland N/A PlayStation 5 N/A Volant Fanatec B S Gold 60 Safe 0 N/A N/A N/A N/A steph_lagaffe Stéphane Schaer stephane.schaer@bluewin.ch"]
["steso-19","Indép.","9/09/1972","🇫🇷 French","N/A","PlayStation 5","N/A","Volant Fanatec","A","S","Platinum",80,"Safe",0,"N/A","N/A","N/A","N/A",{"$f":"HYPERLINK(\"https://www.msleague.fr/?page_id=1502&um_user=steso-19\", \"steso-19\")","v":"steso-19"},"Stephane","Lefevre",{"$f":"_xlfn.XLOOKUP(A591,BDD!A587:A10585,BDD!B587:B10585,\" \",0,1)","v":"stephane.lefevre1@sncf.fr"},51.559206023271734,18832,"steso-19 Indép. 9/09/1972 🇫🇷 French N/A PlayStation 5 N/A Volant Fanatec A S Platinum 80 Safe 0 N/A N/A N/A N/A steso-19 Stephane Lefevre stephane.lefevre1@sncf.fr"]
["stfm827","Indép.","19/06/1975","🇫🇷 French","Fibre","PlayStation 4","Filaire","Volant Thrustmaster","B","S","Gold",60,"Safe",0,"N/A","N/A","N/A","N/A",{"$f":"HYPERLINK(\"https://www.msleague.fr/?page_id=1502&um_user=stfm827\", \"stfm827\")","v":"stfm827"},"stef","Michel",{"$f":"_xlfn.XLOOKUP(A592,BDD!A588:A10586,BDD!B588:B10586,\" \",0,1)","v":"stfm@free.fr"},48.785763175906915,17819,"stfm827 Indép. 19/06/1975 🇫🇷 French Fibre PlayStation 4 Filaire Volant Thrustmaster B S Gold 60 Safe 0 N/A N/A N/A N/A stfm827 stef Michel stfm@free.fr"]
["STORM02_ZoLac","STORM","26/07/2006","🇫🇷 French","N/A","PlayStation 4","N/A","Volant Thrustmaster","A+","S","Legend",95,"Safe",0,"N/A","N/A","N/A","N/A",{"$f":"HYPERLINK(\"https://www.msleague.fr/?page_id=1502&um_user=STORM02_ZoLac\", \"STORM02_ZoLac\")","v":"STORM02_ZoLac"},"Enzo","Lacreuse",{"$f":"_xlfn.XLOOKUP(A593,BDD!A589:A10587,BDD!B589:B10587,\" \",0,1)","v":"Enzo.lacreuse32@gmail.com"},17.683778234086244,6459,"STORM02_ZoLac STORM 26/07/2006 🇫🇷 French N/A PlayStation 4 N/A Volant Thrustmaster A+ S Legend 95 Safe 0 N/A N/A N/A N/A STORM02_ZoLac Enzo Lacreuse Enzo.lacreuse32@gmail.com"]
["STORM07_JoloupiO","STORM","7/11/2002","🇫🇷 French","N/A","PlayStation 5","N/A","Volant Logitech","A","S","Platinum",81.2,"Fair-Play",9,3,0,8,0,{"$f":"HYPERLINK(\"https://www.msleague.fr/?page_id=1502&um_user=STORM07_JoloupiO\", \"STORM07_JoloupiO\")","v":"STORM07_JoloupiO"},"Louis","GRAINDOR",{"$f":"_xlfn.XLOOKUP(A594,BDD!A590:A10588,BDD!B590:B10588,\" \",0,1)","v":"hraplaklouis@gmail.com"},21.399041752224505,7816,"STORM07_JoloupiO STORM 7/11/2002 🇫🇷 French N/A PlayStation 5 N/A Volant Logitech A S Platinum 81,2 Fair-Play 9 3 0 8 0 STORM07_JoloupiO Louis GRAINDOR hraplaklouis@gmail.com"]
["STORM16_MELVYN","STORM","28/11/2001","🇲🇨 Monaco","N/A","PlayStation 5","N/A","Volant Fanatec","A+","S","Legend",97.08,"Safe",0,3,0,4,0,{"$f":"HYPERLINK(\"https://www.msleague.fr/?page_id=1502&um_user=STORM16_MELVYN\", \"STORM16_MELVYN\")","v":"STORM16_MELVYN"},"Melvyn","Maiarelli",{"$f":"_xlfn.XLOOKUP(A595,BDD!A591:A10589,BDD!B591:B10589,\" \",0,1)","v":"Maiarellimelvyn@gmail.com"},22.340862422997947,8160,"STORM16_MELVYN STORM 28/11/2001 🇲🇨 Monaco N/A PlayStation 5 N/A Volant Fanatec A+ S Legend 97,08 Safe 0 3 0 4 0 STORM16_MELVYN Melvyn Maiarelli Maiarellimelvyn@gmail.com"]
["STORM20_Ragnarok","STORM","7/03/1996","🇫🇷 French","Box/Partage 3G/4G","PlayStation 5","Wifi","Volant Thrustmaster","A+","S","Platinum",89.5,"Fair-Play",6,1,0,1,0,{"$f":"HYPERLINK(\"https://www.msleague.fr/?page_id=1502&um_user=STORM20_Ragnarok\", \"STORM20_Ragnarok\")","v":"STORM20_Ragnarok"},"Bryan","Coquière",{"$f":"_xlfn.XLOOKUP(A596,BDD!A592:A10590,BDD!B592:B10590,\" \",0,1)","v":"bryancoquiere50@gmail.com"},28.068446269678301,10252,"STORM20_Ragnarok STORM 7/03/1996 🇫🇷 French Box/Partage 3G/4G PlayStation 5 Wifi Volant Thrustmaster A+ S Platinum 89,5 Fair-Play 6 1 0 1 0 STORM20_Ragnarok Bryan Coquière bryancoquiere50@gmail.com"]
["STORM203_Leirbag","STORM","27/01/1996","🇫🇷 French","N/A","PlayStation 5","N/A","Volant Thrustmaster","A","S","Platinum",88.34,"Safe",11,3,0,8,0,{"$f":"HYPERLINK(\"https://www.msleague.fr/?page_id=1502&um_user=STORM203_Leirbag\", \"STORM203_Leirbag\")","v":"STORM203_Leirbag"},"Gabriel","Letourneur",{"$f":"_xlfn.XLOOKUP(A597,BDD!A593:A10591,BDD!B593:B10591,\" \",0,1)","v":"gaby.leto203@gmail.com"},28.177960301163587,10292,"STORM203_Leirbag STORM 27/01/1996 🇫🇷 French N/A PlayStation 5 N/A Volant Thrustmaster A S Platinum 88,34 Safe 11 3 0 8 0 STORM203_Leirbag Gabriel Letourneur gaby.leto203@gmail.com"]
["STORM24_DIABLOS","STORM","24/03/1994","🇫🇷 French","N/A","PlayStation 5","N/A","Volant Thrustmaster","A+","S","Platinum",86.98,"Safe",6,5,"20,00 %",11,"9,10 %",{"$f":"HYPERLINK(\"https://www.msleague.fr/?page_id=1502&um_user=STORM24_DIABLOS\", \"STORM24_DIABLOS\")","v":"STORM24_DIABLOS"},"Kevin","VANDEN BROECK",{"$f":"_xlfn.XLOOKUP(A598,BDD!A594:A10592,BDD!B594:B10592,\" \",0,1)","v":"kevinvandenbroeck24@gmail.com"},30.023271731690624,10966,"STORM24_DIABLOS STORM 24/03/1994 🇫🇷 French N/A PlayStation 5 N/A Volant Thrustmaster A+ S Platinum 86,98 Safe 6 5 20,00 % 11 9,10 % STORM24_DIABLOS Kevin VANDEN BROECK kevinvandenbroeck24@gmail.com"]
["STORM27_JDM","STORM","27/02/1998","🇫🇷 French","N/A","PlayStation 5","N/A","Volant Thrustmaster","A","S","Platinum",83.42,"Safe",6,1,0,1,0,{"$f":"HYPERLINK(\"https://www.msleague.fr/?page_id=1502&um_user=STORM27_JDM\", \"STORM27_JDM\")","v":"STORM27_JDM"},"Adrien","Lucas",{"$f":"_xlfn.XLOOKUP(A599,BDD!A595:A10593,BDD!B595:B10593,\" \",0,1)","v":"adrijdm98@gmail.com"},26.091718001368925,9530,"STORM27_JDM STORM 27/02/1998 🇫🇷 French N/A PlayStation 5 N/A Volant Thrustmaster A S Platinum 83,42 Safe 6 1 0 1 0 STORM27_JDM Adrien Lucas adrijdm98@gmail.com"]
["STORM27_MayGoal","STORM","27/03/2005","🇫🇷 French","N/A","PlayStation 5","N/A","Volant Thrustmaster","A","S","Platinum",80,"Safe",0,"N/A","N/A","N/A","N/A",{"$f":"HYPERLINK(\"https://www.msleague.fr/?page_id=1502&um_user=STORM27_MayGoal\", \"STORM27_MayGoal\")","v":"STORM27_MayGoal"},"Enzo","Mayeux",{"$f":"_xlfn.XLOOKUP(A600,BDD!A596:A10594,BDD!B596:B10594,\" \",0,1)","v":"enzomayeuxpro@gmail.com"},19.014373716632445,6945,"STORM27_MayGoal STORM 27/03/2005 🇫🇷 French N/A PlayStation 5 N/A Volant Thrustmaster A S Platinum 80 Safe 0 N/A N/A N/A N/A STORM27_MayGoal Enzo Mayeux enzomayeuxpro@gmail.com"]
["STORM29_Kenpachi","STORM","29/11/1992","🇫🇷 French","N/A","PlayStation 5","N/A","Volant Fanatec","A+","S","Legend",90.22,"Safe",11,3,0,8,"62,50 %",{"$f":"HYPERLINK(\"https://www.msleague.fr/?page_id=1502&um_user=STORM29_Kenpachi\", \"STORM29_Kenpachi\")","v":"STORM29_Kenpachi"},"Benjamin","Rosa",{"$f":"_xlfn.XLOOKUP(A601,BDD!A597:A10595,BDD!B597:B10595,\" \",0,1)","v":"benjamin.rosa@icloud.com"},31.337440109514031,{"$f":"IF(C601=\"N/A\",\"\",TODAY()-$C601)","v":11446},"STORM29_Kenpachi STORM 29/11/1992 🇫🇷 French N/A PlayStation 5 N/A Volant Fanatec A+ S Legend 90,22 Safe 11 3 0 8 62,50 % STORM29_Kenpachi Benjamin Rosa benjamin.rosa@icloud.com"]
["STORM33_PREDATOR","STORM","1/05/1995","🇫🇷 French","N/A","PlayStation 4","N/A","Volant Thrustmaster","A+","S","Platinum",89.65,"Safe",6,4,0,11,0,{"$f":"HYPERLINK(\"https://www.msleague.fr/?page_id=1502&um_user=STORM33_PREDATOR\", \"STORM33_PREDATOR\")","v":"STORM33_PREDATOR"},"Romain","Genty",{"$f":"_xlfn.XLOOKUP(A602,BDD!A598:A10596,BDD!B598:B10596,\" \",0,1)","v":"Gentyromain578@gmail.com"},28.919917864476385,10563,"STORM33_PREDATOR STORM 1/05/1995 🇫🇷 French N/A PlayStation 4 N/A Volant Thrustmaster A+ S Platinum 89,65 Safe 6 4 0 11 0 STORM33_PREDATOR Romain Genty Gentyromain578@gmail.com"]
["STORM63_Rasta","STORM","10/07/1980","🇫🇷 French","N/A","PlayStation 5","Filaire","Volant Thrustmaster","A+","S","Platinum",86.45,"Safe",0,2,0,7,0,{"$f":"HYPERLINK(\"https://www.msleague.fr/?page_id=1502&um_user=STORM63_Rasta\", \"STORM63_Rasta\")","v":"STORM63_Rasta"},"sylvain","guillaume",{"$f":"_xlfn.XLOOKUP(A603,BDD!A599:A10597,BDD!B599:B10597,\" \",0,1)","v":"sylvain.guillaume63@hotmail.fr"},43.72621492128679,15971,"STORM63_Rasta STORM 10/07/1980 🇫🇷 French N/A PlayStation 5 Filaire Volant Thrustmaster A+ S Platinum 86,45 Safe 0 2 0 7 0 STORM63_Rasta sylvain guillaume sylvain.guillaume63@hotmail.fr"]
["STORM70_Axel-R","STORM","7/11/2001","🇫🇷 French","N/A","PlayStation 5","N/A","Volant Thrustmaster","A+","S","Legend",95,"Safe",0,"N/A","N/A","N/A","N/A",{"$f":"HYPERLINK(\"https://www.msleague.fr/?page_id=1502&um_user=STORM70_Axel-R\", \"STORM70_Axel-R\")","v":"STORM70_Axel-R"},"Axel","Leduc",{"$f":"_xlfn.XLOOKUP(A604,BDD!A600:A10598,BDD!B600:B10598,\" \",0,1)","v":"leducaxel39@gmail.com"},22.39835728952772,8181,"STORM70_Axel-R STORM 7/11/2001 🇫🇷 French N/A PlayStation 5 N/A Volant Thrustmaster A+ S Legend 95 Safe 0 N/A N/A N/A N/A STORM70_Axel-R Axel Leduc leducaxel39@gmail.com"]
["Stphfx27","SGEG","27/11/1977","🇫🇷 French","N/A","PlayStation 5","N/A","Volant Fanatec","B","A","Gold",60,"Fair-Play",0,"N/A","N/A","N/A","N/A",{"$f":"HYPERLINK(\"https://www.msleague.fr/?page_id=1502&um_user=Stphfx27\", \"Stphfx27\")","v":"Stphfx27"},"Stéphane","Boissonnade",{"$f":"_xlfn.XLOOKUP(A605,BDD!A601:A10599,BDD!B601:B10599,\" \",0,1)","v":"stphfx@gmail.com"},46.343600273785079,16927,"Stphfx27 SGEG 27/11/1977 🇫🇷 French N/A PlayStation 5 N/A Volant Fanatec B A Gold 60 Fair-Play 0 N/A N/A N/A N/A Stphfx27 Stéphane Boissonnade stphfx@gmail.com"]
["Sub-Zero","BSF","11/09/1986","🇫🇷 French","N/A","PlayStation 5","N/A","Volant Thrustmaster","B","S","Gold",60,"Safe",0,"N/A","N/A","N/A","N/A",{"$f":"HYPERLINK(\"https://www.msleague.fr/?page_id=1502&um_user=Sub-Zero\", \"Sub-Zero\")","v":"Sub-Zero"},"Jonathan","Attagniant",{"$f":"_xlfn.XLOOKUP(A606,BDD!A602:A10600,BDD!B602:B10600,\" \",0,1)","v":"jonaatta62@hotmail.fr"},37.555099247091036,13717,"Sub-Zero BSF 11/09/1986 🇫🇷 French N/A PlayStation 5 N/A Volant Thrustmaster B S Gold 60 Safe 0 N/A N/A N/A N/A Sub-Zero Jonathan Attagniant jonaatta62@hotmail.fr"]
["sun7_GregGoose","SUN7","27/11/1979","🇫🇷 French","N/A","PlayStation 5","N/A","Volant Fanatec","B","S","Gold",60,"Safe",0,"N/A","N/A",0,"N/A",{"$f":"HYPERLINK(\"https://www.msleague.fr/?page_id=1502&um_user=sun7_GregGoose\", \"sun7_GregGoose\")","v":"sun7_GregGoose"},"greg","goodman",{"$f":"_xlfn.XLOOKUP(A607,BDD!A603:A10601,BDD!B603:B10601,\" \",0,1)","v":"hello@esports-team-manager.com"},44.344969199178642,16197,"sun7_GregGoose SUN7 27/11/1979 🇫🇷 French N/A PlayStation 5 N/A Volant Fanatec B S Gold 60 Safe 0 N/A N/A 0 N/A sun7_GregGoose greg goodman hello@esports-team-manager.com"]
["Swagger67","VALKY","23/03/1987","🇫🇷 French","Câble","PlayStation 4","Filaire","Volant Thrustmaster","C","S","Silver",40,"Safe",null,"N/A","N/A","N/A","N/A",{"$f":"HYPERLINK(\"https://www.msleague.fr/?page_id=1502&um_user=Swagger67\", \"Swagger67\")","v":"Swagger67"},"Yves","FREYERMUTH",{"$f":"_xlfn.XLOOKUP(A608,BDD!A604:A10602,BDD!B604:B10602,\" \",0,1)","v":"yves_freyermuth@hotmail.fr"},37.026694045174537,13524,"Swagger67 VALKY 23/03/1987 🇫🇷 French Câble PlayStation 4 Filaire Volant Thrustmaster C S Silver 40 Safe  N/A N/A N/A N/A Swagger67 Yves FREYERMUTH yves_freyermuth@hotmail.fr"]
["T23T_Carma","T23T","5/08/1990","🇫🇷 French","N/A","PlayStation 5","N/A","Volant Thrustmaster","A","S","Platinum",80,"Safe",0,"N/A","N/A","N/A","N/A",{"$f":"HYPERLINK(\"https://www.msleague.fr/?page_id=1502&um_user=T23T_Carma\", \"T23T_Carma\")","v":"T23T_Carma"},"Rieul","Tsang",{"$f":"_xlfn.XLOOKUP(A609,BDD!A605:A10603,BDD!B605:B10603,\" \",0,1)","v":"rieul.tsang@gmail.com"},33.656399726214921,12293,"T23T_Carma T23T 5/08/1990 🇫🇷 French N/A PlayStation 5 N/A Volant Thrustmaster A S Platinum 80 Safe 0 N/A N/A N/A N/A T23T_Carma Rieul Tsang rieul.tsang@gmail.com"]
["T23T_Dav","T23T","21/05/1981","🇫🇷 French","N/A","PlayStation 5","N/A","Volant Fanatec","A+","S","Legend",95,"Safe",0,"N/A","N/A","N/A","N/A",{"$f":"HYPERLINK(\"https://www.msleague.fr/?page_id=1502&um_user=T23T_Dav\", \"T23T_Dav\")","v":"T23T_Dav"},"David","Mao",{"$f":"_xlfn.XLOOKUP(A610,BDD!A606:A10604,BDD!B606:B10604,\" \",0,1)","v":"dav7045@live.fr"},42.86379192334018,15656,"T23T_Dav T23T 21/05/1981 🇫🇷 French N/A PlayStation 5 N/A Volant Fanatec A+ S Legend 95 Safe 0 N/A N/A N/A N/A T23T_Dav David Mao dav7045@live.fr"]
["T23T_Neibaf23","T23T","23/12/1967","🇫🇷 French","N/A","PlayStation 4","N/A","Manette","A","S","Platinum",80,"Safe",0,"N/A","N/A","N/A","N/A",{"$f":"HYPERLINK(\"https://www.msleague.fr/?page_id=1502&um_user=T23T_Neibaf23\", \"T23T_Neibaf23\")","v":"T23T_Neibaf23"},"fabien","Lecoutey",{"$f":"_xlfn.XLOOKUP(A611,BDD!A607:A10605,BDD!B607:B10605,\" \",0,1)","v":"neibaf23@hotmail.fr"},56.27378507871321,20554,"T23T_Neibaf23 T23T 23/12/1967 🇫🇷 French N/A PlayStation 4 N/A Manette A S Platinum 80 Safe 0 N/A N/A N/A N/A T23T_Neibaf23 fabien Lecoutey neibaf23@hotmail.fr"]
["T23T_Rongeur-28","T23T","20/08/1967","🇫🇷 French","N/A","PlayStation 5","N/A","Volant Fanatec","A","S","Platinum",80,"Safe",0,"N/A","N/A","N/A","N/A",{"$f":"HYPERLINK(\"https://www.msleague.fr/?page_id=1502&um_user=T23T_Rongeur-28\", \"T23T_Rongeur-28\")","v":"T23T_Rongeur-28"},"Philippe","Tissier",{"$f":"_xlfn.XLOOKUP(A612,BDD!A608:A10606,BDD!B608:B10606,\" \",0,1)","v":"pilou77174@orange.fr"},56.616016427104725,20679,"T23T_Rongeur-28 T23T 20/08/1967 🇫🇷 French N/A PlayStation 5 N/A Volant Fanatec A S Platinum 80 Safe 0 N/A N/A N/A N/A T23T_Rongeur-28 Philippe Tissier pilou77174@orange.fr"]
["T23T_Salvatore","T23T","2/05/1984","🇧🇪 Belgium","N/A","PlayStation 5","N/A","Volant Thrustmaster","A+","S","Legend",95,"Safe",0,"N/A","N/A","N/A","N/A",{"$f":"HYPERLINK(\"https://www.msleague.fr/?page_id=1502&um_user=T23T_Salvatore\", \"T23T_Salvatore\")","v":"T23T_Salvatore"},"Salvatore","Buscemi",{"$f":"_xlfn.XLOOKUP(A613,BDD!A609:A10607,BDD!B609:B10607,\" \",0,1)","v":"Salvatore790@hotmail.com"},39.915126625598901,14579,"T23T_Salvatore T23T 2/05/1984 🇧🇪 Belgium N/A PlayStation 5 N/A Volant Thrustmaster A+ S Legend 95 Safe 0 N/A N/A N/A N/A T23T_Salvatore Salvatore Buscemi Salvatore790@hotmail.com"]
["T2F-Captnrob53","T2F","20/10/1991","🇫🇷 French","N/A","PlayStation 5","N/A","Volant Logitech","A","S","Platinum",80,"Safe",0,"N/A","N/A","N/A","N/A",{"$f":"HYPERLINK(\"https://www.msleague.fr/?page_id=1502&um_user=T2F-Captnrob53\", \"T2F-Captnrob53\")","v":"T2F-Captnrob53"},"Robin","DUPOIRON",{"$f":"_xlfn.XLOOKUP(A614,BDD!A610:A10608,BDD!B610:B10608,\" \",0,1)","v":"captn53.esport@gmail.com"},32.449007529089663,11852,"T2F-Captnrob53 T2F 20/10/1991 🇫🇷 French N/A PlayStation 5 N/A Volant Logitech A S Platinum 80 Safe 0 N/A N/A N/A N/A T2F-Captnrob53 Robin DUPOIRON captn53.esport@gmail.com"]
["T3GT_Stema","T3GT","5/09/1974","🇫🇷 French","N/A","PlayStation 5","N/A","Volant Thrustmaster","A","S","Platinum",80,"Safe",0,"N/A","N/A","N/A","N/A",{"$f":"HYPERLINK(\"https://www.msleague.fr/?page_id=1502&um_user=T3GT_Stema\", \"T3GT_Stema\")","v":"T3GT_Stema"},"stephane","MALVY",{"$f":"_xlfn.XLOOKUP(A615,BDD!A611:A10609,BDD!B611:B10609,\" \",0,1)","v":"stephane.malvy@outlook.fr"},49.571526351813823,18106,"T3GT_Stema T3GT 5/09/1974 🇫🇷 French N/A PlayStation 5 N/A Volant Thrustmaster A S Platinum 80 Safe 0 N/A N/A N/A N/A T3GT_Stema stephane MALVY stephane.malvy@outlook.fr"]
["Tedslick","Indép.","1/10/1972","🇫🇷 French","Fibre","PlayStation 5","Filaire","Volant Fanatec","A","S","Platinum",78.03,"Safe",0,1,0,7,0,{"$f":"HYPERLINK(\"https://www.msleague.fr/?page_id=1502&um_user=Tedslick\", \"Tedslick\")","v":"Tedslick"},"Thierry","Deravin",{"$f":"_xlfn.XLOOKUP(A616,BDD!A612:A10610,BDD!B612:B10610,\" \",0,1)","v":"tderavin@orange.fr"},51.498973305954827,18810,"Tedslick Indép. 1/10/1972 🇫🇷 French Fibre PlayStation 5 Filaire Volant Fanatec A S Platinum 78,03 Safe 0 1 0 7 0 Tedslick Thierry Deravin tderavin@orange.fr"]
["TGR02_Gaulois","TGR","8/02/2024","🇫🇷 French","Câble","PlayStation 5","Filaire","Manette","A","A","Platinum",80,"Fair-Play",null,"N/A","N/A","N/A","N/A",{"$f":"HYPERLINK(\"https://www.msleague.fr/?page_id=1502&um_user=TGR02_Gaulois\", \"TGR02_Gaulois\")","v":"TGR02_Gaulois"},"Valentin","Fessler",{"$f":"_xlfn.XLOOKUP(A617,BDD!A613:A10611,BDD!B613:B10611,\" \",0,1)","v":"Valentin.fessler@icloud.com"},0.14510609171800137,53,"TGR02_Gaulois TGR 8/02/2024 🇫🇷 French Câble PlayStation 5 Filaire Manette A A Platinum 80 Fair-Play  N/A N/A N/A N/A TGR02_Gaulois Valentin Fessler Valentin.fessler@icloud.com"]
["TGR11_LeDuK","TGR","11/05/1965","🇫🇷 French","N/A","PlayStation 4","N/A","Volant Fanatec","B","S","Gold",60,"Safe",0,"N/A","N/A",0,"N/A",{"$f":"HYPERLINK(\"https://www.msleague.fr/?page_id=1502&um_user=TGR11_LeDuK\", \"TGR11_LeDuK\")","v":"TGR11_LeDuK"},"Martin","Dupont",{"$f":"_xlfn.XLOOKUP(A618,BDD!A614:A10612,BDD!B614:B10612,\" \",0,1)","v":"caloup666@gmail.com"},58.891170431211499,21510,"TGR11_LeDuK TGR 11/05/1965 🇫🇷 French N/A PlayStation 4 N/A Volant Fanatec B S Gold 60 Safe 0 N/A N/A 0 N/A TGR11_LeDuK Martin Dupont caloup666@gmail.com"]
["TGR15_Kevzgl","TGR","23/08/1984","🇧🇪 Belgium","N/A","PlayStation 5","N/A","Volant Thrustmaster","B","S","Gold",60,"Safe",0,"N/A","N/A",0,"N/A",{"$f":"HYPERLINK(\"https://www.msleague.fr/?page_id=1502&um_user=TGR15_Kevzgl\", \"TGR15_Kevzgl\")","v":"TGR15_Kevzgl"},"Kevin","Zingle",{"$f":"_xlfn.XLOOKUP(A619,BDD!A615:A10613,BDD!B615:B10613,\" \",0,1)","v":"Kevinzingle1@gmail.com"},39.605749486652975,14466,"TGR15_Kevzgl TGR 23/08/1984 🇧🇪 Belgium N/A PlayStation 5 N/A Volant Thrustmaster B S Gold 60 Safe 0 N/A N/A 0 N/A TGR15_Kevzgl Kevin Zingle Kevinzingle1@gmail.com"]
["TGR19_Jeff","TGR","10/05/1996","🇧🇪 Belgium","Câble","PlayStation 5","Filaire","Volant Logitech","C","S","Silver",40,"Safe",null,"N/A","N/A","N/A","N/A",{"$f":"HYPERLINK(\"https://www.msleague.fr/?page_id=1502&um_user=TGR19_Jeff\", \"TGR19_Jeff\")","v":"TGR19_Jeff"},"Jeff","Bergeret",{"$f":"_xlfn.XLOOKUP(A620,BDD!A616:A10614,BDD!B616:B10614,\" \",0,1)","v":"Jeffbergeret@outlook.be"},27.893223819301848,10188,"TGR19_Jeff TGR 10/05/1996 🇧🇪 Belgium Câble PlayStation 5 Filaire Volant Logitech C S Silver 40 Safe  N/A N/A N/A N/A TGR19_Jeff Jeff Bergeret Jeffbergeret@outlook.be"]
["TGR7_Killjack","TGR","15/02/1969","🇫🇷 French","N/A","PlayStation 5","N/A","Volant Thrustmaster","B","S","Gold",60,"Safe",0,"N/A","N/A",0,"N/A",{"$f":"HYPERLINK(\"https://www.msleague.fr/?page_id=1502&um_user=TGR7_Killjack\", \"TGR7_Killjack\")","v":"TGR7_Killjack"},"Stéphan","Cappaï",{"$f":"_xlfn.XLOOKUP(A621,BDD!A617:A10615,BDD!B617:B10615,\" \",0,1)","v":"cool77rasta@gmail.com"},55.123887748117724,20134,"TGR7_Killjack TGR 15/02/1969 🇫🇷 French N/A PlayStation 5 N/A Volant Thrustmaster B S Gold 60 Safe 0 N/A N/A 0 N/A TGR7_Killjack Stéphan Cappaï cool77rasta@gmail.com"]
["TGR97_Mika","TGR","25/12/1992","🇫🇷 French","ADSL","PlayStation 4","Filaire","Manette","A","S","Platinum",80,"Safe",0,"N/A","N/A","N/A","N/A",{"$f":"HYPERLINK(\"https://www.msleague.fr/?page_id=1502&um_user=TGR97_Mika\", \"TGR97_Mika\")","v":"TGR97_Mika"},"Mikael","Bivard",{"$f":"_xlfn.XLOOKUP(A622,BDD!A618:A10616,BDD!B618:B10616,\" \",0,1)","v":"mikael.biv@gmail.com"},31.266255989048595,11420,"TGR97_Mika TGR 25/12/1992 🇫🇷 French ADSL PlayStation 4 Filaire Manette A S Platinum 80 Safe 0 N/A N/A N/A N/A TGR97_Mika Mikael Bivard mikael.biv@gmail.com"]
["TGTF-ismail","Indép.","10/08/1978","🇫🇷 French","N/A","PlayStation 4","N/A","Volant Thrustmaster","B","S","Gold",60,"Safe",0,"N/A","N/A",0,"N/A",{"$f":"HYPERLINK(\"https://www.msleague.fr/?page_id=1502&um_user=TGTF-ismail\", \"TGTF-ismail\")","v":"TGTF-ismail"},"Ismail","Muslim",{"$f":"_xlfn.XLOOKUP(A623,BDD!A619:A10617,BDD!B619:B10617,\" \",0,1)","v":"Plakizy@gmail.com"},45.642710472279262,16671,"TGTF-ismail Indép. 10/08/1978 🇫🇷 French N/A PlayStation 4 N/A Volant Thrustmaster B S Gold 60 Safe 0 N/A N/A 0 N/A TGTF-ismail Ismail Muslim Plakizy@gmail.com"]
["TGX_Djonxxt","TGX","22/01/1986","🇫🇷 French","N/A","PlayStation 5","N/A","Volant Thrustmaster","A","S","Platinum",79.7,"Safe",0,1,"N/A",2,"N/A",{"$f":"HYPERLINK(\"https://www.msleague.fr/?page_id=1502&um_user=TGX_Djonxxt\", \"TGX_Djonxxt\")","v":"TGX_Djonxxt"},"Julien","Bijan",{"$f":"_xlfn.XLOOKUP(A624,BDD!A620:A10618,BDD!B620:B10618,\" \",0,1)","v":"fullgazzz59@hotmail.fr"},38.190280629705683,13949,"TGX_Djonxxt TGX 22/01/1986 🇫🇷 French N/A PlayStation 5 N/A Volant Thrustmaster A S Platinum 79,7 Safe 0 1 N/A 2 N/A TGX_Djonxxt Julien Bijan fullgazzz59@hotmail.fr"]
["TGX_FIREDEATH","TGX","1/07/1985","🇫🇷 French","N/A","PlayStation 5","N/A","Volant Thrustmaster","A+","S","Platinum",89.95,"Safe",0,2,"N/A",2,"N/A",{"$f":"HYPERLINK(\"https://www.msleague.fr/?page_id=1502&um_user=TGX_FIREDEATH\", \"TGX_FIREDEATH\")","v":"TGX_FIREDEATH"},"maxime","bouikni",{"$f":"_xlfn.XLOOKUP(A625,BDD!A621:A10619,BDD!B621:B10619,\" \",0,1)","v":"maximebouikni@yahoo.fr"},38.751540041067763,14154,"TGX_FIREDEATH TGX 1/07/1985 🇫🇷 French N/A PlayStation 5 N/A Volant Thrustmaster A+ S Platinum 89,95 Safe 0 2 N/A 2 N/A TGX_FIREDEATH maxime bouikni maximebouikni@yahoo.fr"]
["TGX_Jonk","TGX","24/08/1990","🇫🇷 French","N/A","PlayStation 4","N/A","Volant Thrustmaster","A+","S","Legend",95,"Safe",0,"N/A","N/A",0,"N/A",{"$f":"HYPERLINK(\"https://www.msleague.fr/?page_id=1502&um_user=TGX_Jonk\", \"TGX_Jonk\")","v":"TGX_Jonk"},"Joffrey","Morin",{"$f":"_xlfn.XLOOKUP(A626,BDD!A622:A10620,BDD!B622:B10620,\" \",0,1)","v":"joffrey.morin@laposte.net"},33.604380561259411,12274,"TGX_Jonk TGX 24/08/1990 🇫🇷 French N/A PlayStation 4 N/A Volant Thrustmaster A+ S Legend 95 Safe 0 N/A N/A 0 N/A TGX_Jonk Joffrey Morin joffrey.morin@laposte.net"]
["TGX_XLITE","TGX","27/02/1990","🇫🇷 French","N/A","PlayStation 4","N/A","Volant Thrustmaster","A+","S","Legend",95,"Safe",0,"N/A","N/A","N/A","N/A",{"$f":"HYPERLINK(\"https://www.msleague.fr/?page_id=1502&um_user=TGX_XLITE\", \"TGX_XLITE\")","v":"TGX_XLITE"},"Jonathan","Perect",{"$f":"_xlfn.XLOOKUP(A627,BDD!A623:A10621,BDD!B623:B10621,\" \",0,1)","v":"jonathanp76@hotmail.fr"},34.091718001368925,12452,"TGX_XLITE TGX 27/02/1990 🇫🇷 French N/A PlayStation 4 N/A Volant Thrustmaster A+ S Legend 95 Safe 0 N/A N/A N/A N/A TGX_XLITE Jonathan Perect jonathanp76@hotmail.fr"]
["THE_GhostBeast62","NEXUS","18/01/2002","🇫🇷 French","N/A","PlayStation 5","N/A","Volant Thrustmaster","B","S","Gold",60,"Safe",0,"N/A","N/A",0,"N/A",{"$f":"HYPERLINK(\"https://www.msleague.fr/?page_id=1502&um_user=THE_GhostBeast62\", \"THE_GhostBeast62\")","v":"THE_GhostBeast62"},"Remy","Audin",{"$f":"_xlfn.XLOOKUP(A628,BDD!A624:A10622,BDD!B624:B10622,\" \",0,1)","v":"remy.audin2@gmail.com"},22.201232032854211,8109,"THE_GhostBeast62 NEXUS 18/01/2002 🇫🇷 French N/A PlayStation 5 N/A Volant Thrustmaster B S Gold 60 Safe 0 N/A N/A 0 N/A THE_GhostBeast62 Remy Audin remy.audin2@gmail.com"]
["Therre70","FRK","8/11/1965","🇫🇷 French","N/A","PlayStation 5","N/A","Volant Thrustmaster","A","S","Platinum",80,"Safe",0,"N/A","N/A","N/A","N/A",{"$f":"HYPERLINK(\"https://www.msleague.fr/?page_id=1502&um_user=Therre70\", \"Therre70\")","v":"Therre70"},"Thierry","RENTZ",{"$f":"_xlfn.XLOOKUP(A629,BDD!A625:A10623,BDD!B625:B10623,\" \",0,1)","v":"thierry.rentz@sfr.fr"},58.395619438740589,21329,"Therre70 FRK 8/11/1965 🇫🇷 French N/A PlayStation 5 N/A Volant Thrustmaster A S Platinum 80 Safe 0 N/A N/A N/A N/A Therre70 Thierry RENTZ thierry.rentz@sfr.fr"]
["Thor-Blacksmith","Indép.","6/10/1970","🇫🇷 French","N/A","PlayStation 4","N/A","Volant Thrustmaster","A","S","Platinum",80,"Safe",0,"N/A","N/A","N/A","N/A",{"$f":"HYPERLINK(\"https://www.msleague.fr/?page_id=1502&um_user=Thor-Blacksmith\", \"Thor-Blacksmith\")","v":"Thor-Blacksmith"},"Lionel","Teilhet",{"$f":"_xlfn.XLOOKUP(A630,BDD!A626:A10624,BDD!B626:B10624,\" \",0,1)","v":"teilhet.lionel@gmail.com"},53.486652977412732,19536,"Thor-Blacksmith Indép. 6/10/1970 🇫🇷 French N/A PlayStation 4 N/A Volant Thrustmaster A S Platinum 80 Safe 0 N/A N/A N/A N/A Thor-Blacksmith Lionel Teilhet teilhet.lionel@gmail.com"]
["titi_garder66","Indép.","9/05/2011","🇫🇷 French","Fibre","PlayStation 5","Filaire","Volant Thrustmaster","B","A","Gold",60,"Fair-Play",null,"N/A","N/A","N/A","N/A",{"$f":"HYPERLINK(\"https://www.msleague.fr/?page_id=1502&um_user=titi_garder66\", \"titi_garder66\")","v":"titi_garder66"},"Arthur","Guilbault",{"$f":"_xlfn.XLOOKUP(A631,BDD!A627:A10625,BDD!B627:B10625,\" \",0,1)","v":"titigarder@gmail.com"},12.898015058179329,4711,"titi_garder66 Indép. 9/05/2011 🇫🇷 French Fibre PlayStation 5 Filaire Volant Thrustmaster B A Gold 60 Fair-Play  N/A N/A N/A N/A titi_garder66 Arthur Guilbault titigarder@gmail.com"]
["Titi-974-DDP","DDP","16/09/1964","🇫🇷 French","N/A","PlayStation 4","N/A","Volant Logitech","B","S","Gold",60,"Safe",0,"N/A","N/A","N/A","N/A",{"$f":"HYPERLINK(\"https://www.msleague.fr/?page_id=1502&um_user=Titi-974-DDP\", \"Titi-974-DDP\")","v":"Titi-974-DDP"},"THIERRY","ROBERT",{"$f":"_xlfn.XLOOKUP(A632,BDD!A628:A10626,BDD!B628:B10626,\" \",0,1)","v":"robertthierry974@hotmail.com"},59.540041067761805,21747,"Titi-974-DDP DDP 16/09/1964 🇫🇷 French N/A PlayStation 4 N/A Volant Logitech B S Gold 60 Safe 0 N/A N/A N/A N/A Titi-974-DDP THIERRY ROBERT robertthierry974@hotmail.com"]
["TLR_johns1000rr","TLR","18/05/1982","🇫🇷 French","N/A","PlayStation 4","N/A","Volant Fanatec","A","S","Platinum",80,"Safe",0,"N/A","N/A","N/A","N/A",{"$f":"HYPERLINK(\"https://www.msleague.fr/?page_id=1502&um_user=TLR_johns1000rr\", \"TLR_johns1000rr\")","v":"TLR_johns1000rr"},"Jonathan","Bonix",{"$f":"_xlfn.XLOOKUP(A633,BDD!A629:A10627,BDD!B629:B10627,\" \",0,1)","v":"bonix972@hotmail.fr"},41.872689938398359,15294,"TLR_johns1000rr TLR 18/05/1982 🇫🇷 French N/A PlayStation 4 N/A Volant Fanatec A S Platinum 80 Safe 0 N/A N/A N/A N/A TLR_johns1000rr Jonathan Bonix bonix972@hotmail.fr"]
["TLR_Jordangrd","TLR","23/07/1993","🇫🇷 French","N/A","PlayStation 5","N/A","Volant Thrustmaster","A","S","Platinum",80,"Safe",0,"N/A","N/A","N/A","N/A",{"$f":"HYPERLINK(\"https://www.msleague.fr/?page_id=1502&um_user=TLR_Jordangrd\", \"TLR_Jordangrd\")","v":"TLR_Jordangrd"},"Jordan","Giroud",{"$f":"_xlfn.XLOOKUP(A634,BDD!A630:A10628,BDD!B630:B10628,\" \",0,1)","v":"jordangiroud@hotmail.fr"},30.691307323750856,11210,"TLR_Jordangrd TLR 23/07/1993 🇫🇷 French N/A PlayStation 5 N/A Volant Thrustmaster A S Platinum 80 Safe 0 N/A N/A N/A N/A TLR_Jordangrd Jordan Giroud jordangiroud@hotmail.fr"]
["TLR_Jujultrax","Err. PSN","N/A","N/A","N/A","N/A","N/A","N/A","N/A","N/A","N/A",null,"N/A",null,"N/A","N/A","N/A","N/A",{"$f":"HYPERLINK(\"https://www.msleague.fr/?page_id=1502&um_user=TLR_Jujultrax\", \"TLR_Jujultrax\")","v":"TLR_Jujultrax"},"N/A","N/A",{"$f":"_xlfn.XLOOKUP(A635,BDD!A631:A10629,BDD!B631:B10629,\" \",0,1)","v":"juliengapore@gmail.com"},"","","TLR_Jujultrax Err. PSN N/A N/A N/A N/A N/A N/A N/A N/A N/A  N/A  N/A N/A N/A N/A TLR_Jujultrax N/A N/A juliengapore@gmail.com"]
["TLR_KTOF76","TLR","17/05/2000","🇫🇷 French","N/A","PlayStation 4","N/A","Manette","A","S","Platinum",80,"Safe",0,"N/A","N/A",0,"N/A",{"$f":"HYPERLINK(\"https://www.msleague.fr/?page_id=1502&um_user=TLR_KTOF76\", \"TLR_KTOF76\")","v":"TLR_KTOF76"},"Paul","CESSELIN",{"$f":"_xlfn.XLOOKUP(A636,BDD!A632:A10630,BDD!B632:B10630,\" \",0,1)","v":"paul.cesselin@hotmail.com"},23.874058863791923,8720,"TLR_KTOF76 TLR 17/05/2000 🇫🇷 French N/A PlayStation 4 N/A Manette A S Platinum 80 Safe 0 N/A N/A 0 N/A TLR_KTOF76 Paul CESSELIN paul.cesselin@hotmail.com"]
["TLR_Nilco","TLR","15/09/1986","🇫🇷 French","N/A","PlayStation 5","N/A","Volant Fanatec","A","S","Platinum",80,"Safe",0,"N/A","N/A",0,"N/A",{"$f":"HYPERLINK(\"https://www.msleague.fr/?page_id=1502&um_user=TLR_Nilco\", \"TLR_Nilco\")","v":"TLR_Nilco"},"Nicolas","TROLLD",{"$f":"_xlfn.XLOOKUP(A637,BDD!A633:A10631,BDD!B633:B10631,\" \",0,1)","v":"nico62159@gmail.com"},37.544147843942504,13713,"TLR_Nilco TLR 15/09/1986 🇫🇷 French N/A PlayStation 5 N/A Volant Fanatec A S Platinum 80 Safe 0 N/A N/A 0 N/A TLR_Nilco Nicolas TROLLD nico62159@gmail.com"]
["TLR_Raul10","Err. PSN","N/A","N/A","N/A","N/A","N/A","N/A","N/A","N/A","N/A",null,"N/A",null,"N/A","N/A","N/A","N/A",{"$f":"HYPERLINK(\"https://www.msleague.fr/?page_id=1502&um_user=TLR_Raul10\", \"TLR_Raul10\")","v":"TLR_Raul10"},"N/A","N/A",{"$f":"_xlfn.XLOOKUP(A638,BDD!A634:A10632,BDD!B634:B10632,\" \",0,1)","v":"Raul_1903@outlook.com"},"","","TLR_Raul10 Err. PSN N/A N/A N/A N/A N/A N/A N/A N/A N/A  N/A  N/A N/A N/A N/A TLR_Raul10 N/A N/A Raul_1903@outlook.com"]
["TLR_Tony89M","TLR","8/03/1988","🇫🇷 French","N/A","PlayStation 4","N/A","Manette","A","S","Platinum",80,"Safe",0,"N/A","N/A",0,"N/A",{"$f":"HYPERLINK(\"https://www.msleague.fr/?page_id=1502&um_user=TLR_Tony89M\", \"TLR_Tony89M\")","v":"TLR_Tony89M"},"David","PÂRIS",{"$f":"_xlfn.XLOOKUP(A639,BDD!A635:A10633,BDD!B635:B10633,\" \",0,1)","v":"X-west-coast-x@hotmail.fr"},36.06570841889117,13173,"TLR_Tony89M TLR 8/03/1988 🇫🇷 French N/A PlayStation 4 N/A Manette A S Platinum 80 Safe 0 N/A N/A 0 N/A TLR_Tony89M David PÂRIS X-west-coast-x@hotmail.fr"]
["Tomchat38","Indép.","22/12/1978","🇫🇷 French","N/A","PlayStation 5","N/A","Volant Thrustmaster","B","A","Gold",60,"Safe",0,"N/A","N/A","N/A","N/A",{"$f":"HYPERLINK(\"https://www.msleague.fr/?page_id=1502&um_user=Tomchat38\", \"Tomchat38\")","v":"Tomchat38"},"Thomas","Chatton",{"$f":"_xlfn.XLOOKUP(A640,BDD!A636:A10634,BDD!B636:B10634,\" \",0,1)","v":"thomas.chatton38@gmail.com"},45.275838466803556,16537,"Tomchat38 Indép. 22/12/1978 🇫🇷 French N/A PlayStation 5 N/A Volant Thrustmaster B A Gold 60 Safe 0 N/A N/A N/A N/A Tomchat38 Thomas Chatton thomas.chatton38@gmail.com"]
["TopGun_Antho28","TopGun","28/11/1985","🇫🇷 French","N/A","PlayStation 5","N/A","Volant Fanatec","B","B","Gold",60,"Batailleur",0,"N/A","N/A",0,"N/A",{"$f":"HYPERLINK(\"https://www.msleague.fr/?page_id=1502&um_user=TopGun_Antho28\", \"TopGun_Antho28\")","v":"TopGun_Antho28"},"Anthony","Schmidt",{"$f":"_xlfn.XLOOKUP(A641,BDD!A637:A10635,BDD!B637:B10635,\" \",0,1)","v":"anthonyschmidt28@outlook.fr"},38.340862422997944,14004,"TopGun_Antho28 TopGun 28/11/1985 🇫🇷 French N/A PlayStation 5 N/A Volant Fanatec B B Gold 60 Batailleur 0 N/A N/A 0 N/A TopGun_Antho28 Anthony Schmidt anthonyschmidt28@outlook.fr"]
["TopGun_Fab57","TopGun","18/12/1985","🇫🇷 French","N/A","PlayStation 5","N/A","Manette","A+","S","Legend",95,"Safe",0,"N/A","N/A",0,"N/A",{"$f":"HYPERLINK(\"https://www.msleague.fr/?page_id=1502&um_user=TopGun_Fab57\", \"TopGun_Fab57\")","v":"TopGun_Fab57"},"Fabien","Pichon",{"$f":"_xlfn.XLOOKUP(A642,BDD!A638:A10636,BDD!B638:B10636,\" \",0,1)","v":"fbarc57@gmail.com"},38.286105407255306,13984,"TopGun_Fab57 TopGun 18/12/1985 🇫🇷 French N/A PlayStation 5 N/A Manette A+ S Legend 95 Safe 0 N/A N/A 0 N/A TopGun_Fab57 Fabien Pichon fbarc57@gmail.com"]
["Tophe deRouen","BKC","9/01/1971","🇫🇷 French","N/A","PlayStation 4","N/A","Manette","D","S","Bronze",20,"Batailleur",0,"N/A","N/A",0,"N/A",{"$f":"HYPERLINK(\"https://www.msleague.fr/?page_id=1502&um_user=Tophe deRouen\", \"Tophe deRouen\")","v":"Tophe deRouen"},"Christophe","Cesselin",{"$f":"_xlfn.XLOOKUP(A643,BDD!A639:A10637,BDD!B639:B10637,\" \",0,1)","v":"mpmc27@hotmail.fr"},53.226557152635181,19441,"Tophe deRouen BKC 9/01/1971 🇫🇷 French N/A PlayStation 4 N/A Manette D S Bronze 20 Batailleur 0 N/A N/A 0 N/A Tophe deRouen Christophe Cesselin mpmc27@hotmail.fr"]
["TOTO_User","NLR","1/07/1973","🇫🇷 French","Box/Partage 3G/4G","PlayStation 5","Wifi","Volant Fanatec","A+","S","Legend",95,"Safe",0,"N/A","N/A","N/A","N/A",{"$f":"HYPERLINK(\"https://www.msleague.fr/?page_id=1502&um_user=TOTO_User\", \"TOTO_User\")","v":"TOTO_User"},"Stéphane","BABICZ",{"$f":"_xlfn.XLOOKUP(A644,BDD!A640:A10638,BDD!B640:B10638,\" \",0,1)","v":"stephane@babicz.fr"},50.751540041067763,18537,"TOTO_User NLR 1/07/1973 🇫🇷 French Box/Partage 3G/4G PlayStation 5 Wifi Volant Fanatec A+ S Legend 95 Safe 0 N/A N/A N/A N/A TOTO_User Stéphane BABICZ stephane@babicz.fr"]
["TOTO-FTE","FTE","26/03/1982","🇫🇷 French","N/A","PlayStation 5","N/A","Volant Thrustmaster","A","S","Platinum",80,"Safe",0,"N/A","N/A",0,"N/A",{"$f":"HYPERLINK(\"https://www.msleague.fr/?page_id=1502&um_user=TOTO-FTE\", \"TOTO-FTE\")","v":"TOTO-FTE"},"Thomas","CREPIN",{"$f":"_xlfn.XLOOKUP(A645,BDD!A641:A10639,BDD!B641:B10639,\" \",0,1)","v":"toto.fte.gts@gmail.com"},{"$f":"IF(X645=\"\",\"\",CONVERT(X645,\"day\",\"yr\"))","v":42.017796030116358},15347,"TOTO-FTE FTE 26/03/1982 🇫🇷 French N/A PlayStation 5 N/A Volant Thrustmaster A S Platinum 80 Safe 0 N/A N/A 0 N/A TOTO-FTE Thomas CREPIN toto.fte.gts@gmail.com"]
["ToXiQ-CromaTiQ","Err. PSN","N/A","N/A","N/A","N/A","N/A","N/A","N/A","N/A","N/A",null,"N/A",null,"N/A","N/A","N/A","N/A",{"$f":"HYPERLINK(\"https://www.msleague.fr/?page_id=1502&um_user=ToXiQ-CromaTiQ\", \"ToXiQ-CromaTiQ\")","v":"ToXiQ-CromaTiQ"},"N/A","N/A",{"$f":"_xlfn.XLOOKUP(A646,BDD!A642:A10640,BDD!B642:B10640,\" \",0,1)","v":"ludofoca@gmail.com"},"","",{"$f":"A646 & \" \" & B646 & \" \" & C646 & \" \" & D646 & \" \" & E646 & \" \" & F646 & \" \" & G646 & \" \" & H646 & \" \" & I646 & \" \" & J646 & \" \" & K646 & \" \" & L646 & \" \" & M646 & \" \" & N646 & \" \" & O646 & \" \" & P646 & \" \" &Q646 & \" \" & R646 & \" \" & S646 & \" \" & T646 & \" \" & U646 & \" \" & V646","v":"ToXiQ-CromaTiQ Err. PSN N/A N/A N/A N/A N/A N/A N/A N/A N/A  N/A  N/A N/A N/A N/A ToXiQ-CromaTiQ N/A N/A ludofoca@gmail.com"}]
["Tralala8","Indép.","15/05/1989","🇧🇪 Belgium","N/A","PlayStation 4","N/A","Volant Thrustmaster","A","S","Platinum",84.23,"Safe",0,1,"N/A",6,"16,66",{"$f":"HYPERLINK(\"https://www.msleague.fr/?page_id=1502&um_user=Tralala8\", \"Tralala8\")","v":"Tralala8"},"Régis","Thonet",{"$f":"_xlfn.XLOOKUP(A647,BDD!A643:A10641,BDD!B643:B10641,\" \",0,1)","v":"regis_333@hotmail.com"},34.880219028062967,12740,"Tralala8 Indép. 15/05/1989 🇧🇪 Belgium N/A PlayStation 4 N/A Volant Thrustmaster A S Platinum 84,23 Safe 0 1 N/A 6 16,66 Tralala8 Régis Thonet regis_333@hotmail.com"]
["TRF_Jacko","BSF","27/04/1981","🇧🇪 Belgium","N/A","PlayStation 5","N/A","Volant Fanatec","B","S","Gold",60,"Safe",0,"N/A","N/A",0,"N/A",{"$f":"HYPERLINK(\"https://www.msleague.fr/?page_id=1502&um_user=TRF_Jacko\", \"TRF_Jacko\")","v":"TRF_Jacko"},"Jacques","Denis",{"$f":"_xlfn.XLOOKUP(A648,BDD!A644:A10642,BDD!B644:B10642,\" \",0,1)","v":"denis.jacques@hotmail.be"},42.92950034223135,15680,"TRF_Jacko BSF 27/04/1981 🇧🇪 Belgium N/A PlayStation 5 N/A Volant Fanatec B S Gold 60 Safe 0 N/A N/A 0 N/A TRF_Jacko Jacques Denis denis.jacques@hotmail.be"]
["TRF_Jerem","TRF","25/06/2000","🇫🇷 French","Box/Partage 3G/4G","PlayStation 4","Wifi","Volant Thrustmaster","B","S","Gold",60,"Safe",null,"N/A","N/A","N/A","N/A",{"$f":"HYPERLINK(\"https://www.msleague.fr/?page_id=1502&um_user=TRF_Jerem\", \"TRF_Jerem\")","v":"TRF_Jerem"},"Jérémy","Thomas",{"$f":"_xlfn.XLOOKUP(A649,BDD!A645:A10643,BDD!B645:B10643,\" \",0,1)","v":"Jeremy.Thomas2021@outlook.fr"},23.767282683093772,8681,"TRF_Jerem TRF 25/06/2000 🇫🇷 French Box/Partage 3G/4G PlayStation 4 Wifi Volant Thrustmaster B S Gold 60 Safe  N/A N/A N/A N/A TRF_Jerem Jérémy Thomas Jeremy.Thomas2021@outlook.fr"]
["TRF_Mig","TRF","1/01/2000","🇫🇷 French","Fibre","PlayStation 5","Filaire","Volant Fanatec","A","S","Platinum",80,"Safe",null,"N/A","N/A","N/A","N/A",{"$f":"HYPERLINK(\"https://www.msleague.fr/?page_id=1502&um_user=TRF_Mig\", \"TRF_Mig\")","v":"TRF_Mig"},"Michel","Postico",{"$f":"_xlfn.XLOOKUP(A650,BDD!A646:A10644,BDD!B646:B10644,\" \",0,1)","v":"jmpostico@hotmail.fr"},24.249144421629023,8857,"TRF_Mig TRF 1/01/2000 🇫🇷 French Fibre PlayStation 5 Filaire Volant Fanatec A S Platinum 80 Safe  N/A N/A N/A N/A TRF_Mig Michel Postico jmpostico@hotmail.fr"]
["TRF_Mister_Seby","TRF","4/03/1983","🇧🇪 Belgium","N/A","PlayStation 5","N/A","Volant Logitech","A+","S","Legend",95,"Safe",0,"N/A","N/A",0,"N/A",{"$f":"HYPERLINK(\"https://www.msleague.fr/?page_id=1502&um_user=TRF_Mister_Seby\", \"TRF_Mister_Seby\")","v":"TRF_Mister_Seby"},"Sebastien","Bonnet",{"$f":"_xlfn.XLOOKUP(A651,BDD!A647:A10645,BDD!B647:B10645,\" \",0,1)","v":"sebabonnet1@gmail.com"},41.078713210130047,15004,"TRF_Mister_Seby TRF 4/03/1983 🇧🇪 Belgium N/A PlayStation 5 N/A Volant Logitech A+ S Legend 95 Safe 0 N/A N/A 0 N/A TRF_Mister_Seby Sebastien Bonnet sebabonnet1@gmail.com"]
["TRF_PIE2RE","TRF","21/06/1990","🇫🇷 French","Fibre","PlayStation 5","Wifi","Volant Logitech","A","S","Platinum",80,"Safe",null,"N/A","N/A","N/A","N/A",{"$f":"HYPERLINK(\"https://www.msleague.fr/?page_id=1502&um_user=TRF_PIE2RE\", \"TRF_PIE2RE\")","v":"TRF_PIE2RE"},"Pierre","Bourezg",{"$f":"_xlfn.XLOOKUP(A652,BDD!A648:A10646,BDD!B648:B10646,\" \",0,1)","v":"Pbracekart@gmail.com"},33.779603011635864,12338,"TRF_PIE2RE TRF 21/06/1990 🇫🇷 French Fibre PlayStation 5 Wifi Volant Logitech A S Platinum 80 Safe  N/A N/A N/A N/A TRF_PIE2RE Pierre Bourezg Pbracekart@gmail.com"]
["TRF_PokeOne","TRF","27/10/1983","🇧🇪 Belgium","Box/Partage 3G/4G","PlayStation 5","Filaire","Volant Thrustmaster","A","S","Platinum",83.61,"Safe",0,1,0,6,0,{"$f":"HYPERLINK(\"https://www.msleague.fr/?page_id=1502&um_user=TRF_PokeOne\", \"TRF_PokeOne\")","v":"TRF_PokeOne"},"David","Cadéi",{"$f":"_xlfn.XLOOKUP(A653,BDD!A649:A10647,BDD!B649:B10647,\" \",0,1)","v":"Farrahchiwawa@gmail.com"},40.429842573579741,14767,"TRF_PokeOne TRF 27/10/1983 🇧🇪 Belgium Box/Partage 3G/4G PlayStation 5 Filaire Volant Thrustmaster A S Platinum 83,61 Safe 0 1 0 6 0 TRF_PokeOne David Cadéi Farrahchiwawa@gmail.com"]
["TRF_Tic-Tac","TRF","18/01/2007","🇫🇷 French","Fibre","PlayStation 5","Wifi","Volant Thrustmaster","A+","S","Legend",95,"Safe",null,"N/A","N/A","N/A","N/A",{"$f":"HYPERLINK(\"https://www.msleague.fr/?page_id=1502&um_user=TRF_Tic-Tac\", \"TRF_Tic-Tac\")","v":"TRF_Tic-Tac"},"Mathis","BATALLER GAILLARD",{"$f":"_xlfn.XLOOKUP(A654,BDD!A650:A10648,BDD!B650:B10648,\" \",0,1)","v":"batallermathis@gmail.com"},17.201916495550993,6283,"TRF_Tic-Tac TRF 18/01/2007 🇫🇷 French Fibre PlayStation 5 Wifi Volant Thrustmaster A+ S Legend 95 Safe  N/A N/A N/A N/A TRF_Tic-Tac Mathis BATALLER GAILLARD batallermathis@gmail.com"]
["TRF_UPshift","TRF","1/12/1992","🇫🇷 French","Fibre","PlayStation 5","Filaire","Volant Thrustmaster","A+","S","Legend",95,"Safe",null,"N/A","N/A","N/A","N/A",{"$f":"HYPERLINK(\"https://www.msleague.fr/?page_id=1502&um_user=TRF_UPshift\", \"TRF_UPshift\")","v":"TRF_UPshift"},"Herwin","Binet",{"$f":"_xlfn.XLOOKUP(A655,BDD!A651:A10649,BDD!B651:B10649,\" \",0,1)","v":"haetueur@icloud.com"},31.331964407939768,11444,"TRF_UPshift TRF 1/12/1992 🇫🇷 French Fibre PlayStation 5 Filaire Volant Thrustmaster A+ S Legend 95 Safe  N/A N/A N/A N/A TRF_UPshift Herwin Binet haetueur@icloud.com"]
["TRF_Venom89","TRF","20/03/1989","🇫🇷 French","Fibre","PlayStation 5","Filaire","Volant Fanatec","A+","S","Legend",95,"Safe",0,"N/A","N/A",0,"N/A",{"$f":"HYPERLINK(\"https://www.msleague.fr/?page_id=1502&um_user=TRF_Venom89\", \"TRF_Venom89\")","v":"TRF_Venom89"},"Aurélien","Seury",{"$f":"_xlfn.XLOOKUP(A656,BDD!A652:A10650,BDD!B652:B10650,\" \",0,1)","v":"Aurelien.seury89@gmail.com"},35.03353867214237,12796,"TRF_Venom89 TRF 20/03/1989 🇫🇷 French Fibre PlayStation 5 Filaire Volant Fanatec A+ S Legend 95 Safe 0 N/A N/A 0 N/A TRF_Venom89 Aurélien Seury Aurelien.seury89@gmail.com"]
["Trippytrackstar","Indép.","23/11/1995","🇺🇸 United States","N/A","PlayStation 5","N/A","Volant Logitech","D","D","Bronze",20,"Dirty",0,"N/A","N/A",0,"N/A",{"$f":"HYPERLINK(\"https://www.msleague.fr/?page_id=1502&um_user=Trippytrackstar\", \"Trippytrackstar\")","v":"Trippytrackstar"},"Tristan","Brown",{"$f":"_xlfn.XLOOKUP(A657,BDD!A653:A10651,BDD!B653:B10651,\" \",0,1)","v":"Xtristanbrownx@yahoo.com"},28.355920602327174,10357,"Trippytrackstar Indép. 23/11/1995 🇺🇸 United States N/A PlayStation 5 N/A Volant Logitech D D Bronze 20 Dirty 0 N/A N/A 0 N/A Trippytrackstar Tristan Brown Xtristanbrownx@yahoo.com"]
["Trust_Rara","Indép.","12/05/2000","🇫🇷 French","N/A","PlayStation 5","N/A","Volant Thrustmaster","D","B","Bronze",20,"Batailleur",0,"N/A","N/A",0,"N/A",{"$f":"HYPERLINK(\"https://www.msleague.fr/?page_id=1502&um_user=Trust_Rara\", \"Trust_Rara\")","v":"Trust_Rara"},"Rayane","BACAR",{"$f":"_xlfn.XLOOKUP(A658,BDD!A654:A10652,BDD!B654:B10652,\" \",0,1)","v":"rarabacar@gmail.com"},23.887748117727583,8725,"Trust_Rara Indép. 12/05/2000 🇫🇷 French N/A PlayStation 5 N/A Volant Thrustmaster D B Bronze 20 Batailleur 0 N/A N/A 0 N/A Trust_Rara Rayane BACAR rarabacar@gmail.com"]
["TRX_DH-MAN","TRX","13/07/1961","🇨🇦 Canada","N/A","PlayStation 5","N/A","Volant Fanatec","A","A","Platinum",80,"Fair-Play",0,"N/A","N/A","N/A","N/A",{"$f":"HYPERLINK(\"https://www.msleague.fr/?page_id=1502&um_user=TRX_DH-MAN\", \"TRX_DH-MAN\")","v":"TRX_DH-MAN"},"Luc","Langevin",{"$f":"_xlfn.XLOOKUP(A659,BDD!A655:A10653,BDD!B655:B10653,\" \",0,1)","v":"l.lange20@hotmail.com"},62.718685831622174,22908,"TRX_DH-MAN TRX 13/07/1961 🇨🇦 Canada N/A PlayStation 5 N/A Volant Fanatec A A Platinum 80 Fair-Play 0 N/A N/A N/A N/A TRX_DH-MAN Luc Langevin l.lange20@hotmail.com"]
["TRX_Super-Snake","TRX","27/10/1959","🇨🇦 Canada","N/A","PlayStation 5","N/A","Volant Fanatec","A","S","Platinum",80,"Safe",0,"N/A","N/A",0,"N/A",{"$f":"HYPERLINK(\"https://www.msleague.fr/?page_id=1502&um_user=TRX_Super-Snake\", \"TRX_Super-Snake\")","v":"TRX_Super-Snake"},"Claude","Sutton",{"$f":"_xlfn.XLOOKUP(A660,BDD!A656:A10654,BDD!B656:B10654,\" \",0,1)","v":"Info@taxiregionaldunord.com"},64.429842573579734,23533,"TRX_Super-Snake TRX 27/10/1959 🇨🇦 Canada N/A PlayStation 5 N/A Volant Fanatec A S Platinum 80 Safe 0 N/A N/A 0 N/A TRX_Super-Snake Claude Sutton Info@taxiregionaldunord.com"]
["TurboTobiGT-YT","Indép.","20/04/2000","🇩🇪 Germany","Câble","PlayStation 5","Wifi","Volant Thrustmaster","A+","S","Legend",95,"Safe",null,"N/A","N/A","N/A","N/A",{"$f":"HYPERLINK(\"https://www.msleague.fr/?page_id=1502&um_user=TurboTobiGT-YT\", \"TurboTobiGT-YT\")","v":"TurboTobiGT-YT"},"Tobias","Logemann",{"$f":"_xlfn.XLOOKUP(A661,BDD!A657:A10655,BDD!B657:B10655,\" \",0,1)","v":"tobilo2000@web.de"},23.94798083504449,8747,"TurboTobiGT-YT Indép. 20/04/2000 🇩🇪 Germany Câble PlayStation 5 Wifi Volant Thrustmaster A+ S Legend 95 Safe  N/A N/A N/A N/A TurboTobiGT-YT Tobias Logemann tobilo2000@web.de"]
["Twitch_Pikyes","Indép.","18/01/1998","🇫🇷 French","N/A","PlayStation 4","N/A","Manette","B","S","Gold",60,"Safe",0,"N/A","N/A","N/A","N/A",{"$f":"HYPERLINK(\"https://www.msleague.fr/?page_id=1502&um_user=Twitch_Pikyes\", \"Twitch_Pikyes\")","v":"Twitch_Pikyes"},"Allan","Tronet",{"$f":"_xlfn.XLOOKUP(A662,BDD!A658:A10656,BDD!B658:B10656,\" \",0,1)","v":"Tronetallan@gmail.com"},26.201232032854211,9570,"Twitch_Pikyes Indép. 18/01/1998 🇫🇷 French N/A PlayStation 4 N/A Manette B S Gold 60 Safe 0 N/A N/A N/A N/A Twitch_Pikyes Allan Tronet Tronetallan@gmail.com"]
["TX3_Dede","TX3","14/01/2005","🇫🇷 French","Fibre","PlayStation 5","Wifi","Volant Thrustmaster","A+","S","Legend",95,"Safe",null,"N/A","N/A","N/A","N/A",{"$f":"HYPERLINK(\"https://www.msleague.fr/?page_id=1502&um_user=TX3_Dede\", \"TX3_Dede\")","v":"TX3_Dede"},"Lucas","Passet",{"$f":"_xlfn.XLOOKUP(A663,BDD!A659:A10657,BDD!B659:B10657,\" \",0,1)","v":"lucaspasset14@gmail.com"},19.211498973305954,7017,"TX3_Dede TX3 14/01/2005 🇫🇷 French Fibre PlayStation 5 Wifi Volant Thrustmaster A+ S Legend 95 Safe  N/A N/A N/A N/A TX3_Dede Lucas Passet lucaspasset14@gmail.com"]
["TX3_Monsta","TX3","8/02/2003","🇫🇷 French","Fibre","PlayStation 5","Filaire","Volant Fanatec","A+","S","Legend",96.88,"Fair-Play",0,1,"N/A",2,0.5,{"$f":"HYPERLINK(\"https://www.msleague.fr/?page_id=1502&um_user=TX3_Monsta\", \"TX3_Monsta\")","v":"TX3_Monsta"},"Matéu","Bartoli",{"$f":"_xlfn.XLOOKUP(A664,BDD!A660:A10658,BDD!B660:B10658,\" \",0,1)","v":"bartoli.mateu2a@gmail.com"},21.144421629021217,7723,"TX3_Monsta TX3 8/02/2003 🇫🇷 French Fibre PlayStation 5 Filaire Volant Fanatec A+ S Legend 96,88 Fair-Play 0 1 N/A 2 0,5 TX3_Monsta Matéu Bartoli bartoli.mateu2a@gmail.com"]
["TX3_petipetyat","TX3","14/01/2006","🇭🇺 Hungary","N/A","PlayStation 5","N/A","Volant Thrustmaster","A+","S","Legend",95,"Safe",0,"N/A","N/A",0,"N/A",{"$f":"HYPERLINK(\"https://www.msleague.fr/?page_id=1502&um_user=TX3_petipetyat\", \"TX3_petipetyat\")","v":"TX3_petipetyat"},"Péter","Krémer",{"$f":"_xlfn.XLOOKUP(A665,BDD!A661:A10659,BDD!B661:B10659,\" \",0,1)","v":"petipetyat@gmail.com"},18.212183436002739,{"$f":"IF(C665=\"N/A\",\"\",TODAY()-$C665)","v":6652},"TX3_petipetyat TX3 14/01/2006 🇭🇺 Hungary N/A PlayStation 5 N/A Volant Thrustmaster A+ S Legend 95 Safe 0 N/A N/A 0 N/A TX3_petipetyat Péter Krémer petipetyat@gmail.com"]
["TX3_Raf","TX3","9/04/2003","🇬🇷 Greece","Fibre","PlayStation 5","Filaire","Manette","A+","S","Legend",95,"Safe",null,"N/A","N/A","N/A","N/A",{"$f":"HYPERLINK(\"https://www.msleague.fr/?page_id=1502&um_user=TX3_Raf\", \"TX3_Raf\")","v":"TX3_Raf"},"Rafael","Tsolakidis",{"$f":"_xlfn.XLOOKUP(A666,BDD!A662:A10660,BDD!B662:B10660,\" \",0,1)","v":"gtgcraf@gmail.com"},20.980150581793293,7663,"TX3_Raf TX3 9/04/2003 🇬🇷 Greece Fibre PlayStation 5 Filaire Manette A+ S Legend 95 Safe  N/A N/A N/A N/A TX3_Raf Rafael Tsolakidis gtgcraf@gmail.com"]
["TX3_Sayba","TX3","16/11/1988","🇫🇷 French","N/A","PlayStation 5","N/A","Volant Fanatec","A+","S","Legend",95,"Safe",0,"N/A","N/A","N/A","N/A",{"$f":"HYPERLINK(\"https://www.msleague.fr/?page_id=1502&um_user=TX3_Sayba\", \"TX3_Sayba\")","v":"TX3_Sayba"},"Sebastien","Nepotecit",{"$f":"_xlfn.XLOOKUP(A667,BDD!A663:A10661,BDD!B663:B10661,\" \",0,1)","v":"sebastien.nepotecit@gmail.com"},35.37303216974675,12920,"TX3_Sayba TX3 16/11/1988 🇫🇷 French N/A PlayStation 5 N/A Volant Fanatec A+ S Legend 95 Safe 0 N/A N/A N/A N/A TX3_Sayba Sebastien Nepotecit sebastien.nepotecit@gmail.com"]
["TX3_Sron2VI","TX3","26/08/1991","🇫🇷 French","Box/Partage 3G/4G","PlayStation 5","CPL","Volant Logitech","A+","S","Legend",98.26,"Safe",0,1,0,7,"14,29 %",{"$f":"HYPERLINK(\"https://www.msleague.fr/?page_id=1502&um_user=TX3_Sron2VI\", \"TX3_Sron2VI\")","v":"TX3_Sron2VI"},"Jérémy","Passeron",{"$f":"_xlfn.XLOOKUP(A668,BDD!A664:A10662,BDD!B664:B10662,\" \",0,1)","v":"sron.2vi@gmail.com"},32.599589322381931,11907,"TX3_Sron2VI TX3 26/08/1991 🇫🇷 French Box/Partage 3G/4G PlayStation 5 CPL Volant Logitech A+ S Legend 98,26 Safe 0 1 0 7 14,29 % TX3_Sron2VI Jérémy Passeron sron.2vi@gmail.com"]
["TX3_Stefounzy","TX3","9/06/1974","🇫🇷 French","Fibre","PlayStation 5","Filaire","Volant Thrustmaster","A+","S","Legend",95,"Safe",null,"N/A","N/A","N/A","N/A",{"$f":"HYPERLINK(\"https://www.msleague.fr/?page_id=1502&um_user=TX3_Stefounzy\", \"TX3_Stefounzy\")","v":"TX3_Stefounzy"},"Stéphane","Jeandenans",{"$f":"_xlfn.XLOOKUP(A669,BDD!A665:A10663,BDD!B665:B10663,\" \",0,1)","v":"tx3stefounzy@gmail.com"},49.812457221081452,18194,"TX3_Stefounzy TX3 9/06/1974 🇫🇷 French Fibre PlayStation 5 Filaire Volant Thrustmaster A+ S Legend 95 Safe  N/A N/A N/A N/A TX3_Stefounzy Stéphane Jeandenans tx3stefounzy@gmail.com"]
["TX3_Vicomte","TX3","19/02/1998","🇫🇷 French","N/A","PlayStation 5","N/A","Volant Logitech","A+","S","Legend",95,"Safe",0,"N/A","N/A","N/A","N/A",{"$f":"HYPERLINK(\"https://www.msleague.fr/?page_id=1502&um_user=TX3_Vicomte\", \"TX3_Vicomte\")","v":"TX3_Vicomte"},"Kerryan","Foucault",{"$f":"_xlfn.XLOOKUP(A670,BDD!A666:A10664,BDD!B666:B10664,\" \",0,1)","v":"fkerryan@gmail.com"},26.113620807665981,9538,"TX3_Vicomte TX3 19/02/1998 🇫🇷 French N/A PlayStation 5 N/A Volant Logitech A+ S Legend 95 Safe 0 N/A N/A N/A N/A TX3_Vicomte Kerryan Foucault fkerryan@gmail.com"]
["TX3_Vipexx","TX3","28/04/2005","🇩🇪 Germany","Câble","PlayStation 4","Wifi","Volant Fanatec","A+","S","Legend",95,"Safe",null,"N/A","N/A","N/A","N/A",{"$f":"HYPERLINK(\"https://www.msleague.fr/?page_id=1502&um_user=TX3_Vipexx\", \"TX3_Vipexx\")","v":"TX3_Vipexx"},"Tyler","Hebenstreit",{"$f":"_xlfn.XLOOKUP(A671,BDD!A667:A10665,BDD!B667:B10665,\" \",0,1)","v":"Hebenstreit.tyler2005@gmail.com"},18.926762491444215,6913,"TX3_Vipexx TX3 28/04/2005 🇩🇪 Germany Câble PlayStation 4 Wifi Volant Fanatec A+ S Legend 95 Safe  N/A N/A N/A N/A TX3_Vipexx Tyler Hebenstreit Hebenstreit.tyler2005@gmail.com"]
["TX3_Yondu","TX3","1/03/2024","🇫🇷 French","Box/Partage 3G/4G","PlayStation 5","Wifi","Volant Fanatec","A+","S","Legend",95,"Safe",null,"N/A","N/A","N/A","N/A",{"$f":"HYPERLINK(\"https://www.msleague.fr/?page_id=1502&um_user=TX3_Yondu\", \"TX3_Yondu\")","v":"TX3_Yondu"},"Yondu","Udonta",{"$f":"_xlfn.XLOOKUP(A672,BDD!A668:A10666,BDD!B668:B10666,\" \",0,1)","v":"mars_ginger@yahoo.fr"},8.4873374401095145E-2,31,"TX3_Yondu TX3 1/03/2024 🇫🇷 French Box/Partage 3G/4G PlayStation 5 Wifi Volant Fanatec A+ S Legend 95 Safe  N/A N/A N/A N/A TX3_Yondu Yondu Udonta mars_ginger@yahoo.fr"]
["TYR_GREG","TYR","6/01/1977","🇧🇪 Belgium","Câble","PlayStation 5","Filaire","Volant Thrustmaster","B","S","Gold",60,"Safe",null,"N/A","N/A","N/A","N/A",{"$f":"HYPERLINK(\"https://www.msleague.fr/?page_id=1502&um_user=TYR_GREG\", \"TYR_GREG\")","v":"TYR_GREG"},"Greg","Colin",{"$f":"_xlfn.XLOOKUP(A673,BDD!A669:A10667,BDD!B669:B10667,\" \",0,1)","v":"gregcolin.be@gmail.com"},47.233401779603014,17252,"TYR_GREG TYR 6/01/1977 🇧🇪 Belgium Câble PlayStation 5 Filaire Volant Thrustmaster B S Gold 60 Safe  N/A N/A N/A N/A TYR_GREG Greg Colin gregcolin.be@gmail.com"]
["TYR_Jaja","TYR","24/11/1996","🇫🇷 French","N/A","PlayStation 4","N/A","Volant Logitech","A+","S","Legend",95,"Safe",0,"N/A","N/A","N/A","N/A",{"$f":"HYPERLINK(\"https://www.msleague.fr/?page_id=1502&um_user=TYR_Jaja\", \"TYR_Jaja\")","v":"TYR_Jaja"},"Jeanin","Tacussel",{"$f":"_xlfn.XLOOKUP(A674,BDD!A670:A10668,BDD!B670:B10668,\" \",0,1)","v":"Jeanin.tacussel.30@gmail.com"},27.351129363449694,9990,"TYR_Jaja TYR 24/11/1996 🇫🇷 French N/A PlayStation 4 N/A Volant Logitech A+ S Legend 95 Safe 0 N/A N/A N/A N/A TYR_Jaja Jeanin Tacussel Jeanin.tacussel.30@gmail.com"]
["TYR_Kapa","TYR","14/02/1999","🇫🇷 French","Fibre","PlayStation 5","Wifi","Volant Thrustmaster","A","S","Platinum",80,"Safe",null,"N/A","N/A","N/A","N/A",{"$f":"HYPERLINK(\"https://www.msleague.fr/?page_id=1502&um_user=TYR_Kapa\", \"TYR_Kapa\")","v":"TYR_Kapa"},"Yvon","Meynieux",{"$f":"_xlfn.XLOOKUP(A675,BDD!A671:A10669,BDD!B671:B10669,\" \",0,1)","v":"meynieuxyvon99@icloud.com"},25.127994524298426,9178,"TYR_Kapa TYR 14/02/1999 🇫🇷 French Fibre PlayStation 5 Wifi Volant Thrustmaster A S Platinum 80 Safe  N/A N/A N/A N/A TYR_Kapa Yvon Meynieux meynieuxyvon99@icloud.com"]
["TYR_Kimi","Indép.","27/12/1959","🇧🇪 Belgium","N/A","PlayStation 5","N/A","Volant Fanatec","A+","S","Legend",95,"Safe",0,"N/A","N/A","N/A","N/A",{"$f":"HYPERLINK(\"https://www.msleague.fr/?page_id=1502&um_user=TYR_Kimi\", \"TYR_Kimi\")","v":"TYR_Kimi"},"pierre","lacroix",{"$f":"_xlfn.XLOOKUP(A676,BDD!A672:A10670,BDD!B672:B10670,\" \",0,1)","v":"pitlacroix27@gmail.com"},64.262833675564679,23472,"TYR_Kimi Indép. 27/12/1959 🇧🇪 Belgium N/A PlayStation 5 N/A Volant Fanatec A+ S Legend 95 Safe 0 N/A N/A N/A N/A TYR_Kimi pierre lacroix pitlacroix27@gmail.com"]
["TYR_Optimus","TYR","16/12/1968","🇧🇪 Belgium","N/A","PlayStation 5","N/A","Volant Fanatec","B","S","Gold",60,"Safe",0,"N/A","N/A","N/A","N/A",{"$f":"HYPERLINK(\"https://www.msleague.fr/?page_id=1502&um_user=TYR_Optimus\", \"TYR_Optimus\")","v":"TYR_Optimus"},"Joel","Ancia",{"$f":"_xlfn.XLOOKUP(A677,BDD!A673:A10671,BDD!B673:B10671,\" \",0,1)","v":"jojo161268@gmail.com"},55.290896646132786,20195,"TYR_Optimus TYR 16/12/1968 🇧🇪 Belgium N/A PlayStation 5 N/A Volant Fanatec B S Gold 60 Safe 0 N/A N/A N/A N/A TYR_Optimus Joel Ancia jojo161268@gmail.com"]
["TYR_Penbo","TYR","11/01/1991","🇧🇪 Belgium","N/A","PlayStation 5","N/A","Manette","A","S","Platinum",80,"Safe",0,"N/A","N/A","N/A","N/A",{"$f":"HYPERLINK(\"https://www.msleague.fr/?page_id=1502&um_user=TYR_Penbo\", \"TYR_Penbo\")","v":"TYR_Penbo"},"Jonathan","Rooman",{"$f":"_xlfn.XLOOKUP(A678,BDD!A674:A10672,BDD!B674:B10672,\" \",0,1)","v":"Jona.roo6220@gmail.com"},33.221081451060918,12134,"TYR_Penbo TYR 11/01/1991 🇧🇪 Belgium N/A PlayStation 5 N/A Manette A S Platinum 80 Safe 0 N/A N/A N/A N/A TYR_Penbo Jonathan Rooman Jona.roo6220@gmail.com"]
["TYR_Spartan","TYR","6/04/1980","🇫🇷 French","Fibre","PlayStation 5","Filaire","Volant Fanatec","A+","S","Legend",95,"Safe",null,"N/A","N/A","N/A","N/A",{"$f":"HYPERLINK(\"https://www.msleague.fr/?page_id=1502&um_user=TYR_Spartan\", \"TYR_Spartan\")","v":"TYR_Spartan"},"Julien","Dupuy",{"$f":"_xlfn.XLOOKUP(A679,BDD!A675:A10673,BDD!B675:B10673,\" \",0,1)","v":"Famille.dupuy63910@gmail.com"},43.986310746064341,16066,"TYR_Spartan TYR 6/04/1980 🇫🇷 French Fibre PlayStation 5 Filaire Volant Fanatec A+ S Legend 95 Safe  N/A N/A N/A N/A TYR_Spartan Julien Dupuy Famille.dupuy63910@gmail.com"]
["uhCross-","Err. PSN","N/A","N/A","N/A","N/A","N/A","N/A","N/A","N/A","N/A",null,"N/A",null,"N/A","N/A","N/A","N/A",{"$f":"HYPERLINK(\"https://www.msleague.fr/?page_id=1502&um_user=uhCross-\", \"uhCross-\")","v":"uhCross-"},"N/A","N/A",{"$f":"_xlfn.XLOOKUP(A680,BDD!A676:A10674,BDD!B676:B10674,\" \",0,1)","v":"kgjkevin@gmail.com"},"","","uhCross- Err. PSN N/A N/A N/A N/A N/A N/A N/A N/A N/A  N/A  N/A N/A N/A N/A uhCross- N/A N/A kgjkevin@gmail.com"]
["Ultimate-_Zephyr","Indép.","4/08/2004","🇧🇪 Belgium","Câble","PlayStation 4","Filaire","Manette","D","A","Bronze",20,"Fair-Play",null,"N/A","N/A","N/A","N/A",{"$f":"HYPERLINK(\"https://www.msleague.fr/?page_id=1502&um_user=Ultimate-_Zephyr\", \"Ultimate-_Zephyr\")","v":"Ultimate-_Zephyr"},"Thomas","Vanderhaeghe",{"$f":"_xlfn.XLOOKUP(A681,BDD!A677:A10675,BDD!B677:B10675,\" \",0,1)","v":"thomasvanderhaeghe4@gmail.com"},19.657768651608489,7180,"Ultimate-_Zephyr Indép. 4/08/2004 🇧🇪 Belgium Câble PlayStation 4 Filaire Manette D A Bronze 20 Fair-Play  N/A N/A N/A N/A Ultimate-_Zephyr Thomas Vanderhaeghe thomasvanderhaeghe4@gmail.com"]
["V1ncou_17","Indép.","4/12/1988","🇫🇷 French","N/A","PlayStation 4","N/A","Volant Fanatec","A","S","Platinum",80,"Safe",0,"N/A","N/A","N/A","N/A",{"$f":"HYPERLINK(\"https://www.msleague.fr/?page_id=1502&um_user=V1ncou_17\", \"V1ncou_17\")","v":"V1ncou_17"},"Vincent","Ouvrard",{"$f":"_xlfn.XLOOKUP(A682,BDD!A678:A10676,BDD!B678:B10676,\" \",0,1)","v":"Vincou17@gmail.com"},35.323750855578368,12902,"V1ncou_17 Indép. 4/12/1988 🇫🇷 French N/A PlayStation 4 N/A Volant Fanatec A S Platinum 80 Safe 0 N/A N/A N/A N/A V1ncou_17 Vincent Ouvrard Vincou17@gmail.com"]
["VALKY_Dams29","VALKY","2/09/1982","🇫🇷 French","Fibre","PlayStation 5","Wifi","Volant Fanatec","B","S","Gold",60,"Safe",null,"N/A","N/A","N/A","N/A",{"$f":"HYPERLINK(\"https://www.msleague.fr/?page_id=1502&um_user=VALKY_Dams29\", \"VALKY_Dams29\")","v":"VALKY_Dams29"},"Damien","Engeldinger",{"$f":"_xlfn.XLOOKUP(A683,BDD!A679:A10677,BDD!B679:B10677,\" \",0,1)","v":"DAMIENENGELDINGER35@GMAIL.COM"},41.57973990417522,15187,"VALKY_Dams29 VALKY 2/09/1982 🇫🇷 French Fibre PlayStation 5 Wifi Volant Fanatec B S Gold 60 Safe  N/A N/A N/A N/A VALKY_Dams29 Damien Engeldinger DAMIENENGELDINGER35@GMAIL.COM"]
["VALKY_ilo0","VALKY","14/04/2007","🇫🇷 French","Câble","PlayStation 4","Filaire","Manette","A","S","Platinum",80,"Safe",null,"N/A","N/A","N/A","N/A",{"$f":"HYPERLINK(\"https://www.msleague.fr/?page_id=1502&um_user=VALKY_ilo0\", \"VALKY_ilo0\")","v":"VALKY_ilo0"},"Ali","Kiziler",{"$f":"_xlfn.XLOOKUP(A684,BDD!A680:A10678,BDD!B680:B10678,\" \",0,1)","v":"alikiziler14042007@gmail.com"},16.966461327857633,6197,"VALKY_ilo0 VALKY 14/04/2007 🇫🇷 French Câble PlayStation 4 Filaire Manette A S Platinum 80 Safe  N/A N/A N/A N/A VALKY_ilo0 Ali Kiziler alikiziler14042007@gmail.com"]
["VALKY_J_Leg_19","VALKY","19/07/1986","🇧🇪 Belgium","Câble","PlayStation 4","Filaire","Volant Logitech","C","B","Silver",40,"Batailleur",null,"N/A","N/A","N/A","N/A",{"$f":"HYPERLINK(\"https://www.msleague.fr/?page_id=1502&um_user=VALKY_J_Leg_19\", \"VALKY_J_Leg_19\")","v":"VALKY_J_Leg_19"},"Jérôme","Legros",{"$f":"_xlfn.XLOOKUP(A685,BDD!A681:A10679,BDD!B681:B10679,\" \",0,1)","v":"j.leg@live.fr"},37.702943189596169,13771,"VALKY_J_Leg_19 VALKY 19/07/1986 🇧🇪 Belgium Câble PlayStation 4 Filaire Volant Logitech C B Silver 40 Batailleur  N/A N/A N/A N/A VALKY_J_Leg_19 Jérôme Legros j.leg@live.fr"]
["VALKY_juju17","VALKY","17/03/1989","🇫🇷 French","Box/Partage 3G/4G","PlayStation 5","Wifi","Volant Logitech","C","S","Silver",40,"Safe",null,"N/A","N/A","N/A","N/A",{"$f":"HYPERLINK(\"https://www.msleague.fr/?page_id=1502&um_user=VALKY_juju17\", \"VALKY_juju17\")","v":"VALKY_juju17"},"Bouillon","Julien",{"$f":"_xlfn.XLOOKUP(A686,BDD!A682:A10680,BDD!B682:B10680,\" \",0,1)","v":"julien.boui36@orange.fr"},35.041752224503767,12799,"VALKY_juju17 VALKY 17/03/1989 🇫🇷 French Box/Partage 3G/4G PlayStation 5 Wifi Volant Logitech C S Silver 40 Safe  N/A N/A N/A N/A VALKY_juju17 Bouillon Julien julien.boui36@orange.fr"]
["VALKY_Vador_09","VALKY","17/07/1986","🇫🇷 French","Câble","PlayStation 5","Wifi","Volant Thrustmaster","B","S","Gold",60,"Safe",null,"N/A","N/A","N/A","N/A",{"$f":"HYPERLINK(\"https://www.msleague.fr/?page_id=1502&um_user=VALKY_Vador_09\", \"VALKY_Vador_09\")","v":"VALKY_Vador_09"},"Julien","Manas",{"$f":"_xlfn.XLOOKUP(A687,BDD!A683:A10681,BDD!B683:B10681,\" \",0,1)","v":"julienmanas@gmail.com"},37.708418891170432,13773,"VALKY_Vador_09 VALKY 17/07/1986 🇫🇷 French Câble PlayStation 5 Wifi Volant Thrustmaster B S Gold 60 Safe  N/A N/A N/A N/A VALKY_Vador_09 Julien Manas julienmanas@gmail.com"]
["VBF_AsGo","VBF","19/01/1990","🇧🇪 Belgium","N/A","PlayStation 5","N/A","Volant Logitech","B","S","Gold",60,"Safe",0,"N/A","N/A",0,"N/A",{"$f":"HYPERLINK(\"https://www.msleague.fr/?page_id=1502&um_user=VBF_AsGo\", \"VBF_AsGo\")","v":"VBF_AsGo"},"Francois","Janssens",{"$f":"_xlfn.XLOOKUP(A688,BDD!A684:A10682,BDD!B684:B10682,\" \",0,1)","v":"francoisjanssens.pro@gmail.com"},34.19849418206708,12491,"VBF_AsGo VBF 19/01/1990 🇧🇪 Belgium N/A PlayStation 5 N/A Volant Logitech B S Gold 60 Safe 0 N/A N/A 0 N/A VBF_AsGo Francois Janssens francoisjanssens.pro@gmail.com"]
["Veloce_Loyrot","VELOCE","11/06/1996","🇨🇱 Chili","Fibre","PlayStation 5","Filaire","Volant Fanatec","S","S","Legend",95,"Safe",null,"N/A","N/A","N/A","N/A",{"$f":"HYPERLINK(\"https://www.msleague.fr/?page_id=1502&um_user=Veloce_Loyrot\", \"Veloce_Loyrot\")","v":"Veloce_Loyrot"},"Angel","Inostroza",{"$f":"_xlfn.XLOOKUP(A689,BDD!A685:A10683,BDD!B685:B10683,\" \",0,1)","v":"inostrozap.angel@gmail.com"},27.805612594113622,10156,"Veloce_Loyrot VELOCE 11/06/1996 🇨🇱 Chili Fibre PlayStation 5 Filaire Volant Fanatec S S Legend 95 Safe  N/A N/A N/A N/A Veloce_Loyrot Angel Inostroza inostrozap.angel@gmail.com"]
["VQS_ART55MN","VQS","19/12/1999","🇧🇷 Brazil","Câble","PlayStation 5","Filaire","Volant Fanatec","S","S","Legend",95,"Safe",null,"N/A","N/A","N/A","N/A",{"$f":"HYPERLINK(\"https://www.msleague.fr/?page_id=1502&um_user=VQS_ART55MN\", \"VQS_ART55MN\")","v":"VQS_ART55MN"},"Arthur","Mosso Nunes",{"$f":"_xlfn.XLOOKUP(A690,BDD!A686:A10684,BDD!B686:B10684,\" \",0,1)","v":"art.555.m.n@gmail.com"},24.284736481861739,8870,"VQS_ART55MN VQS 19/12/1999 🇧🇷 Brazil Câble PlayStation 5 Filaire Volant Fanatec S S Legend 95 Safe  N/A N/A N/A N/A VQS_ART55MN Arthur Mosso Nunes art.555.m.n@gmail.com"]
["VQS_Bradley","VQS","19/12/2001","🇬🇧 English","Fibre","PlayStation 5","Wifi","Volant Fanatec","A+","S","Legend",95,"Safe",null,"N/A","N/A","N/A","N/A",{"$f":"HYPERLINK(\"https://www.msleague.fr/?page_id=1502&um_user=VQS_Bradley\", \"VQS_Bradley\")","v":"VQS_Bradley"},"Bradley","Tarrant",{"$f":"_xlfn.XLOOKUP(A691,BDD!A687:A10685,BDD!B687:B10685,\" \",0,1)","v":"btarrant9@icloud.com"},22.283367556468171,8139,"VQS_Bradley VQS 19/12/2001 🇬🇧 English Fibre PlayStation 5 Wifi Volant Fanatec A+ S Legend 95 Safe  N/A N/A N/A N/A VQS_Bradley Bradley Tarrant btarrant9@icloud.com"]
["VR6_Fenek_One","VR6","13/02/1990","🇧🇪 Belgium","N/A","PlayStation 4","N/A","Volant Fanatec","C","S","Silver",40,"Safe",0,"N/A","N/A",0,"N/A",{"$f":"HYPERLINK(\"https://www.msleague.fr/?page_id=1502&um_user=VR6_Fenek_One\", \"VR6_Fenek_One\")","v":"VR6_Fenek_One"},"Amaury","Tambour",{"$f":"_xlfn.XLOOKUP(A692,BDD!A688:A10686,BDD!B688:B10686,\" \",0,1)","v":"tambouramaury@gmail.com"},34.130047912388775,12466,"VR6_Fenek_One VR6 13/02/1990 🇧🇪 Belgium N/A PlayStation 4 N/A Volant Fanatec C S Silver 40 Safe 0 N/A N/A 0 N/A VR6_Fenek_One Amaury Tambour tambouramaury@gmail.com"]
["VRD ludomicyma","Indép.","9/04/1984","🇧🇪 Belgium","N/A","PlayStation 4","N/A","Manette","C","S","Silver",40,"Safe",0,"N/A","N/A","N/A","N/A",{"$f":"HYPERLINK(\"https://www.msleague.fr/?page_id=1502&um_user=VRD ludomicyma\", \"VRD ludomicyma\")","v":"VRD ludomicyma"},"Ludovic","Pieropan",{"$f":"_xlfn.XLOOKUP(A693,BDD!A689:A10687,BDD!B689:B10687,\" \",0,1)","v":"mileycyara@live.fr"},39.978097193702943,14602,"VRD ludomicyma Indép. 9/04/1984 🇧🇪 Belgium N/A PlayStation 4 N/A Manette C S Silver 40 Safe 0 N/A N/A N/A N/A VRD ludomicyma Ludovic Pieropan mileycyara@live.fr"]
["VRD-Dodobe","VRD","20/02/1996","🇫🇷 French","N/A","PlayStation 5","N/A","Volant Thrustmaster","D","S","Bronze",20,"Safe",0,"N/A","N/A",0,"N/A",{"$f":"HYPERLINK(\"https://www.msleague.fr/?page_id=1502&um_user=VRD-Dodobe\", \"VRD-Dodobe\")","v":"VRD-Dodobe"},"Bryan","Lheureux",{"$f":"_xlfn.XLOOKUP(A694,BDD!A690:A10688,BDD!B690:B10688,\" \",0,1)","v":"bryanlheureux20@gmail.com"},28.112251882272417,10268,"VRD-Dodobe VRD 20/02/1996 🇫🇷 French N/A PlayStation 5 N/A Volant Thrustmaster D S Bronze 20 Safe 0 N/A N/A 0 N/A VRD-Dodobe Bryan Lheureux bryanlheureux20@gmail.com"]
["VRD-Doug6717","VRD","13/03/1984","🇧🇪 Belgium","N/A","PlayStation 4","N/A","Volant Fanatec","A","S","Platinum",80,"Safe",0,"N/A","N/A","N/A","N/A",{"$f":"HYPERLINK(\"https://www.msleague.fr/?page_id=1502&um_user=VRD-Doug6717\", \"VRD-Doug6717\")","v":"VRD-Doug6717"},"Sebastien","Evrard",{"$f":"_xlfn.XLOOKUP(A695,BDD!A691:A10689,BDD!B691:B10689,\" \",0,1)","v":"evrard.seb@gmail.com"},40.05201916495551,14629,"VRD-Doug6717 VRD 13/03/1984 🇧🇪 Belgium N/A PlayStation 4 N/A Volant Fanatec A S Platinum 80 Safe 0 N/A N/A N/A N/A VRD-Doug6717 Sebastien Evrard evrard.seb@gmail.com"]
["VRD-FAKOLY","VRD","18/07/1980","🇫🇷 French","N/A","PlayStation 5","N/A","Volant Thrustmaster","B","S","Gold",60,"Safe",0,"N/A","N/A",0,"N/A",{"$f":"HYPERLINK(\"https://www.msleague.fr/?page_id=1502&um_user=VRD-FAKOLY\", \"VRD-FAKOLY\")","v":"VRD-FAKOLY"},"Nicolas","Ouin",{"$f":"_xlfn.XLOOKUP(A696,BDD!A692:A10690,BDD!B692:B10690,\" \",0,1)","v":"Fakoly27@gmail.com"},43.704312114989733,15963,"VRD-FAKOLY VRD 18/07/1980 🇫🇷 French N/A PlayStation 5 N/A Volant Thrustmaster B S Gold 60 Safe 0 N/A N/A 0 N/A VRD-FAKOLY Nicolas Ouin Fakoly27@gmail.com"]
["VRD-Fraky","VRD","10/01/1979","🇫🇷 French","Fibre","PlayStation 5","Filaire","Volant Thrustmaster","D","S","Bronze",20,"Safe",0,"N/A","N/A","N/A","N/A",{"$f":"HYPERLINK(\"https://www.msleague.fr/?page_id=1502&um_user=VRD-Fraky\", \"VRD-Fraky\")","v":"VRD-Fraky"},"Olivier","Fraquelli",{"$f":"_xlfn.XLOOKUP(A697,BDD!A693:A10691,BDD!B693:B10691,\" \",0,1)","v":"fraquelli.olivier@outlook.fr"},45.223819301848046,16518,"VRD-Fraky VRD 10/01/1979 🇫🇷 French Fibre PlayStation 5 Filaire Volant Thrustmaster D S Bronze 20 Safe 0 N/A N/A N/A N/A VRD-Fraky Olivier Fraquelli fraquelli.olivier@outlook.fr"]
["VRD-le-pesk","VRD","3/05/1974","🇫🇷 French","N/A","PlayStation 4","N/A","Volant Fanatec","B","S","Gold",60,"Safe",0,"N/A","N/A","N/A","N/A",{"$f":"HYPERLINK(\"https://www.msleague.fr/?page_id=1502&um_user=VRD-le-pesk\", \"VRD-le-pesk\")","v":"VRD-le-pesk"},"sébastien","PESCE",{"$f":"_xlfn.XLOOKUP(A698,BDD!A694:A10692,BDD!B694:B10692,\" \",0,1)","v":"lepesk@gmail.com"},49.913757700205338,18231,"VRD-le-pesk VRD 3/05/1974 🇫🇷 French N/A PlayStation 4 N/A Volant Fanatec B S Gold 60 Safe 0 N/A N/A N/A N/A VRD-le-pesk sébastien PESCE lepesk@gmail.com"]
["VRD-Mandiracer","VRD","23/11/1973","🇧🇪 Belgium","N/A","PlayStation 5","N/A","Volant Fanatec","A","S","Platinum",80,"Safe",0,"N/A","N/A","N/A","N/A",{"$f":"HYPERLINK(\"https://www.msleague.fr/?page_id=1502&um_user=VRD-Mandiracer\", \"VRD-Mandiracer\")","v":"VRD-Mandiracer"},"Manfred","Malavasi",{"$f":"_xlfn.XLOOKUP(A699,BDD!A695:A10693,BDD!B695:B10693,\" \",0,1)","v":"manyflute@gmail.com"},50.35455167693361,18392,"VRD-Mandiracer VRD 23/11/1973 🇧🇪 Belgium N/A PlayStation 5 N/A Volant Fanatec A S Platinum 80 Safe 0 N/A N/A N/A N/A VRD-Mandiracer Manfred Malavasi manyflute@gmail.com"]
["VRD-MICA","VRD","17/06/1980","🇧🇪 Belgium","N/A","PlayStation 5","N/A","Manette","A","S","Platinum",80,"Safe",0,"N/A","N/A","N/A","N/A",{"$f":"HYPERLINK(\"https://www.msleague.fr/?page_id=1502&um_user=VRD-MICA\", \"VRD-MICA\")","v":"VRD-MICA"},"Michael","Goset",{"$f":"_xlfn.XLOOKUP(A700,BDD!A696:A10694,BDD!B696:B10694,\" \",0,1)","v":"michaelgoset@outlook.com"},43.789185489390832,15994,"VRD-MICA VRD 17/06/1980 🇧🇪 Belgium N/A PlayStation 5 N/A Manette A S Platinum 80 Safe 0 N/A N/A N/A N/A VRD-MICA Michael Goset michaelgoset@outlook.com"]
["VRD-PaquitoLrx","VRD","25/02/1999","🇫🇷 French","N/A","PlayStation 5","N/A","Volant Thrustmaster","A","S","Platinum",80,"Safe",0,"N/A","N/A",0,"N/A",{"$f":"HYPERLINK(\"https://www.msleague.fr/?page_id=1502&um_user=VRD-PaquitoLrx\", \"VRD-PaquitoLrx\")","v":"VRD-PaquitoLrx"},"Morgan","Lrx",{"$f":"_xlfn.XLOOKUP(A701,BDD!A697:A10695,BDD!B697:B10695,\" \",0,1)","v":"Lrxmorgan@gmail.com"},25.097878165639973,9167,"VRD-PaquitoLrx VRD 25/02/1999 🇫🇷 French N/A PlayStation 5 N/A Volant Thrustmaster A S Platinum 80 Safe 0 N/A N/A 0 N/A VRD-PaquitoLrx Morgan Lrx Lrxmorgan@gmail.com"]
["VRD-Toinou","VRD","14/06/1978","🇫🇷 French","N/A","PlayStation 4","N/A","Volant Thrustmaster","B","S","Gold",60,"Safe",0,"N/A","N/A","N/A","N/A",{"$f":"HYPERLINK(\"https://www.msleague.fr/?page_id=1502&um_user=VRD-Toinou\", \"VRD-Toinou\")","v":"VRD-Toinou"},"Antoine","Jan",{"$f":"_xlfn.XLOOKUP(A702,BDD!A698:A10696,BDD!B698:B10696,\" \",0,1)","v":"antoine_jan@yahoo.fr"},45.798767967145793,16728,"VRD-Toinou VRD 14/06/1978 🇫🇷 French N/A PlayStation 4 N/A Volant Thrustmaster B S Gold 60 Safe 0 N/A N/A N/A N/A VRD-Toinou Antoine Jan antoine_jan@yahoo.fr"]
["VWR_Flokitek","VWR","10/08/1989","🇫🇷 French","Câble","PlayStation 5","Filaire","Volant Thrustmaster","B","S","Gold",60,"Safe",null,"N/A","N/A","N/A","N/A",{"$f":"HYPERLINK(\"https://www.msleague.fr/?page_id=1502&um_user=VWR_Flokitek\", \"VWR_Flokitek\")","v":"VWR_Flokitek"},"Florian","Senes",{"$f":"_xlfn.XLOOKUP(A703,BDD!A699:A10697,BDD!B699:B10697,\" \",0,1)","v":"Florian.senes@protonmail.com"},34.64202600958248,12653,"VWR_Flokitek VWR 10/08/1989 🇫🇷 French Câble PlayStation 5 Filaire Volant Thrustmaster B S Gold 60 Safe  N/A N/A N/A N/A VWR_Flokitek Florian Senes Florian.senes@protonmail.com"]
["VWR_Menzow_","VWR","11/10/2003","🇫🇷 French","Box/Partage 3G/4G","PlayStation 4","Wifi","Volant Thrustmaster","A","S","Platinum",73.34,"Safe",0,1,0,7,0,{"$f":"HYPERLINK(\"https://www.msleague.fr/?page_id=1502&um_user=VWR_Menzow_\", \"VWR_Menzow_\")","v":"VWR_Menzow_"},"Enzo","Massot",{"$f":"_xlfn.XLOOKUP(A704,BDD!A700:A10698,BDD!B700:B10698,\" \",0,1)","v":"massotenzo56@gmail.com"},20.473648186173854,7478,"VWR_Menzow_ VWR 11/10/2003 🇫🇷 French Box/Partage 3G/4G PlayStation 4 Wifi Volant Thrustmaster A S Platinum 73,34 Safe 0 1 0 7 0 VWR_Menzow_ Enzo Massot massotenzo56@gmail.com"]
["waefred","FTE","18/11/1972","🇫🇷 French","N/A","PlayStation 5","N/A","Volant Fanatec","C","S","Silver",42.3,"Safe",0,1,"N/A",1,"N/A",{"$f":"HYPERLINK(\"https://www.msleague.fr/?page_id=1502&um_user=waefred\", \"waefred\")","v":"waefred"},"Frédéric","WAELER",{"$f":"_xlfn.XLOOKUP(A705,BDD!A701:A10699,BDD!B701:B10699,\" \",0,1)","v":"waeler.frederic@outlook.fr"},51.367556468172488,18762,"waefred FTE 18/11/1972 🇫🇷 French N/A PlayStation 5 N/A Volant Fanatec C S Silver 42,3 Safe 0 1 N/A 1 N/A waefred Frédéric WAELER waeler.frederic@outlook.fr"]
["WertsVRT_Asatech","WertsVRT","29/01/1984","🇫🇷 French","N/A","PlayStation 4","N/A","Manette","B","S","Gold",60,"Safe",0,"N/A","N/A","N/A","N/A",{"$f":"HYPERLINK(\"https://www.msleague.fr/?page_id=1502&um_user=WertsVRT_Asatech\", \"WertsVRT_Asatech\")","v":"WertsVRT_Asatech"},"Damien","Massa",{"$f":"_xlfn.XLOOKUP(A706,BDD!A702:A10700,BDD!B702:B10700,\" \",0,1)","v":"asatc.design@gmail.com"},40.172484599589325,14673,"WertsVRT_Asatech WertsVRT 29/01/1984 🇫🇷 French N/A PlayStation 4 N/A Manette B S Gold 60 Safe 0 N/A N/A N/A N/A WertsVRT_Asatech Damien Massa asatc.design@gmail.com"]
["WertsVRT_Dams","WertsVRT","29/04/1983","🇧🇪 Belgium","N/A","PlayStation 5","N/A","Volant Fanatec","A","S","Platinum",80,"Safe",0,"N/A","N/A",0,"N/A",{"$f":"HYPERLINK(\"https://www.msleague.fr/?page_id=1502&um_user=WertsVRT_Dams\", \"WertsVRT_Dams\")","v":"WertsVRT_Dams"},"Damien","Denis",{"$f":"_xlfn.XLOOKUP(A707,BDD!A703:A10701,BDD!B703:B10701,\" \",0,1)","v":"Damscratch@hotmail.com"},40.925393566050651,14948,"WertsVRT_Dams WertsVRT 29/04/1983 🇧🇪 Belgium N/A PlayStation 5 N/A Volant Fanatec A S Platinum 80 Safe 0 N/A N/A 0 N/A WertsVRT_Dams Damien Denis Damscratch@hotmail.com"]
["WertsVRT_dunce10","WertsVRT","25/07/1997","🇧🇪 Belgium","N/A","PlayStation 4","N/A","Volant Thrustmaster","A+","S","Legend",95,"Safe",0,"N/A","N/A","N/A","N/A",{"$f":"HYPERLINK(\"https://www.msleague.fr/?page_id=1502&um_user=WertsVRT_dunce10\", \"WertsVRT_dunce10\")","v":"WertsVRT_dunce10"},"Antoine","Gillet",{"$f":"_xlfn.XLOOKUP(A708,BDD!A704:A10702,BDD!B704:B10702,\" \",0,1)","v":"animateurgillet@yahoo.com"},26.68583162217659,9747,"WertsVRT_dunce10 WertsVRT 25/07/1997 🇧🇪 Belgium N/A PlayStation 4 N/A Volant Thrustmaster A+ S Legend 95 Safe 0 N/A N/A N/A N/A WertsVRT_dunce10 Antoine Gillet animateurgillet@yahoo.com"]
["WertsVRT_HotWill","WertsVRT","5/09/1978","🇧🇪 Belgium","N/A","PlayStation 5","N/A","Volant Fanatec","B","S","Gold",60,"Safe",0,"N/A","N/A",0,"N/A",{"$f":"HYPERLINK(\"https://www.msleague.fr/?page_id=1502&um_user=WertsVRT_HotWill\", \"WertsVRT_HotWill\")","v":"WertsVRT_HotWill"},"michael","chevalier",{"$f":"_xlfn.XLOOKUP(A709,BDD!A705:A10703,BDD!B705:B10703,\" \",0,1)","v":"thebest7340@yahoo.com"},{"$f":"IF(X709=\"\",\"\",CONVERT(X709,\"day\",\"yr\"))","v":45.571526351813823},16645,"WertsVRT_HotWill WertsVRT 5/09/1978 🇧🇪 Belgium N/A PlayStation 5 N/A Volant Fanatec B S Gold 60 Safe 0 N/A N/A 0 N/A WertsVRT_HotWill michael chevalier thebest7340@yahoo.com"]
["WertsVRT_Lig","WertsVRT","7/01/1985","🇧🇪 Belgium","N/A","PlayStation 5","N/A","Volant Thrustmaster","A","S","Platinum",80,"Safe",0,"N/A","N/A",0,"N/A",{"$f":"HYPERLINK(\"https://www.msleague.fr/?page_id=1502&um_user=WertsVRT_Lig\", \"WertsVRT_Lig\")","v":"WertsVRT_Lig"},"Gil","Moinie",{"$f":"_xlfn.XLOOKUP(A710,BDD!A706:A10704,BDD!B706:B10704,\" \",0,1)","v":"rallye.werts@gmail.com"},39.230663928815879,14329,{"$f":"A710 & \" \" & B710 & \" \" & C710 & \" \" & D710 & \" \" & E710 & \" \" & F710 & \" \" & G710 & \" \" & H710 & \" \" & I710 & \" \" & J710 & \" \" & K710 & \" \" & L710 & \" \" & M710 & \" \" & N710 & \" \" & O710 & \" \" & P710 & \" \" &Q710 & \" \" & R710 & \" \" & S710 & \" \" & T710 & \" \" & U710 & \" \" & V710","v":"WertsVRT_Lig WertsVRT 7/01/1985 🇧🇪 Belgium N/A PlayStation 5 N/A Volant Thrustmaster A S Platinum 80 Safe 0 N/A N/A 0 N/A WertsVRT_Lig Gil Moinie rallye.werts@gmail.com"}]
["WertsVRT_Nate","WertsVRT","15/11/1990","🇧🇪 Belgium","N/A","PlayStation 5","N/A","Volant Fanatec","A","S","Platinum",80,"Safe",0,"N/A","N/A","N/A","N/A",{"$f":"HYPERLINK(\"https://www.msleague.fr/?page_id=1502&um_user=WertsVRT_Nate\", \"WertsVRT_Nate\")","v":"WertsVRT_Nate"},"Nathan","Werts",{"$f":"_xlfn.XLOOKUP(A711,BDD!A707:A10705,BDD!B707:B10705,\" \",0,1)","v":"nathan.werts@gmail.com"},33.377138945927449,12191,"WertsVRT_Nate WertsVRT 15/11/1990 🇧🇪 Belgium N/A PlayStation 5 N/A Volant Fanatec A S Platinum 80 Safe 0 N/A N/A N/A N/A WertsVRT_Nate Nathan Werts nathan.werts@gmail.com"]
["WertsVRT_Timo","WertsVRT","12/05/1989","🇧🇪 Belgium","N/A","PlayStation 4","N/A","Volant Thrustmaster","A","S","Platinum",80,"Safe",0,"N/A","N/A",0,"N/A",{"$f":"HYPERLINK(\"https://www.msleague.fr/?page_id=1502&um_user=WertsVRT_Timo\", \"WertsVRT_Timo\")","v":"WertsVRT_Timo"},"Timothy","Puts",{"$f":"_xlfn.XLOOKUP(A712,BDD!A708:A10706,BDD!B708:B10706,\" \",0,1)","v":"tim.p03.no@gmail.com"},34.888432580424364,12743,"WertsVRT_Timo WertsVRT 12/05/1989 🇧🇪 Belgium N/A PlayStation 4 N/A Volant Thrustmaster A S Platinum 80 Safe 0 N/A N/A 0 N/A WertsVRT_Timo Timothy Puts tim.p03.no@gmail.com"]
["Wiild78","Indép.","5/06/1993","🇫🇷 French","Fibre","PlayStation 5","Filaire","Volant Logitech","B","S","Gold",60,"Safe",null,"N/A","N/A","N/A","N/A",{"$f":"HYPERLINK(\"https://www.msleague.fr/?page_id=1502&um_user=Wiild78\", \"Wiild78\")","v":"Wiild78"},"Jimmy","Dherbecourt",{"$f":"_xlfn.XLOOKUP(A713,BDD!A709:A10707,BDD!B709:B10707,\" \",0,1)","v":"dherbecourtjimmy@gmail.com"},30.822724161533195,11258,"Wiild78 Indép. 5/06/1993 🇫🇷 French Fibre PlayStation 5 Filaire Volant Logitech B S Gold 60 Safe  N/A N/A N/A N/A Wiild78 Jimmy Dherbecourt dherbecourtjimmy@gmail.com"]
["WolfY-RTZ","YART","18/08/2003","🇫🇷 French","N/A","PlayStation 5","N/A","Volant Thrustmaster","A+","S","Legend",95,"Safe",0,"N/A","N/A","N/A","N/A",{"$f":"HYPERLINK(\"https://www.msleague.fr/?page_id=1502&um_user=WolfY-RTZ\", \"WolfY-RTZ\")","v":"WolfY-RTZ"},"Willy","Wolf",{"$f":"_xlfn.XLOOKUP(A714,BDD!A710:A10708,BDD!B710:B10708,\" \",0,1)","v":"willywolf03@gmail.com"},20.621492128678987,7532,"WolfY-RTZ YART 18/08/2003 🇫🇷 French N/A PlayStation 5 N/A Volant Thrustmaster A+ S Legend 95 Safe 0 N/A N/A N/A N/A WolfY-RTZ Willy Wolf willywolf03@gmail.com"]
["Wolst_Racine","WOLST","22/05/2004","🇫🇷 French","N/A","PlayStation 5","N/A","Manette","A+","S","Legend",95,"Safe",0,"N/A","N/A",0,"N/A",{"$f":"HYPERLINK(\"https://www.msleague.fr/?page_id=1502&um_user=Wolst_Racine\", \"Wolst_Racine\")","v":"Wolst_Racine"},"Alexis","DORFMAN",{"$f":"_xlfn.XLOOKUP(A715,BDD!A711:A10709,BDD!B711:B10709,\" \",0,1)","v":"adorfman22@gmail.com"},19.860369609856264,7254,"Wolst_Racine WOLST 22/05/2004 🇫🇷 French N/A PlayStation 5 N/A Manette A+ S Legend 95 Safe 0 N/A N/A 0 N/A Wolst_Racine Alexis DORFMAN adorfman22@gmail.com"]
["xcimod","Indép.","25/10/1988","🇫🇷 French","N/A","PlayStation 5","N/A","Volant Logitech","A+","S","Platinum",85.91,"Safe",0,1,0,7,0,{"$f":"HYPERLINK(\"https://www.msleague.fr/?page_id=1502&um_user=xcimod\", \"xcimod\")","v":"xcimod"},"Jérémy","Paques",{"$f":"_xlfn.XLOOKUP(A716,BDD!A712:A10710,BDD!B712:B10710,\" \",0,1)","v":"xcimod@gmail.com"},35.433264887063658,12942,"xcimod Indép. 25/10/1988 🇫🇷 French N/A PlayStation 5 N/A Volant Logitech A+ S Platinum 85,91 Safe 0 1 0 7 0 xcimod Jérémy Paques xcimod@gmail.com"]
["xKoulibaly__26x","Indép.","26/07/1988","🇫🇷 French","N/A","PlayStation 5","N/A","Manette","B","S","Gold",60,"Safe",0,"N/A","N/A","N/A","N/A",{"$f":"HYPERLINK(\"https://www.msleague.fr/?page_id=1502&um_user=xKoulibaly__26x\", \"xKoulibaly__26x\")","v":"xKoulibaly__26x"},"Gersin","Desbonne",{"$f":"_xlfn.XLOOKUP(A717,BDD!A713:A10711,BDD!B713:B10711,\" \",0,1)","v":"gersindesbonne@gmail.com"},35.682409308692677,13033,"xKoulibaly__26x Indép. 26/07/1988 🇫🇷 French N/A PlayStation 5 N/A Manette B S Gold 60 Safe 0 N/A N/A N/A N/A xKoulibaly__26x Gersin Desbonne gersindesbonne@gmail.com"]
["Xperience_GioVaN","Indép.","7/07/1981","🇫🇷 French","N/A","PlayStation 5","N/A","Volant Logitech","A+","S","Legend",95,"Safe",0,"N/A","N/A","N/A","N/A",{"$f":"HYPERLINK(\"https://www.msleague.fr/?page_id=1502&um_user=Xperience_GioVaN\", \"Xperience_GioVaN\")","v":"Xperience_GioVaN"},"Jean","Narquin",{"$f":"_xlfn.XLOOKUP(A718,BDD!A714:A10712,BDD!B714:B10712,\" \",0,1)","v":"narquinjean@hotmail.com"},42.735112936344969,15609,"Xperience_GioVaN Indép. 7/07/1981 🇫🇷 French N/A PlayStation 5 N/A Volant Logitech A+ S Legend 95 Safe 0 N/A N/A N/A N/A Xperience_GioVaN Jean Narquin narquinjean@hotmail.com"]
["xXinstopableXx","Indép.","19/03/1993","🇫🇷 French","Fibre","PlayStation 5","Filaire","Volant Thrustmaster","E","B","Rookie",5,"Batailleur",null,"N/A","N/A","N/A","N/A",{"$f":"HYPERLINK(\"https://www.msleague.fr/?page_id=1502&um_user=xXinstopableXx\", \"xXinstopableXx\")","v":"xXinstopableXx"},"Wissem","Jouida",{"$f":"_xlfn.XLOOKUP(A719,BDD!A715:A10713,BDD!B715:B10713,\" \",0,1)","v":"Wissem.jouida93@gmail.com"},31.036276522929501,11336,"xXinstopableXx Indép. 19/03/1993 🇫🇷 French Fibre PlayStation 5 Filaire Volant Thrustmaster E B Rookie 5 Batailleur  N/A N/A N/A N/A xXinstopableXx Wissem Jouida Wissem.jouida93@gmail.com"]
["XxLuigi70200xX","Indép.","21/06/1990","🇫🇷 French","Fibre","PlayStation 5","Wifi","Volant Logitech","C","S","Silver",40,"Safe",0,"N/A","N/A","N/A","N/A",{"$f":"HYPERLINK(\"https://www.msleague.fr/?page_id=1502&um_user=XxLuigi70200xX\", \"XxLuigi70200xX\")","v":"XxLuigi70200xX"},"Pierre","Bourezg",{"$f":"_xlfn.XLOOKUP(A720,BDD!A716:A10714,BDD!B716:B10714,\" \",0,1)","v":"pierre.bourezg@outlook.com"},33.779603011635864,12338,"XxLuigi70200xX Indép. 21/06/1990 🇫🇷 French Fibre PlayStation 5 Wifi Volant Logitech C S Silver 40 Safe 0 N/A N/A N/A N/A XxLuigi70200xX Pierre Bourezg pierre.bourezg@outlook.com"]
["XxPADAWAN_83xX","GTS-EVO","5/02/1998","🇫🇷 French","N/A","PlayStation 5","N/A","Volant Thrustmaster","B","B","Gold",60,"Fair-Play",0,1,"N/A",1,"N/A",{"$f":"HYPERLINK(\"https://www.msleague.fr/?page_id=1502&um_user=XxPADAWAN_83xX\", \"XxPADAWAN_83xX\")","v":"XxPADAWAN_83xX"},"Anthony","Pimentel",{"$f":"_xlfn.XLOOKUP(A721,BDD!A717:A10715,BDD!B717:B10715,\" \",0,1)","v":"Anthony.mecano@gmail.com"},26.151950718685832,9552,"XxPADAWAN_83xX GTS-EVO 5/02/1998 🇫🇷 French N/A PlayStation 5 N/A Volant Thrustmaster B B Gold 60 Fair-Play 0 1 N/A 1 N/A XxPADAWAN_83xX Anthony Pimentel Anthony.mecano@gmail.com"]
["XxRazor_HawkxX","VPR","20/11/1998","🇺🇸 United States","Fibre","PlayStation 4","Wifi","Manette","A","S","Platinum",80,"Safe",0,"N/A","N/A","N/A","N/A",{"$f":"HYPERLINK(\"https://www.msleague.fr/?page_id=1502&um_user=XxRazor_HawkxX\", \"XxRazor_HawkxX\")","v":"XxRazor_HawkxX"},"Delgado","Jones",{"$f":"_xlfn.XLOOKUP(A722,BDD!A718:A10716,BDD!B718:B10716,\" \",0,1)","v":"cdavisrx7@gmail.com"},25.363449691991786,9264,"XxRazor_HawkxX VPR 20/11/1998 🇺🇸 United States Fibre PlayStation 4 Wifi Manette A S Platinum 80 Safe 0 N/A N/A N/A N/A XxRazor_HawkxX Delgado Jones cdavisrx7@gmail.com"]
["YakuzZa974","Indép.","8/05/1981","🇷🇪 Réunion","N/A","PlayStation 5","N/A","Volant Thrustmaster","C","S","Silver",40,"Safe",0,"N/A","N/A","N/A","N/A",{"$f":"HYPERLINK(\"https://www.msleague.fr/?page_id=1502&um_user=YakuzZa974\", \"YakuzZa974\")","v":"YakuzZa974"},"Olivier","GRONDIN",{"$f":"_xlfn.XLOOKUP(A723,BDD!A719:A10717,BDD!B719:B10717,\" \",0,1)","v":"og_974@hotmail.fr"},42.899383983572896,15669,"YakuzZa974 Indép. 8/05/1981 🇷🇪 Réunion N/A PlayStation 5 N/A Volant Thrustmaster C S Silver 40 Safe 0 N/A N/A N/A N/A YakuzZa974 Olivier GRONDIN og_974@hotmail.fr"]
["Yarkini","GTARG","1/07/2023","🏴󠁧󠁢󠁷󠁬󠁳󠁿 Wales","N/A","PlayStation 4","N/A","Volant Logitech","A+","S","Legend",95,"Safe",0,"N/A","N/A",0,"N/A",{"$f":"HYPERLINK(\"https://www.msleague.fr/?page_id=1502&um_user=Yarkini\", \"Yarkini\")","v":"Yarkini"},"Yarko","Cesano",{"$f":"_xlfn.XLOOKUP(A724,BDD!A720:A10718,BDD!B720:B10718,\" \",0,1)","v":"yarkiniracing@gmail.com"},0.75290896646132788,275,"Yarkini GTARG 1/07/2023 🏴󠁧󠁢󠁷󠁬󠁳󠁿 Wales N/A PlayStation 4 N/A Volant Logitech A+ S Legend 95 Safe 0 N/A N/A 0 N/A Yarkini Yarko Cesano yarkiniracing@gmail.com"]
["Yart_HKR","YART","13/10/1993","🇫🇷 French","N/A","PlayStation 5","N/A","Volant Thrustmaster","A","S","Platinum",80,"Safe",0,"N/A","N/A","N/A","N/A",{"$f":"HYPERLINK(\"https://www.msleague.fr/?page_id=1502&um_user=Yart_HKR\", \"Yart_HKR\")","v":"Yart_HKR"},"Michel","HABECKER",{"$f":"_xlfn.XLOOKUP(A725,BDD!A721:A10719,BDD!B721:B10719,\" \",0,1)","v":"Carpeurcarpiste@gmail.com"},30.466803559206024,11128,"Yart_HKR YART 13/10/1993 🇫🇷 French N/A PlayStation 5 N/A Volant Thrustmaster A S Platinum 80 Safe 0 N/A N/A N/A N/A Yart_HKR Michel HABECKER Carpeurcarpiste@gmail.com"]
["YART_NightFox","YART","19/10/1993","🇫🇷 French","N/A","PlayStation 5","N/A","Volant Fanatec","A+","S","Legend",97.87,"Safe",0,2,0,3,0,{"$f":"HYPERLINK(\"https://www.msleague.fr/?page_id=1502&um_user=YART_NightFox\", \"YART_NightFox\")","v":"YART_NightFox"},"Arnaud","MEURICE",{"$f":"_xlfn.XLOOKUP(A726,BDD!A722:A10720,BDD!B722:B10720,\" \",0,1)","v":"storm04nightfox@gmail.com"},30.45037645448323,11122,"YART_NightFox YART 19/10/1993 🇫🇷 French N/A PlayStation 5 N/A Volant Fanatec A+ S Legend 97,87 Safe 0 2 0 3 0 YART_NightFox Arnaud MEURICE storm04nightfox@gmail.com"]
["YART_seb-0711","YART","1/02/1984","🇫🇷 French","N/A","PlayStation 4","N/A","Volant Thrustmaster","A+","S","Legend",95,"Safe",0,"N/A","N/A","N/A","N/A",{"$f":"HYPERLINK(\"https://www.msleague.fr/?page_id=1502&um_user=YART_seb-0711\", \"YART_seb-0711\")","v":"YART_seb-0711"},"Sébastien","Vaquin",{"$f":"_xlfn.XLOOKUP(A727,BDD!A723:A10721,BDD!B723:B10721,\" \",0,1)","v":"vaquinsebastien53@gmail.com"},40.164271047227928,14670,"YART_seb-0711 YART 1/02/1984 🇫🇷 French N/A PlayStation 4 N/A Volant Thrustmaster A+ S Legend 95 Safe 0 N/A N/A N/A N/A YART_seb-0711 Sébastien Vaquin vaquinsebastien53@gmail.com"]
["Spectre-MC96 ","Err. PSN","N/A","N/A","N/A","N/A","N/A","N/A","N/A","N/A","N/A",null,"N/A",null,"N/A","N/A","N/A","N/A",{"$f":"HYPERLINK(\"https://www.msleague.fr/?page_id=1502&um_user=YART_Spectre-96\", \"YART_Spectre-96\")","v":"YART_Spectre-96"},"N/A","N/A",{"$f":"_xlfn.XLOOKUP(A728,BDD!A724:A10722,BDD!B724:B10722,\" \",0,1)","v":" "},"","","Spectre-MC96  Err. PSN N/A N/A N/A N/A N/A N/A N/A N/A N/A  N/A  N/A N/A N/A N/A YART_Spectre-96 N/A N/A  "]
["YART_UltraNTC","YART","6/03/1992","🇫🇷 French","N/A","PlayStation 5","N/A","Volant Fanatec","A+","S","Legend",95,"Safe",0,"N/A","N/A","N/A","N/A",{"$f":"HYPERLINK(\"https://www.msleague.fr/?page_id=1502&um_user=YART_UltraNTC\", \"YART_UltraNTC\")","v":"YART_UltraNTC"},"Matthieu","Caporossi",{"$f":"_xlfn.XLOOKUP(A729,BDD!A725:A10723,BDD!B725:B10723,\" \",0,1)","v":"matthieucaporossi_92@hotmail.fr"},32.071184120465432,{"$f":"IF(C729=\"N/A\",\"\",TODAY()-$C729)","v":11714},"YART_UltraNTC YART 6/03/1992 🇫🇷 French N/A PlayStation 5 N/A Volant Fanatec A+ S Legend 95 Safe 0 N/A N/A N/A N/A YART_UltraNTC Matthieu Caporossi matthieucaporossi_92@hotmail.fr"]
["YoCut-FTE","FTE","13/01/1975","🇫🇷 French","N/A","PlayStation 4","N/A","Volant Thrustmaster","A+","S","Legend",95,"Safe",0,"N/A","N/A",0,"N/A",{"$f":"HYPERLINK(\"https://www.msleague.fr/?page_id=1502&um_user=YoCut-FTE\", \"YoCut-FTE\")","v":"YoCut-FTE"},"Yoann","Chauvin",{"$f":"_xlfn.XLOOKUP(A730,BDD!A726:A10724,BDD!B726:B10724,\" \",0,1)","v":"yocut13@gmail.com"},49.215605749486656,17976,"YoCut-FTE FTE 13/01/1975 🇫🇷 French N/A PlayStation 4 N/A Volant Thrustmaster A+ S Legend 95 Safe 0 N/A N/A 0 N/A YoCut-FTE Yoann Chauvin yocut13@gmail.com"]
["YonelBoussier","Indép.","25/08/1978","🇵🇹 Portugal","N/A","PlayStation 4","N/A","Volant Fanatec","D","A","Bronze",20,"Fair-Play",0,"N/A","N/A",0,"N/A",{"$f":"HYPERLINK(\"https://www.msleague.fr/?page_id=1502&um_user=YonelBoussier\", \"YonelBoussier\")","v":"YonelBoussier"},"Yonel","Boussier",{"$f":"_xlfn.XLOOKUP(A731,BDD!A727:A10725,BDD!B727:B10725,\" \",0,1)","v":"mister.yo@hotmail.com"},45.601642710472277,16656,"YonelBoussier Indép. 25/08/1978 🇵🇹 Portugal N/A PlayStation 4 N/A Volant Fanatec D A Bronze 20 Fair-Play 0 N/A N/A 0 N/A YonelBoussier Yonel Boussier mister.yo@hotmail.com"]
["Zazonthor","Indép.","9/04/1994","🇫🇷 French","Fibre","PlayStation 5","Filaire","Manette","A","S","Platinum",80,"Safe",null,"N/A","N/A","N/A","N/A",{"$f":"HYPERLINK(\"https://www.msleague.fr/?page_id=1502&um_user=Zazonthor\", \"Zazonthor\")","v":"Zazonthor"},"Jeason","MICHEL",{"$f":"_xlfn.XLOOKUP(A732,BDD!A728:A10726,BDD!B728:B10726,\" \",0,1)","v":"jeason-mhl@live.fr"},29.979466119096511,10950,"Zazonthor Indép. 9/04/1994 🇫🇷 French Fibre PlayStation 5 Filaire Manette A S Platinum 80 Safe  N/A N/A N/A N/A Zazonthor Jeason MICHEL jeason-mhl@live.fr"]
["Zefix_claude_64","ZEFIX","19/04/1964","🇫🇷 French","N/A","PlayStation 4","N/A","Volant Thrustmaster","A","S","Platinum",80,"Safe",0,"N/A","N/A",0,"N/A",{"$f":"HYPERLINK(\"https://www.msleague.fr/?page_id=1502&um_user=Zefix_claude_64\", \"Zefix_claude_64\")","v":"Zefix_claude_64"},"Claude","BARRIER",{"$f":"_xlfn.XLOOKUP(A733,BDD!A729:A10727,BDD!B729:B10727,\" \",0,1)","v":"Claudebarrier@orange.fr"},59.950718685831625,21897,"Zefix_claude_64 ZEFIX 19/04/1964 🇫🇷 French N/A PlayStation 4 N/A Volant Thrustmaster A S Platinum 80 Safe 0 N/A N/A 0 N/A Zefix_claude_64 Claude BARRIER Claudebarrier@orange.fr"]
["ZeFiX_Mat","ZeFiX","16/03/1987","🇫🇷 French","N/A","PlayStation 5","N/A","Volant Fanatec","A","S","Platinum",80,"Safe",0,"N/A","N/A",0,"N/A",{"$f":"HYPERLINK(\"https://www.msleague.fr/?page_id=1502&um_user=ZeFiX_Mat\", \"ZeFiX_Mat\")","v":"ZeFiX_Mat"},"Mathieu","FLECK",{"$f":"_xlfn.XLOOKUP(A734,BDD!A730:A10728,BDD!B730:B10728,\" \",0,1)","v":"zefixmat@gmail.com"},37.045859000684466,13531,"ZeFiX_Mat ZeFiX 16/03/1987 🇫🇷 French N/A PlayStation 5 N/A Volant Fanatec A S Platinum 80 Safe 0 N/A N/A 0 N/A ZeFiX_Mat Mathieu FLECK zefixmat@gmail.com"]
["ZeFiX_Onizuka_83","ZeFiX","28/02/1987","🇫🇷 French","N/A","PlayStation 5","N/A","Volant Logitech","A","S","Platinum",80,"Safe",0,"N/A","N/A",0,"N/A",{"$f":"HYPERLINK(\"https://www.msleague.fr/?page_id=1502&um_user=ZeFiX_Onizuka_83\", \"ZeFiX_Onizuka_83\")","v":"ZeFiX_Onizuka_83"},"Julien","Grilo",{"$f":"_xlfn.XLOOKUP(A735,BDD!A731:A10729,BDD!B731:B10729,\" \",0,1)","v":"Juju83550@live.fr"},37.089664613278579,13547,"ZeFiX_Onizuka_83 ZeFiX 28/02/1987 🇫🇷 French N/A PlayStation 5 N/A Volant Logitech A S Platinum 80 Safe 0 N/A N/A 0 N/A ZeFiX_Onizuka_83 Julien Grilo Juju83550@live.fr"]
["ZeFiX_Toni_GTR29","ZeFiX","29/12/1990","🇫🇷 French","N/A","PlayStation 4","N/A","Manette","A","S","Platinum",80,"Safe",0,"N/A","N/A",0,"N/A",{"$f":"HYPERLINK(\"https://www.msleague.fr/?page_id=1502&um_user=ZeFiX_Toni_GTR29\", \"ZeFiX_Toni_GTR29\")","v":"ZeFiX_Toni_GTR29"},"Toni","Piras",{"$f":"_xlfn.XLOOKUP(A736,BDD!A732:A10730,BDD!B732:B10730,\" \",0,1)","v":"Tonii299029@gmail.com"},33.256673511293634,12147,"ZeFiX_Toni_GTR29 ZeFiX 29/12/1990 🇫🇷 French N/A PlayStation 4 N/A Manette A S Platinum 80 Safe 0 N/A N/A 0 N/A ZeFiX_Toni_GTR29 Toni Piras Tonii299029@gmail.com"]
["ZIRA_Bazsi","ZIRA","27/12/1997","🇭🇺 Hungary","Box/Partage 3G/4G","PlayStation 5","Filaire","Volant Thrustmaster","B","S","Gold",58.45,"Safe",2,1,0,1,0,{"$f":"HYPERLINK(\"https://www.msleague.fr/?page_id=1502&um_user=ZIRA_Bazsi\", \"ZIRA_Bazsi\")","v":"ZIRA_Bazsi"},"Balázs","Tuska",{"$f":"_xlfn.XLOOKUP(A737,BDD!A733:A10731,BDD!B733:B10731,\" \",0,1)","v":"tuska.bazsii@gmail.com"},26.261464750171115,9592,"ZIRA_Bazsi ZIRA 27/12/1997 🇭🇺 Hungary Box/Partage 3G/4G PlayStation 5 Filaire Volant Thrustmaster B S Gold 58,45 Safe 2 1 0 1 0 ZIRA_Bazsi Balázs Tuska tuska.bazsii@gmail.com"]
["ZIRA_Csoky","ZIRA","6/01/2004","🇭🇺 Hungary","Câble","PlayStation 5","Filaire","Volant Fanatec","A+","S","Legend",93.44,"Safe",7,1,0,1,0,{"$f":"HYPERLINK(\"https://www.msleague.fr/?page_id=1502&um_user=ZIRA_Csoky\", \"ZIRA_Csoky\")","v":"ZIRA_Csoky"},"Csoknyay","Bertalan",{"$f":"_xlfn.XLOOKUP(A738,BDD!A734:A10732,BDD!B734:B10732,\" \",0,1)","v":"csoknyaybertalan@gmail.com"},20.23545516769336,7391,"ZIRA_Csoky ZIRA 6/01/2004 🇭🇺 Hungary Câble PlayStation 5 Filaire Volant Fanatec A+ S Legend 93,44 Safe 7 1 0 1 0 ZIRA_Csoky Csoknyay Bertalan csoknyaybertalan@gmail.com"]
["ZIRA_Mateking56","ZIRA","26/10/2005","🇭🇺 Hungary","Câble","PlayStation 5","Filaire","Volant Fanatec","A+","S","Legend",92.45,"Safe",7,1,0,1,0,{"$f":"HYPERLINK(\"https://www.msleague.fr/?page_id=1502&um_user=ZIRA_Mateking56\", \"ZIRA_Mateking56\")","v":"ZIRA_Mateking56"},"Máté","Masa Máté",{"$f":"_xlfn.XLOOKUP(A739,BDD!A735:A10733,BDD!B735:B10733,\" \",0,1)","v":"masamate2005@gmail.com"},18.431211498973305,6732,"ZIRA_Mateking56 ZIRA 26/10/2005 🇭🇺 Hungary Câble PlayStation 5 Filaire Volant Fanatec A+ S Legend 92,45 Safe 7 1 0 1 0 ZIRA_Mateking56 Máté Masa Máté masamate2005@gmail.com"]
["ZIRA_SaldaAdi","ZIRA","19/02/2008","🇭🇺 Hungary","Box/Partage 3G/4G","PlayStation 4","Wifi","Volant Fanatec","A+","S","Legend",90.32,"Batailleur",7,1,0,1,0,{"$f":"HYPERLINK(\"https://www.msleague.fr/?page_id=1502&um_user=ZIRA_SaldaAdi\", \"ZIRA_SaldaAdi\")","v":"ZIRA_SaldaAdi"},"Ádám","Salda",{"$f":"_xlfn.XLOOKUP(A740,BDD!A736:A10734,BDD!B736:B10734,\" \",0,1)","v":"goofyfeever@gmail.com"},16.114989733059549,5886,"ZIRA_SaldaAdi ZIRA 19/02/2008 🇭🇺 Hungary Box/Partage 3G/4G PlayStation 4 Wifi Volant Fanatec A+ S Legend 90,32 Batailleur 7 1 0 1 0 ZIRA_SaldaAdi Ádám Salda goofyfeever@gmail.com"]
["ZPR_Bendrel","ZPR","15/06/1987","🇫🇷 French","N/A","PlayStation 5","N/A","Volant Thrustmaster","A+","S","Legend",96.8,"Safe",0,1,0,8,0.25,{"$f":"HYPERLINK(\"https://www.msleague.fr/?page_id=1502&um_user=ZPR_Bendrel\", \"ZPR_Bendrel\")","v":"ZPR_Bendrel"},"Cyril","Assemat",{"$f":"_xlfn.XLOOKUP(A741,BDD!A737:A10735,BDD!B737:B10735,\" \",0,1)","v":"assemat.cyril@me.com"},36.79671457905544,13440,"ZPR_Bendrel ZPR 15/06/1987 🇫🇷 French N/A PlayStation 5 N/A Volant Thrustmaster A+ S Legend 96,8 Safe 0 1 0 8 0,25 ZPR_Bendrel Cyril Assemat assemat.cyril@me.com"]
["ZPR_Chapi","ZPR","31/03/1970","🇫🇷 French","N/A","PlayStation 5","N/A","Volant Thrustmaster","A","S","Platinum",80,"Safe",0,"N/A","N/A",0,"N/A",{"$f":"HYPERLINK(\"https://www.msleague.fr/?page_id=1502&um_user=ZPR_Chapi\", \"ZPR_Chapi\")","v":"ZPR_Chapi"},"Jean","Lavenere",{"$f":"_xlfn.XLOOKUP(A742,BDD!A738:A10736,BDD!B738:B10736,\" \",0,1)","v":"jean.lavenere@wanadoo.fr"},54.004106776180699,19725,"ZPR_Chapi ZPR 31/03/1970 🇫🇷 French N/A PlayStation 5 N/A Volant Thrustmaster A S Platinum 80 Safe 0 N/A N/A 0 N/A ZPR_Chapi Jean Lavenere jean.lavenere@wanadoo.fr"]
["ZPR_Ganjy","ZPR","23/03/1974","🇫🇷 French","N/A","PlayStation 5","N/A","Volant Fanatec","A+","S","Legend",94.23,"Safe",0,1,0,8,0,{"$f":"HYPERLINK(\"https://www.msleague.fr/?page_id=1502&um_user=ZPR_Ganjy\", \"ZPR_Ganjy\")","v":"ZPR_Ganjy"},"Stephane","Thuries",{"$f":"_xlfn.XLOOKUP(A743,BDD!A739:A10737,BDD!B739:B10737,\" \",0,1)","v":"jlsthuries@orange.fr"},50.026009582477755,18272,"ZPR_Ganjy ZPR 23/03/1974 🇫🇷 French N/A PlayStation 5 N/A Volant Fanatec A+ S Legend 94,23 Safe 0 1 0 8 0 ZPR_Ganjy Stephane Thuries jlsthuries@orange.fr"]
["ZPR_RedK","Zephyr","16/08/1990","🇫🇷 French","Câble","PlayStation 5","Filaire","Volant Fanatec","A+","S","Legend",95,"Safe",0,"N/A","N/A",0,"N/A",{"$f":"HYPERLINK(\"https://www.msleague.fr/?page_id=1502&um_user=ZPR_RedK\", \"ZPR_RedK\")","v":"ZPR_RedK"},"Damien","Thro",{"$f":"_xlfn.XLOOKUP(A744,BDD!A740:A10738,BDD!B740:B10738,\" \",0,1)","v":"throdamien16@gmail.com"},33.626283367556468,12282,"ZPR_RedK Zephyr 16/08/1990 🇫🇷 French Câble PlayStation 5 Filaire Volant Fanatec A+ S Legend 95 Safe 0 N/A N/A 0 N/A ZPR_RedK Damien Thro throdamien16@gmail.com"]
["ZPR_Topol","ZPR","26/08/1986","🇫🇷 French","N/A","PlayStation 5","N/A","Volant Fanatec","A+","S","Legend",95,"Safe",0,"N/A","N/A",0,"N/A",{"$f":"HYPERLINK(\"https://www.msleague.fr/?page_id=1502&um_user=ZPR_Topol\", \"ZPR_Topol\")","v":"ZPR_Topol"},"Sébastien","DUBRAY",{"$f":"_xlfn.XLOOKUP(A745,BDD!A741:A10739,BDD!B741:B10739,\" \",0,1)","v":"sebastien.dubray@yahoo.fr"},37.598904859685149,13733,"ZPR_Topol ZPR 26/08/1986 🇫🇷 French N/A PlayStation 5 N/A Volant Fanatec A+ S Legend 95 Safe 0 N/A N/A 0 N/A ZPR_Topol Sébastien DUBRAY sebastien.dubray@yahoo.fr"]
["ZPR_Zen","ZPR","21/09/2002","🇫🇷 French","N/A","PlayStation 5","N/A","Volant Thrustmaster","A+","S","Legend",95,"Safe",0,"N/A","N/A","N/A","N/A",{"$f":"HYPERLINK(\"https://www.msleague.fr/?page_id=1502&um_user=ZPR_Zen\", \"ZPR_Zen\")","v":"ZPR_Zen"},"Allan","Foudrain",{"$f":"_xlfn.XLOOKUP(A746,BDD!A742:A10740,BDD!B742:B10740,\" \",0,1)","v":"allan.foudrain@outlook.fr"},21.527720739219713,7863,"ZPR_Zen ZPR 21/09/2002 🇫🇷 French N/A PlayStation 5 N/A Volant Thrustmaster A+ S Legend 95 Safe 0 N/A N/A N/A N/A ZPR_Zen Allan Foudrain allan.foudrain@outlook.fr"]

{"sheet":"Recherche","index":1,"n_rows":50,"n_cols":23,"rows_kept":50,"cut":false,"hidden":false,"merged":[]}
[null,null,"Résultat :",{"$f":"SUM(IF(LEN(A6:A9999)>=2, 1, 0))","v":0}]
[]
["Recherche :",""]
[null,null,null,{"$f":"IF(D6=\"\",\"\",AVERAGE(D6:D50))","v":""},null,null,null,null,null,null,null,null,{"$f":"IF(M6=\"\",\"\",AVERAGE(M6:M50))","v":""}]
["Pilote","Team","Naissance","Age","Nation","Connexion","Console","Liaison","Device","GT7 Rang","GT7 SR","Level","Ranking","MSL Grade","Points","Events","Event %","Course","Course %","Profil","Prénom","Nom","email"]
[{"$f":"IF(B3=\"\", \"\", _xlfn._xlws.FILTER('MSL Data'!A5:A9999, ISNUMBER(SEARCH(B3, 'MSL Data'!Y5:Y9999)), \"\"))","v":""},{"$f":"IF(A6=\"\",\"\",_xlfn.XLOOKUP($A6,'MSL Data'!$A5:$A9999,'MSL Data'!B5:B9999,\"\",0))","v":""},{"$f":"IF(B6=\"\",\"\",_xlfn.XLOOKUP($A6,'MSL Data'!$A5:$A9999,'MSL Data'!C5:C9999,\"\",0))","v":""},{"$f":"IF(C6=\"\",\"\",_xlfn.XLOOKUP($A6,'MSL Data'!$A5:$A9999,'MSL Data'!W5:W9999,\"\",0))","v":""},{"$f":"IF(C6=\"\",\"\",_xlfn.XLOOKUP($A6,'MSL Data'!$A5:$A9999,'MSL Data'!D5:D9999,\"\",0))","v":""},{"$f":"IF(E6=\"\",\"\",_xlfn.XLOOKUP($A6,'MSL Data'!$A5:$A9999,'MSL Data'!E5:E9999,\"\",0))","v":""},{"$f":"IF(F6=\"\",\"\",_xlfn.XLOOKUP($A6,'MSL Data'!$A5:$A9999,'MSL Data'!F5:F9999,\"\",0))","v":""},{"$f":"IF(G6=\"\",\"\",_xlfn.XLOOKUP($A6,'MSL Data'!$A5:$A9999,'MSL Data'!G5:G9999,\"\",0))","v":""},{"$f":"IF(H6=\"\",\"\",_xlfn.XLOOKUP($A6,'MSL Data'!$A5:$A9999,'MSL Data'!H5:H9999,\"\",0))","v":""},{"$f":"IF(I6=\"\",\"\",_xlfn.XLOOKUP($A6,'MSL Data'!$A5:$A9999,'MSL Data'!I5:I9999,\"\",0))","v":""},{"$f":"IF(J6=\"\",\"\",_xlfn.XLOOKUP($A6,'MSL Data'!$A5:$A9999,'MSL Data'!J5:J9999,\"\",0))","v":""},{"$f":"IF(K6=\"\",\"\",_xlfn.XLOOKUP($A6,'MSL Data'!$A5:$A9999,'MSL Data'!K5:K9999,\"\",0))","v":""},{"$f":"IF(L6=\"\",\"\",_xlfn.XLOOKUP($A6,'MSL Data'!$A5:$A9999,'MSL Data'!L5:L9999,\"\",0))","v":""},{"$f":"IF(M6=\"\",\"\",_xlfn.XLOOKUP($A6,'MSL Data'!$A5:$A9999,'MSL Data'!M5:M9999,\"\",0))","v":""},{"$f":"IF(N6=\"\",\"\",_xlfn.XLOOKUP($A6,'MSL Data'!$A5:$A9999,'MSL Data'!N5:N9999,\"\",0))","v":""},{"$f":"IF(O6=\"\",\"\",_xlfn.XLOOKUP($A6,'MSL Data'!$A5:$A9999,'MSL Data'!O5:O9999,\"\",0))","v":""},{"$f":"IF(P6=\"\",\"\",_xlfn.XLOOKUP($A6,'MSL Data'!$A5:$A9999,'MSL Data'!P5:P9999,\"\",0))","v":""},{"$f":"IF(Q6=\"\",\"\",_xlfn.XLOOKUP($A6,'MSL Data'!$A5:$A9999,'MSL Data'!Q5:Q9999,\"\",0))","v":""},{"$f":"IF(R6=\"\",\"\",_xlfn.XLOOKUP($A6,'MSL Data'!$A5:$A9999,'MSL Data'!R5:R9999,\"\",0))","v":""},{"$f":"IF(S6=\"\",\"\",_xlfn.XLOOKUP($A6,'MSL Data'!$A5:$A9999,'MSL Data'!S5:S9999,\"\",0))","v":""},{"$f":"IF(T6=\"\",\"\",_xlfn.XLOOKUP($A6,'MSL Data'!$A5:$A9999,'MSL Data'!T5:T9999,\"\",0))","v":""},{"$f":"IF(U6=\"\",\"\",_xlfn.XLOOKUP($A6,'MSL Data'!$A5:$A9999,'MSL Data'!U5:U9999,\"\",0))","v":""},{"$f":"IF(V6=\"\",\"\",_xlfn.XLOOKUP($A6,'MSL Data'!$A5:$A9999,'MSL Data'!V5:V9999,\"\",0))","v":""}]
[null,{"$f":"IF(A7=\"\",\"\",_xlfn.XLOOKUP($A7,'MSL Data'!$A6:$A10000,'MSL Data'!B6:B10000,\"\",0))","v":""},{"$f":"IF(B7=\"\",\"\",_xlfn.XLOOKUP($A7,'MSL Data'!$A6:$A10000,'MSL Data'!C6:C10000,\"\",0))","v":""},{"$f":"IF(C7=\"\",\"\",_xlfn.XLOOKUP($A7,'MSL Data'!$A6:$A10000,'MSL Data'!W6:W10000,\"\",0))","v":""},{"$f":"IF(C7=\"\",\"\",_xlfn.XLOOKUP($A7,'MSL Data'!$A6:$A10000,'MSL Data'!D6:D10000,\"\",0))","v":""},{"$f":"IF(E7=\"\",\"\",_xlfn.XLOOKUP($A7,'MSL Data'!$A6:$A10000,'MSL Data'!E6:E10000,\"\",0))","v":""},{"$f":"IF(F7=\"\",\"\",_xlfn.XLOOKUP($A7,'MSL Data'!$A6:$A10000,'MSL Data'!F6:F10000,\"\",0))","v":""},{"$f":"IF(G7=\"\",\"\",_xlfn.XLOOKUP($A7,'MSL Data'!$A6:$A10000,'MSL Data'!G6:G10000,\"\",0))","v":""},{"$f":"IF(H7=\"\",\"\",_xlfn.XLOOKUP($A7,'MSL Data'!$A6:$A10000,'MSL Data'!H6:H10000,\"\",0))","v":""},{"$f":"IF(I7=\"\",\"\",_xlfn.XLOOKUP($A7,'MSL Data'!$A6:$A10000,'MSL Data'!I6:I10000,\"\",0))","v":""},{"$f":"IF(J7=\"\",\"\",_xlfn.XLOOKUP($A7,'MSL Data'!$A6:$A10000,'MSL Data'!J6:J10000,\"\",0))","v":""},{"$f":"IF(K7=\"\",\"\",_xlfn.XLOOKUP($A7,'MSL Data'!$A6:$A10000,'MSL Data'!K6:K10000,\"\",0))","v":""},{"$f":"IF(L7=\"\",\"\",_xlfn.XLOOKUP($A7,'MSL Data'!$A6:$A10000,'MSL Data'!L6:L10000,\"\",0))","v":""},{"$f":"IF(M7=\"\",\"\",_xlfn.XLOOKUP($A7,'MSL Data'!$A6:$A10000,'MSL Data'!M6:M10000,\"\",0))","v":""},{"$f":"IF(N7=\"\",\"\",_xlfn.XLOOKUP($A7,'MSL Data'!$A6:$A10000,'MSL Data'!N6:N10000,\"\",0))","v":""},{"$f":"IF(O7=\"\",\"\",_xlfn.XLOOKUP($A7,'MSL Data'!$A6:$A10000,'MSL Data'!O6:O10000,\"\",0))","v":""},{"$f":"IF(P7=\"\",\"\",_xlfn.XLOOKUP($A7,'MSL Data'!$A6:$A10000,'MSL Data'!P6:P10000,\"\",0))","v":""},{"$f":"IF(Q7=\"\",\"\",_xlfn.XLOOKUP($A7,'MSL Data'!$A6:$A10000,'MSL Data'!Q6:Q10000,\"\",0))","v":""},{"$f":"IF(R7=\"\",\"\",_xlfn.XLOOKUP($A7,'MSL Data'!$A6:$A10000,'MSL Data'!R6:R10000,\"\",0))","v":""},{"$f":"IF(S7=\"\",\"\",_xlfn.XLOOKUP($A7,'MSL Data'!$A6:$A10000,'MSL Data'!S6:S10000,\"\",0))","v":""},{"$f":"IF(T7=\"\",\"\",_xlfn.XLOOKUP($A7,'MSL Data'!$A6:$A10000,'MSL Data'!T6:T10000,\"\",0))","v":""},{"$f":"IF(U7=\"\",\"\",_xlfn.XLOOKUP($A7,'MSL Data'!$A6:$A10000,'MSL Data'!U6:U10000,\"\",0))","v":""},{"$f":"IF(V7=\"\",\"\",_xlfn.XLOOKUP($A7,'MSL Data'!$A6:$A10000,'MSL Data'!V6:V10000,\"\",0))","v":""}]
[null,{"$f":"IF(A8=\"\",\"\",_xlfn.XLOOKUP($A8,'MSL Data'!$A7:$A10001,'MSL Data'!B7:B10001,\"\",0))","v":""},{"$f":"IF(B8=\"\",\"\",_xlfn.XLOOKUP($A8,'MSL Data'!$A7:$A10001,'MSL Data'!C7:C10001,\"\",0))","v":""},{"$f":"IF(C8=\"\",\"\",_xlfn.XLOOKUP($A8,'MSL Data'!$A7:$A10001,'MSL Data'!W7:W10001,\"\",0))","v":""},{"$f":"IF(C8=\"\",\"\",_xlfn.XLOOKUP($A8,'MSL Data'!$A7:$A10001,'MSL Data'!D7:D10001,\"\",0))","v":""},{"$f":"IF(E8=\"\",\"\",_xlfn.XLOOKUP($A8,'MSL Data'!$A7:$A10001,'MSL Data'!E7:E10001,\"\",0))","v":""},{"$f":"IF(F8=\"\",\"\",_xlfn.XLOOKUP($A8,'MSL Data'!$A7:$A10001,'MSL Data'!F7:F10001,\"\",0))","v":""},{"$f":"IF(G8=\"\",\"\",_xlfn.XLOOKUP($A8,'MSL Data'!$A7:$A10001,'MSL Data'!G7:G10001,\"\",0))","v":""},{"$f":"IF(H8=\"\",\"\",_xlfn.XLOOKUP($A8,'MSL Data'!$A7:$A10001,'MSL Data'!H7:H10001,\"\",0))","v":""},{"$f":"IF(I8=\"\",\"\",_xlfn.XLOOKUP($A8,'MSL Data'!$A7:$A10001,'MSL Data'!I7:I10001,\"\",0))","v":""},{"$f":"IF(J8=\"\",\"\",_xlfn.XLOOKUP($A8,'MSL Data'!$A7:$A10001,'MSL Data'!J7:J10001,\"\",0))","v":""},{"$f":"IF(K8=\"\",\"\",_xlfn.XLOOKUP($A8,'MSL Data'!$A7:$A10001,'MSL Data'!K7:K10001,\"\",0))","v":""},{"$f":"IF(L8=\"\",\"\",_xlfn.XLOOKUP($A8,'MSL Data'!$A7:$A10001,'MSL Data'!L7:L10001,\"\",0))","v":""},{"$f":"IF(M8=\"\",\"\",_xlfn.XLOOKUP($A8,'MSL Data'!$A7:$A10001,'MSL Data'!M7:M10001,\"\",0))","v":""},{"$f":"IF(N8=\"\",\"\",_xlfn.XLOOKUP($A8,'MSL Data'!$A7:$A10001,'MSL Data'!N7:N10001,\"\",0))","v":""},{"$f":"IF(O8=\"\",\"\",_xlfn.XLOOKUP($A8,'MSL Data'!$A7:$A10001,'MSL Data'!O7:O10001,\"\",0))","v":""},{"$f":"IF(P8=\"\",\"\",_xlfn.XLOOKUP($A8,'MSL Data'!$A7:$A10001,'MSL Data'!P7:P10001,\"\",0))","v":""},{"$f":"IF(Q8=\"\",\"\",_xlfn.XLOOKUP($A8,'MSL Data'!$A7:$A10001,'MSL Data'!Q7:Q10001,\"\",0))","v":""},{"$f":"IF(R8=\"\",\"\",_xlfn.XLOOKUP($A8,'MSL Data'!$A7:$A10001,'MSL Data'!R7:R10001,\"\",0))","v":""},{"$f":"IF(S8=\"\",\"\",_xlfn.XLOOKUP($A8,'MSL Data'!$A7:$A10001,'MSL Data'!S7:S10001,\"\",0))","v":""},{"$f":"IF(T8=\"\",\"\",_xlfn.XLOOKUP($A8,'MSL Data'!$A7:$A10001,'MSL Data'!T7:T10001,\"\",0))","v":""},{"$f":"IF(U8=\"\",\"\",_xlfn.XLOOKUP($A8,'MSL Data'!$A7:$A10001,'MSL Data'!U7:U10001,\"\",0))","v":""},{"$f":"IF(V8=\"\",\"\",_xlfn.XLOOKUP($A8,'MSL Data'!$A7:$A10001,'MSL Data'!V7:V10001,\"\",0))","v":""}]
[null,{"$f":"IF(A9=\"\",\"\",_xlfn.XLOOKUP($A9,'MSL Data'!$A8:$A10002,'MSL Data'!B8:B10002,\"\",0))","v":""},{"$f":"IF(B9=\"\",\"\",_xlfn.XLOOKUP($A9,'MSL Data'!$A8:$A10002,'MSL Data'!C8:C10002,\"\",0))","v":""},{"$f":"IF(C9=\"\",\"\",_xlfn.XLOOKUP($A9,'MSL Data'!$A8:$A10002,'MSL Data'!W8:W10002,\"\",0))","v":""},{"$f":"IF(C9=\"\",\"\",_xlfn.XLOOKUP($A9,'MSL Data'!$A8:$A10002,'MSL Data'!D8:D10002,\"\",0))","v":""},{"$f":"IF(E9=\"\",\"\",_xlfn.XLOOKUP($A9,'MSL Data'!$A8:$A10002,'MSL Data'!E8:E10002,\"\",0))","v":""},{"$f":"IF(F9=\"\",\"\",_xlfn.XLOOKUP($A9,'MSL Data'!$A8:$A10002,'MSL Data'!F8:F10002,\"\",0))","v":""},{"$f":"IF(G9=\"\",\"\",_xlfn.XLOOKUP($A9,'MSL Data'!$A8:$A10002,'MSL Data'!G8:G10002,\"\",0))","v":""},{"$f":"IF(H9=\"\",\"\",_xlfn.XLOOKUP($A9,'MSL Data'!$A8:$A10002,'MSL Data'!H8:H10002,\"\",0))","v":""},{"$f":"IF(I9=\"\",\"\",_xlfn.XLOOKUP($A9,'MSL Data'!$A8:$A10002,'MSL Data'!I8:I10002,\"\",0))","v":""},{"$f":"IF(J9=\"\",\"\",_xlfn.XLOOKUP($A9,'MSL Data'!$A8:$A10002,'MSL Data'!J8:J10002,\"\",0))","v":""},{"$f":"IF(K9=\"\",\"\",_xlfn.XLOOKUP($A9,'MSL Data'!$A8:$A10002,'MSL Data'!K8:K10002,\"\",0))","v":""},{"$f":"IF(L9=\"\",\"\",_xlfn.XLOOKUP($A9,'MSL Data'!$A8:$A10002,'MSL Data'!L8:L10002,\"\",0))","v":""},{"$f":"IF(M9=\"\",\"\",_xlfn.XLOOKUP($A9,'MSL Data'!$A8:$A10002,'MSL Data'!M8:M10002,\"\",0))","v":""},{"$f":"IF(N9=\"\",\"\",_xlfn.XLOOKUP($A9,'MSL Data'!$A8:$A10002,'MSL Data'!N8:N10002,\"\",0))","v":""},{"$f":"IF(O9=\"\",\"\",_xlfn.XLOOKUP($A9,'MSL Data'!$A8:$A10002,'MSL Data'!O8:O10002,\"\",0))","v":""},{"$f":"IF(P9=\"\",\"\",_xlfn.XLOOKUP($A9,'MSL Data'!$A8:$A10002,'MSL Data'!P8:P10002,\"\",0))","v":""},{"$f":"IF(Q9=\"\",\"\",_xlfn.XLOOKUP($A9,'MSL Data'!$A8:$A10002,'MSL Data'!Q8:Q10002,\"\",0))","v":""},{"$f":"IF(R9=\"\",\"\",_xlfn.XLOOKUP($A9,'MSL Data'!$A8:$A10002,'MSL Data'!R8:R10002,\"\",0))","v":""},{"$f":"IF(S9=\"\",\"\",_xlfn.XLOOKUP($A9,'MSL Data'!$A8:$A10002,'MSL Data'!S8:S10002,\"\",0))","v":""},{"$f":"IF(T9=\"\",\"\",_xlfn.XLOOKUP($A9,'MSL Data'!$A8:$A10002,'MSL Data'!T8:T10002,\"\",0))","v":""},{"$f":"IF(U9=\"\",\"\",_xlfn.XLOOKUP($A9,'MSL Data'!$A8:$A10002,'MSL Data'!U8:U10002,\"\",0))","v":""},{"$f":"IF(V9=\"\",\"\",_xlfn.XLOOKUP($A9,'MSL Data'!$A8:$A10002,'MSL Data'!V8:V10002,\"\",0))","v":""}]
[null,{"$f":"IF(A10=\"\",\"\",_xlfn.XLOOKUP($A10,'MSL Data'!$A9:$A10003,'MSL Data'!B9:B10003,\"\",0))","v":""},{"$f":"IF(B10=\"\",\"\",_xlfn.XLOOKUP($A10,'MSL Data'!$A9:$A10003,'MSL Data'!C9:C10003,\"\",0))","v":""},{"$f":"IF(C10=\"\",\"\",_xlfn.XLOOKUP($A10,'MSL Data'!$A9:$A10003,'MSL Data'!W9:W10003,\"\",0))","v":""},{"$f":"IF(C10=\"\",\"\",_xlfn.XLOOKUP($A10,'MSL Data'!$A9:$A10003,'MSL Data'!D9:D10003,\"\",0))","v":""},{"$f":"IF(E10=\"\",\"\",_xlfn.XLOOKUP($A10,'MSL Data'!$A9:$A10003,'MSL Data'!E9:E10003,\"\",0))","v":""},{"$f":"IF(F10=\"\",\"\",_xlfn.XLOOKUP($A10,'MSL Data'!$A9:$A10003,'MSL Data'!F9:F10003,\"\",0))","v":""},{"$f":"IF(G10=\"\",\"\",_xlfn.XLOOKUP($A10,'MSL Data'!$A9:$A10003,'MSL Data'!G9:G10003,\"\",0))","v":""},{"$f":"IF(H10=\"\",\"\",_xlfn.XLOOKUP($A10,'MSL Data'!$A9:$A10003,'MSL Data'!H9:H10003,\"\",0))","v":""},{"$f":"IF(I10=\"\",\"\",_xlfn.XLOOKUP($A10,'MSL Data'!$A9:$A10003,'MSL Data'!I9:I10003,\"\",0))","v":""},{"$f":"IF(J10=\"\",\"\",_xlfn.XLOOKUP($A10,'MSL Data'!$A9:$A10003,'MSL Data'!J9:J10003,\"\",0))","v":""},{"$f":"IF(K10=\"\",\"\",_xlfn.XLOOKUP($A10,'MSL Data'!$A9:$A10003,'MSL Data'!K9:K10003,\"\",0))","v":""},{"$f":"IF(L10=\"\",\"\",_xlfn.XLOOKUP($A10,'MSL Data'!$A9:$A10003,'MSL Data'!L9:L10003,\"\",0))","v":""},{"$f":"IF(M10=\"\",\"\",_xlfn.XLOOKUP($A10,'MSL Data'!$A9:$A10003,'MSL Data'!M9:M10003,\"\",0))","v":""},{"$f":"IF(N10=\"\",\"\",_xlfn.XLOOKUP($A10,'MSL Data'!$A9:$A10003,'MSL Data'!N9:N10003,\"\",0))","v":""},{"$f":"IF(O10=\"\",\"\",_xlfn.XLOOKUP($A10,'MSL Data'!$A9:$A10003,'MSL Data'!O9:O10003,\"\",0))","v":""},{"$f":"IF(P10=\"\",\"\",_xlfn.XLOOKUP($A10,'MSL Data'!$A9:$A10003,'MSL Data'!P9:P10003,\"\",0))","v":""},{"$f":"IF(Q10=\"\",\"\",_xlfn.XLOOKUP($A10,'MSL Data'!$A9:$A10003,'MSL Data'!Q9:Q10003,\"\",0))","v":""},{"$f":"IF(R10=\"\",\"\",_xlfn.XLOOKUP($A10,'MSL Data'!$A9:$A10003,'MSL Data'!R9:R10003,\"\",0))","v":""},{"$f":"IF(S10=\"\",\"\",_xlfn.XLOOKUP($A10,'MSL Data'!$A9:$A10003,'MSL Data'!S9:S10003,\"\",0))","v":""},{"$f":"IF(T10=\"\",\"\",_xlfn.XLOOKUP($A10,'MSL Data'!$A9:$A10003,'MSL Data'!T9:T10003,\"\",0))","v":""},{"$f":"IF(U10=\"\",\"\",_xlfn.XLOOKUP($A10,'MSL Data'!$A9:$A10003,'MSL Data'!U9:U10003,\"\",0))","v":""},{"$f":"IF(V10=\"\",\"\",_xlfn.XLOOKUP($A10,'MSL Data'!$A9:$A10003,'MSL Data'!V9:V10003,\"\",0))","v":""}]
[null,{"$f":"IF(A11=\"\",\"\",_xlfn.XLOOKUP($A11,'MSL Data'!$A10:$A10004,'MSL Data'!B10:B10004,\"\",0))","v":""},{"$f":"IF(B11=\"\",\"\",_xlfn.XLOOKUP($A11,'MSL Data'!$A10:$A10004,'MSL Data'!C10:C10004,\"\",0))","v":""},{"$f":"IF(C11=\"\",\"\",_xlfn.XLOOKUP($A11,'MSL Data'!$A10:$A10004,'MSL Data'!W10:W10004,\"\",0))","v":""},{"$f":"IF(C11=\"\",\"\",_xlfn.XLOOKUP($A11,'MSL Data'!$A10:$A10004,'MSL Data'!D10:D10004,\"\",0))","v":""},{"$f":"IF(E11=\"\",\"\",_xlfn.XLOOKUP($A11,'MSL Data'!$A10:$A10004,'MSL Data'!E10:E10004,\"\",0))","v":""},{"$f":"IF(F11=\"\",\"\",_xlfn.XLOOKUP($A11,'MSL Data'!$A10:$A10004,'MSL Data'!F10:F10004,\"\",0))","v":""},{"$f":"IF(G11=\"\",\"\",_xlfn.XLOOKUP($A11,'MSL Data'!$A10:$A10004,'MSL Data'!G10:G10004,\"\",0))","v":""},{"$f":"IF(H11=\"\",\"\",_xlfn.XLOOKUP($A11,'MSL Data'!$A10:$A10004,'MSL Data'!H10:H10004,\"\",0))","v":""},{"$f":"IF(I11=\"\",\"\",_xlfn.XLOOKUP($A11,'MSL Data'!$A10:$A10004,'MSL Data'!I10:I10004,\"\",0))","v":""},{"$f":"IF(J11=\"\",\"\",_xlfn.XLOOKUP($A11,'MSL Data'!$A10:$A10004,'MSL Data'!J10:J10004,\"\",0))","v":""},{"$f":"IF(K11=\"\",\"\",_xlfn.XLOOKUP($A11,'MSL Data'!$A10:$A10004,'MSL Data'!K10:K10004,\"\",0))","v":""},{"$f":"IF(L11=\"\",\"\",_xlfn.XLOOKUP($A11,'MSL Data'!$A10:$A10004,'MSL Data'!L10:L10004,\"\",0))","v":""},{"$f":"IF(M11=\"\",\"\",_xlfn.XLOOKUP($A11,'MSL Data'!$A10:$A10004,'MSL Data'!M10:M10004,\"\",0))","v":""},{"$f":"IF(N11=\"\",\"\",_xlfn.XLOOKUP($A11,'MSL Data'!$A10:$A10004,'MSL Data'!N10:N10004,\"\",0))","v":""},{"$f":"IF(O11=\"\",\"\",_xlfn.XLOOKUP($A11,'MSL Data'!$A10:$A10004,'MSL Data'!O10:O10004,\"\",0))","v":""},{"$f":"IF(P11=\"\",\"\",_xlfn.XLOOKUP($A11,'MSL Data'!$A10:$A10004,'MSL Data'!P10:P10004,\"\",0))","v":""},{"$f":"IF(Q11=\"\",\"\",_xlfn.XLOOKUP($A11,'MSL Data'!$A10:$A10004,'MSL Data'!Q10:Q10004,\"\",0))","v":""},{"$f":"IF(R11=\"\",\"\",_xlfn.XLOOKUP($A11,'MSL Data'!$A10:$A10004,'MSL Data'!R10:R10004,\"\",0))","v":""},{"$f":"IF(S11=\"\",\"\",_xlfn.XLOOKUP($A11,'MSL Data'!$A10:$A10004,'MSL Data'!S10:S10004,\"\",0))","v":""},{"$f":"IF(T11=\"\",\"\",_xlfn.XLOOKUP($A11,'MSL Data'!$A10:$A10004,'MSL Data'!T10:T10004,\"\",0))","v":""},{"$f":"IF(U11=\"\",\"\",_xlfn.XLOOKUP($A11,'MSL Data'!$A10:$A10004,'MSL Data'!U10:U10004,\"\",0))","v":""},{"$f":"IF(V11=\"\",\"\",_xlfn.XLOOKUP($A11,'MSL Data'!$A10:$A10004,'MSL Data'!V10:V10004,\"\",0))","v":""}]
[null,{"$f":"IF(A12=\"\",\"\",_xlfn.XLOOKUP($A12,'MSL Data'!$A11:$A10005,'MSL Data'!B11:B10005,\"\",0))","v":""},{"$f":"IF(B12=\"\",\"\",_xlfn.XLOOKUP($A12,'MSL Data'!$A11:$A10005,'MSL Data'!C11:C10005,\"\",0))","v":""},{"$f":"IF(C12=\"\",\"\",_xlfn.XLOOKUP($A12,'MSL Data'!$A11:$A10005,'MSL Data'!W11:W10005,\"\",0))","v":""},{"$f":"IF(C12=\"\",\"\",_xlfn.XLOOKUP($A12,'MSL Data'!$A11:$A10005,'MSL Data'!D11:D10005,\"\",0))","v":""},{"$f":"IF(E12=\"\",\"\",_xlfn.XLOOKUP($A12,'MSL Data'!$A11:$A10005,'MSL Data'!E11:E10005,\"\",0))","v":""},{"$f":"IF(F12=\"\",\"\",_xlfn.XLOOKUP($A12,'MSL Data'!$A11:$A10005,'MSL Data'!F11:F10005,\"\",0))","v":""},{"$f":"IF(G12=\"\",\"\",_xlfn.XLOOKUP($A12,'MSL Data'!$A11:$A10005,'MSL Data'!G11:G10005,\"\",0))","v":""},{"$f":"IF(H12=\"\",\"\",_xlfn.XLOOKUP($A12,'MSL Data'!$A11:$A10005,'MSL Data'!H11:H10005,\"\",0))","v":""},{"$f":"IF(I12=\"\",\"\",_xlfn.XLOOKUP($A12,'MSL Data'!$A11:$A10005,'MSL Data'!I11:I10005,\"\",0))","v":""},{"$f":"IF(J12=\"\",\"\",_xlfn.XLOOKUP($A12,'MSL Data'!$A11:$A10005,'MSL Data'!J11:J10005,\"\",0))","v":""},{"$f":"IF(K12=\"\",\"\",_xlfn.XLOOKUP($A12,'MSL Data'!$A11:$A10005,'MSL Data'!K11:K10005,\"\",0))","v":""},{"$f":"IF(L12=\"\",\"\",_xlfn.XLOOKUP($A12,'MSL Data'!$A11:$A10005,'MSL Data'!L11:L10005,\"\",0))","v":""},{"$f":"IF(M12=\"\",\"\",_xlfn.XLOOKUP($A12,'MSL Data'!$A11:$A10005,'MSL Data'!M11:M10005,\"\",0))","v":""},{"$f":"IF(N12=\"\",\"\",_xlfn.XLOOKUP($A12,'MSL Data'!$A11:$A10005,'MSL Data'!N11:N10005,\"\",0))","v":""},{"$f":"IF(O12=\"\",\"\",_xlfn.XLOOKUP($A12,'MSL Data'!$A11:$A10005,'MSL Data'!O11:O10005,\"\",0))","v":""},{"$f":"IF(P12=\"\",\"\",_xlfn.XLOOKUP($A12,'MSL Data'!$A11:$A10005,'MSL Data'!P11:P10005,\"\",0))","v":""},{"$f":"IF(Q12=\"\",\"\",_xlfn.XLOOKUP($A12,'MSL Data'!$A11:$A10005,'MSL Data'!Q11:Q10005,\"\",0))","v":""},{"$f":"IF(R12=\"\",\"\",_xlfn.XLOOKUP($A12,'MSL Data'!$A11:$A10005,'MSL Data'!R11:R10005,\"\",0))","v":""},{"$f":"IF(S12=\"\",\"\",_xlfn.XLOOKUP($A12,'MSL Data'!$A11:$A10005,'MSL Data'!S11:S10005,\"\",0))","v":""},{"$f":"IF(T12=\"\",\"\",_xlfn.XLOOKUP($A12,'MSL Data'!$A11:$A10005,'MSL Data'!T11:T10005,\"\",0))","v":""},{"$f":"IF(U12=\"\",\"\",_xlfn.XLOOKUP($A12,'MSL Data'!$A11:$A10005,'MSL Data'!U11:U10005,\"\",0))","v":""},{"$f":"IF(V12=\"\",\"\",_xlfn.XLOOKUP($A12,'MSL Data'!$A11:$A10005,'MSL Data'!V11:V10005,\"\",0))","v":""}]
[null,{"$f":"IF(A13=\"\",\"\",_xlfn.XLOOKUP($A13,'MSL Data'!$A12:$A10006,'MSL Data'!B12:B10006,\"\",0))","v":""},{"$f":"IF(B13=\"\",\"\",_xlfn.XLOOKUP($A13,'MSL Data'!$A12:$A10006,'MSL Data'!C12:C10006,\"\",0))","v":""},{"$f":"IF(C13=\"\",\"\",_xlfn.XLOOKUP($A13,'MSL Data'!$A12:$A10006,'MSL Data'!W12:W10006,\"\",0))","v":""},{"$f":"IF(C13=\"\",\"\",_xlfn.XLOOKUP($A13,'MSL Data'!$A12:$A10006,'MSL Data'!D12:D10006,\"\",0))","v":""},{"$f":"IF(E13=\"\",\"\",_xlfn.XLOOKUP($A13,'MSL Data'!$A12:$A10006,'MSL Data'!E12:E10006,\"\",0))","v":""},{"$f":"IF(F13=\"\",\"\",_xlfn.XLOOKUP($A13,'MSL Data'!$A12:$A10006,'MSL Data'!F12:F10006,\"\",0))","v":""},{"$f":"IF(G13=\"\",\"\",_xlfn.XLOOKUP($A13,'MSL Data'!$A12:$A10006,'MSL Data'!G12:G10006,\"\",0))","v":""},{"$f":"IF(H13=\"\",\"\",_xlfn.XLOOKUP($A13,'MSL Data'!$A12:$A10006,'MSL Data'!H12:H10006,\"\",0))","v":""},{"$f":"IF(I13=\"\",\"\",_xlfn.XLOOKUP($A13,'MSL Data'!$A12:$A10006,'MSL Data'!I12:I10006,\"\",0))","v":""},{"$f":"IF(J13=\"\",\"\",_xlfn.XLOOKUP($A13,'MSL Data'!$A12:$A10006,'MSL Data'!J12:J10006,\"\",0))","v":""},{"$f":"IF(K13=\"\",\"\",_xlfn.XLOOKUP($A13,'MSL Data'!$A12:$A10006,'MSL Data'!K12:K10006,\"\",0))","v":""},{"$f":"IF(L13=\"\",\"\",_xlfn.XLOOKUP($A13,'MSL Data'!$A12:$A10006,'MSL Data'!L12:L10006,\"\",0))","v":""},{"$f":"IF(M13=\"\",\"\",_xlfn.XLOOKUP($A13,'MSL Data'!$A12:$A10006,'MSL Data'!M12:M10006,\"\",0))","v":""},{"$f":"IF(N13=\"\",\"\",_xlfn.XLOOKUP($A13,'MSL Data'!$A12:$A10006,'MSL Data'!N12:N10006,\"\",0))","v":""},{"$f":"IF(O13=\"\",\"\",_xlfn.XLOOKUP($A13,'MSL Data'!$A12:$A10006,'MSL Data'!O12:O10006,\"\",0))","v":""},{"$f":"IF(P13=\"\",\"\",_xlfn.XLOOKUP($A13,'MSL Data'!$A12:$A10006,'MSL Data'!P12:P10006,\"\",0))","v":""},{"$f":"IF(Q13=\"\",\"\",_xlfn.XLOOKUP($A13,'MSL Data'!$A12:$A10006,'MSL Data'!Q12:Q10006,\"\",0))","v":""},{"$f":"IF(R13=\"\",\"\",_xlfn.XLOOKUP($A13,'MSL Data'!$A12:$A10006,'MSL Data'!R12:R10006,\"\",0))","v":""},{"$f":"IF(S13=\"\",\"\",_xlfn.XLOOKUP($A13,'MSL Data'!$A12:$A10006,'MSL Data'!S12:S10006,\"\",0))","v":""},{"$f":"IF(T13=\"\",\"\",_xlfn.XLOOKUP($A13,'MSL Data'!$A12:$A10006,'MSL Data'!T12:T10006,\"\",0))","v":""},{"$f":"IF(U13=\"\",\"\",_xlfn.XLOOKUP($A13,'MSL Data'!$A12:$A10006,'MSL Data'!U12:U10006,\"\",0))","v":""},{"$f":"IF(V13=\"\",\"\",_xlfn.XLOOKUP($A13,'MSL Data'!$A12:$A10006,'MSL Data'!V12:V10006,\"\",0))","v":""}]
[null,{"$f":"IF(A14=\"\",\"\",_xlfn.XLOOKUP($A14,'MSL Data'!$A13:$A10007,'MSL Data'!B13:B10007,\"\",0))","v":""},{"$f":"IF(B14=\"\",\"\",_xlfn.XLOOKUP($A14,'MSL Data'!$A13:$A10007,'MSL Data'!C13:C10007,\"\",0))","v":""},{"$f":"IF(C14=\"\",\"\",_xlfn.XLOOKUP($A14,'MSL Data'!$A13:$A10007,'MSL Data'!W13:W10007,\"\",0))","v":""},{"$f":"IF(C14=\"\",\"\",_xlfn.XLOOKUP($A14,'MSL Data'!$A13:$A10007,'MSL Data'!D13:D10007,\"\",0))","v":""},{"$f":"IF(E14=\"\",\"\",_xlfn.XLOOKUP($A14,'MSL Data'!$A13:$A10007,'MSL Data'!E13:E10007,\"\",0))","v":""},{"$f":"IF(F14=\"\",\"\",_xlfn.XLOOKUP($A14,'MSL Data'!$A13:$A10007,'MSL Data'!F13:F10007,\"\",0))","v":""},{"$f":"IF(G14=\"\",\"\",_xlfn.XLOOKUP($A14,'MSL Data'!$A13:$A10007,'MSL Data'!G13:G10007,\"\",0))","v":""},{"$f":"IF(H14=\"\",\"\",_xlfn.XLOOKUP($A14,'MSL Data'!$A13:$A10007,'MSL Data'!H13:H10007,\"\",0))","v":""},{"$f":"IF(I14=\"\",\"\",_xlfn.XLOOKUP($A14,'MSL Data'!$A13:$A10007,'MSL Data'!I13:I10007,\"\",0))","v":""},{"$f":"IF(J14=\"\",\"\",_xlfn.XLOOKUP($A14,'MSL Data'!$A13:$A10007,'MSL Data'!J13:J10007,\"\",0))","v":""},{"$f":"IF(K14=\"\",\"\",_xlfn.XLOOKUP($A14,'MSL Data'!$A13:$A10007,'MSL Data'!K13:K10007,\"\",0))","v":""},{"$f":"IF(L14=\"\",\"\",_xlfn.XLOOKUP($A14,'MSL Data'!$A13:$A10007,'MSL Data'!L13:L10007,\"\",0))","v":""},{"$f":"IF(M14=\"\",\"\",_xlfn.XLOOKUP($A14,'MSL Data'!$A13:$A10007,'MSL Data'!M13:M10007,\"\",0))","v":""},{"$f":"IF(N14=\"\",\"\",_xlfn.XLOOKUP($A14,'MSL Data'!$A13:$A10007,'MSL Data'!N13:N10007,\"\",0))","v":""},{"$f":"IF(O14=\"\",\"\",_xlfn.XLOOKUP($A14,'MSL Data'!$A13:$A10007,'MSL Data'!O13:O10007,\"\",0))","v":""},{"$f":"IF(P14=\"\",\"\",_xlfn.XLOOKUP($A14,'MSL Data'!$A13:$A10007,'MSL Data'!P13:P10007,\"\",0))","v":""},{"$f":"IF(Q14=\"\",\"\",_xlfn.XLOOKUP($A14,'MSL Data'!$A13:$A10007,'MSL Data'!Q13:Q10007,\"\",0))","v":""},{"$f":"IF(R14=\"\",\"\",_xlfn.XLOOKUP($A14,'MSL Data'!$A13:$A10007,'MSL Data'!R13:R10007,\"\",0))","v":""},{"$f":"IF(S14=\"\",\"\",_xlfn.XLOOKUP($A14,'MSL Data'!$A13:$A10007,'MSL Data'!S13:S10007,\"\",0))","v":""},{"$f":"IF(T14=\"\",\"\",_xlfn.XLOOKUP($A14,'MSL Data'!$A13:$A10007,'MSL Data'!T13:T10007,\"\",0))","v":""},{"$f":"IF(U14=\"\",\"\",_xlfn.XLOOKUP($A14,'MSL Data'!$A13:$A10007,'MSL Data'!U13:U10007,\"\",0))","v":""},{"$f":"IF(V14=\"\",\"\",_xlfn.XLOOKUP($A14,'MSL Data'!$A13:$A10007,'MSL Data'!V13:V10007,\"\",0))","v":""}]
[null,{"$f":"IF(A15=\"\",\"\",_xlfn.XLOOKUP($A15,'MSL Data'!$A14:$A10008,'MSL Data'!B14:B10008,\"\",0))","v":""},{"$f":"IF(B15=\"\",\"\",_xlfn.XLOOKUP($A15,'MSL Data'!$A14:$A10008,'MSL Data'!C14:C10008,\"\",0))","v":""},{"$f":"IF(C15=\"\",\"\",_xlfn.XLOOKUP($A15,'MSL Data'!$A14:$A10008,'MSL Data'!W14:W10008,\"\",0))","v":""},{"$f":"IF(C15=\"\",\"\",_xlfn.XLOOKUP($A15,'MSL Data'!$A14:$A10008,'MSL Data'!D14:D10008,\"\",0))","v":""},{"$f":"IF(E15=\"\",\"\",_xlfn.XLOOKUP($A15,'MSL Data'!$A14:$A10008,'MSL Data'!E14:E10008,\"\",0))","v":""},{"$f":"IF(F15=\"\",\"\",_xlfn.XLOOKUP($A15,'MSL Data'!$A14:$A10008,'MSL Data'!F14:F10008,\"\",0))","v":""},{"$f":"IF(G15=\"\",\"\",_xlfn.XLOOKUP($A15,'MSL Data'!$A14:$A10008,'MSL Data'!G14:G10008,\"\",0))","v":""},{"$f":"IF(H15=\"\",\"\",_xlfn.XLOOKUP($A15,'MSL Data'!$A14:$A10008,'MSL Data'!H14:H10008,\"\",0))","v":""},{"$f":"IF(I15=\"\",\"\",_xlfn.XLOOKUP($A15,'MSL Data'!$A14:$A10008,'MSL Data'!I14:I10008,\"\",0))","v":""},{"$f":"IF(J15=\"\",\"\",_xlfn.XLOOKUP($A15,'MSL Data'!$A14:$A10008,'MSL Data'!J14:J10008,\"\",0))","v":""},{"$f":"IF(K15=\"\",\"\",_xlfn.XLOOKUP($A15,'MSL Data'!$A14:$A10008,'MSL Data'!K14:K10008,\"\",0))","v":""},{"$f":"IF(L15=\"\",\"\",_xlfn.XLOOKUP($A15,'MSL Data'!$A14:$A10008,'MSL Data'!L14:L10008,\"\",0))","v":""},{"$f":"IF(M15=\"\",\"\",_xlfn.XLOOKUP($A15,'MSL Data'!$A14:$A10008,'MSL Data'!M14:M10008,\"\",0))","v":""},{"$f":"IF(N15=\"\",\"\",_xlfn.XLOOKUP($A15,'MSL Data'!$A14:$A10008,'MSL Data'!N14:N10008,\"\",0))","v":""},{"$f":"IF(O15=\"\",\"\",_xlfn.XLOOKUP($A15,'MSL Data'!$A14:$A10008,'MSL Data'!O14:O10008,\"\",0))","v":""},{"$f":"IF(P15=\"\",\"\",_xlfn.XLOOKUP($A15,'MSL Data'!$A14:$A10008,'MSL Data'!P14:P10008,\"\",0))","v":""},{"$f":"IF(Q15=\"\",\"\",_xlfn.XLOOKUP($A15,'MSL Data'!$A14:$A10008,'MSL Data'!Q14:Q10008,\"\",0))","v":""},{"$f":"IF(R15=\"\",\"\",_xlfn.XLOOKUP($A15,'MSL Data'!$A14:$A10008,'MSL Data'!R14:R10008,\"\",0))","v":""},{"$f":"IF(S15=\"\",\"\",_xlfn.XLOOKUP($A15,'MSL Data'!$A14:$A10008,'MSL Data'!S14:S10008,\"\",0))","v":""},{"$f":"IF(T15=\"\",\"\",_xlfn.XLOOKUP($A15,'MSL Data'!$A14:$A10008,'MSL Data'!T14:T10008,\"\",0))","v":""},{"$f":"IF(U15=\"\",\"\",_xlfn.XLOOKUP($A15,'MSL Data'!$A14:$A10008,'MSL Data'!U14:U10008,\"\",0))","v":""},{"$f":"IF(V15=\"\",\"\",_xlfn.XLOOKUP($A15,'MSL Data'!$A14:$A10008,'MSL Data'!V14:V10008,\"\",0))","v":""}]
[null,{"$f":"IF(A16=\"\",\"\",_xlfn.XLOOKUP($A16,'MSL Data'!$A15:$A10009,'MSL Data'!B15:B10009,\"\",0))","v":""},{"$f":"IF(B16=\"\",\"\",_xlfn.XLOOKUP($A16,'MSL Data'!$A15:$A10009,'MSL Data'!C15:C10009,\"\",0))","v":""},{"$f":"IF(C16=\"\",\"\",_xlfn.XLOOKUP($A16,'MSL Data'!$A15:$A10009,'MSL Data'!W15:W10009,\"\",0))","v":""},{"$f":"IF(C16=\"\",\"\",_xlfn.XLOOKUP($A16,'MSL Data'!$A15:$A10009,'MSL Data'!D15:D10009,\"\",0))","v":""},{"$f":"IF(E16=\"\",\"\",_xlfn.XLOOKUP($A16,'MSL Data'!$A15:$A10009,'MSL Data'!E15:E10009,\"\",0))","v":""},{"$f":"IF(F16=\"\",\"\",_xlfn.XLOOKUP($A16,'MSL Data'!$A15:$A10009,'MSL Data'!F15:F10009,\"\",0))","v":""},{"$f":"IF(G16=\"\",\"\",_xlfn.XLOOKUP($A16,'MSL Data'!$A15:$A10009,'MSL Data'!G15:G10009,\"\",0))","v":""},{"$f":"IF(H16=\"\",\"\",_xlfn.XLOOKUP($A16,'MSL Data'!$A15:$A10009,'MSL Data'!H15:H10009,\"\",0))","v":""},{"$f":"IF(I16=\"\",\"\",_xlfn.XLOOKUP($A16,'MSL Data'!$A15:$A10009,'MSL Data'!I15:I10009,\"\",0))","v":""},{"$f":"IF(J16=\"\",\"\",_xlfn.XLOOKUP($A16,'MSL Data'!$A15:$A10009,'MSL Data'!J15:J10009,\"\",0))","v":""},{"$f":"IF(K16=\"\",\"\",_xlfn.XLOOKUP($A16,'MSL Data'!$A15:$A10009,'MSL Data'!K15:K10009,\"\",0))","v":""},{"$f":"IF(L16=\"\",\"\",_xlfn.XLOOKUP($A16,'MSL Data'!$A15:$A10009,'MSL Data'!L15:L10009,\"\",0))","v":""},{"$f":"IF(M16=\"\",\"\",_xlfn.XLOOKUP($A16,'MSL Data'!$A15:$A10009,'MSL Data'!M15:M10009,\"\",0))","v":""},{"$f":"IF(N16=\"\",\"\",_xlfn.XLOOKUP($A16,'MSL Data'!$A15:$A10009,'MSL Data'!N15:N10009,\"\",0))","v":""},{"$f":"IF(O16=\"\",\"\",_xlfn.XLOOKUP($A16,'MSL Data'!$A15:$A10009,'MSL Data'!O15:O10009,\"\",0))","v":""},{"$f":"IF(P16=\"\",\"\",_xlfn.XLOOKUP($A16,'MSL Data'!$A15:$A10009,'MSL Data'!P15:P10009,\"\",0))","v":""},{"$f":"IF(Q16=\"\",\"\",_xlfn.XLOOKUP($A16,'MSL Data'!$A15:$A10009,'MSL Data'!Q15:Q10009,\"\",0))","v":""},{"$f":"IF(R16=\"\",\"\",_xlfn.XLOOKUP($A16,'MSL Data'!$A15:$A10009,'MSL Data'!R15:R10009,\"\",0))","v":""},{"$f":"IF(S16=\"\",\"\",_xlfn.XLOOKUP($A16,'MSL Data'!$A15:$A10009,'MSL Data'!S15:S10009,\"\",0))","v":""},{"$f":"IF(T16=\"\",\"\",_xlfn.XLOOKUP($A16,'MSL Data'!$A15:$A10009,'MSL Data'!T15:T10009,\"\",0))","v":""},{"$f":"IF(U16=\"\",\"\",_xlfn.XLOOKUP($A16,'MSL Data'!$A15:$A10009,'MSL Data'!U15:U10009,\"\",0))","v":""},{"$f":"IF(V16=\"\",\"\",_xlfn.XLOOKUP($A16,'MSL Data'!$A15:$A10009,'MSL Data'!V15:V10009,\"\",0))","v":""}]
[null,{"$f":"IF(A17=\"\",\"\",_xlfn.XLOOKUP($A17,'MSL Data'!$A16:$A10010,'MSL Data'!B16:B10010,\"\",0))","v":""},{"$f":"IF(B17=\"\",\"\",_xlfn.XLOOKUP($A17,'MSL Data'!$A16:$A10010,'MSL Data'!C16:C10010,\"\",0))","v":""},{"$f":"IF(C17=\"\",\"\",_xlfn.XLOOKUP($A17,'MSL Data'!$A16:$A10010,'MSL Data'!W16:W10010,\"\",0))","v":""},{"$f":"IF(C17=\"\",\"\",_xlfn.XLOOKUP($A17,'MSL Data'!$A16:$A10010,'MSL Data'!D16:D10010,\"\",0))","v":""},{"$f":"IF(E17=\"\",\"\",_xlfn.XLOOKUP($A17,'MSL Data'!$A16:$A10010,'MSL Data'!E16:E10010,\"\",0))","v":""},{"$f":"IF(F17=\"\",\"\",_xlfn.XLOOKUP($A17,'MSL Data'!$A16:$A10010,'MSL Data'!F16:F10010,\"\",0))","v":""},{"$f":"IF(G17=\"\",\"\",_xlfn.XLOOKUP($A17,'MSL Data'!$A16:$A10010,'MSL Data'!G16:G10010,\"\",0))","v":""},{"$f":"IF(H17=\"\",\"\",_xlfn.XLOOKUP($A17,'MSL Data'!$A16:$A10010,'MSL Data'!H16:H10010,\"\",0))","v":""},{"$f":"IF(I17=\"\",\"\",_xlfn.XLOOKUP($A17,'MSL Data'!$A16:$A10010,'MSL Data'!I16:I10010,\"\",0))","v":""},{"$f":"IF(J17=\"\",\"\",_xlfn.XLOOKUP($A17,'MSL Data'!$A16:$A10010,'MSL Data'!J16:J10010,\"\",0))","v":""},{"$f":"IF(K17=\"\",\"\",_xlfn.XLOOKUP($A17,'MSL Data'!$A16:$A10010,'MSL Data'!K16:K10010,\"\",0))","v":""},{"$f":"IF(L17=\"\",\"\",_xlfn.XLOOKUP($A17,'MSL Data'!$A16:$A10010,'MSL Data'!L16:L10010,\"\",0))","v":""},{"$f":"IF(M17=\"\",\"\",_xlfn.XLOOKUP($A17,'MSL Data'!$A16:$A10010,'MSL Data'!M16:M10010,\"\",0))","v":""},{"$f":"IF(N17=\"\",\"\",_xlfn.XLOOKUP($A17,'MSL Data'!$A16:$A10010,'MSL Data'!N16:N10010,\"\",0))","v":""},{"$f":"IF(O17=\"\",\"\",_xlfn.XLOOKUP($A17,'MSL Data'!$A16:$A10010,'MSL Data'!O16:O10010,\"\",0))","v":""},{"$f":"IF(P17=\"\",\"\",_xlfn.XLOOKUP($A17,'MSL Data'!$A16:$A10010,'MSL Data'!P16:P10010,\"\",0))","v":""},{"$f":"IF(Q17=\"\",\"\",_xlfn.XLOOKUP($A17,'MSL Data'!$A16:$A10010,'MSL Data'!Q16:Q10010,\"\",0))","v":""},{"$f":"IF(R17=\"\",\"\",_xlfn.XLOOKUP($A17,'MSL Data'!$A16:$A10010,'MSL Data'!R16:R10010,\"\",0))","v":""},{"$f":"IF(S17=\"\",\"\",_xlfn.XLOOKUP($A17,'MSL Data'!$A16:$A10010,'MSL Data'!S16:S10010,\"\",0))","v":""},{"$f":"IF(T17=\"\",\"\",_xlfn.XLOOKUP($A17,'MSL Data'!$A16:$A10010,'MSL Data'!T16:T10010,\"\",0))","v":""},{"$f":"IF(U17=\"\",\"\",_xlfn.XLOOKUP($A17,'MSL Data'!$A16:$A10010,'MSL Data'!U16:U10010,\"\",0))","v":""},{"$f":"IF(V17=\"\",\"\",_xlfn.XLOOKUP($A17,'MSL Data'!$A16:$A10010,'MSL Data'!V16:V10010,\"\",0))","v":""}]
[null,{"$f":"IF(A18=\"\",\"\",_xlfn.XLOOKUP($A18,'MSL Data'!$A17:$A10011,'MSL Data'!B17:B10011,\"\",0))","v":""},{"$f":"IF(B18=\"\",\"\",_xlfn.XLOOKUP($A18,'MSL Data'!$A17:$A10011,'MSL Data'!C17:C10011,\"\",0))","v":""},{"$f":"IF(C18=\"\",\"\",_xlfn.XLOOKUP($A18,'MSL Data'!$A17:$A10011,'MSL Data'!W17:W10011,\"\",0))","v":""},{"$f":"IF(C18=\"\",\"\",_xlfn.XLOOKUP($A18,'MSL Data'!$A17:$A10011,'MSL Data'!D17:D10011,\"\",0))","v":""},{"$f":"IF(E18=\"\",\"\",_xlfn.XLOOKUP($A18,'MSL Data'!$A17:$A10011,'MSL Data'!E17:E10011,\"\",0))","v":""},{"$f":"IF(F18=\"\",\"\",_xlfn.XLOOKUP($A18,'MSL Data'!$A17:$A10011,'MSL Data'!F17:F10011,\"\",0))","v":""},{"$f":"IF(G18=\"\",\"\",_xlfn.XLOOKUP($A18,'MSL Data'!$A17:$A10011,'MSL Data'!G17:G10011,\"\",0))","v":""},{"$f":"IF(H18=\"\",\"\",_xlfn.XLOOKUP($A18,'MSL Data'!$A17:$A10011,'MSL Data'!H17:H10011,\"\",0))","v":""},{"$f":"IF(I18=\"\",\"\",_xlfn.XLOOKUP($A18,'MSL Data'!$A17:$A10011,'MSL Data'!I17:I10011,\"\",0))","v":""},{"$f":"IF(J18=\"\",\"\",_xlfn.XLOOKUP($A18,'MSL Data'!$A17:$A10011,'MSL Data'!J17:J10011,\"\",0))","v":""},{"$f":"IF(K18=\"\",\"\",_xlfn.XLOOKUP($A18,'MSL Data'!$A17:$A10011,'MSL Data'!K17:K10011,\"\",0))","v":""},{"$f":"IF(L18=\"\",\"\",_xlfn.XLOOKUP($A18,'MSL Data'!$A17:$A10011,'MSL Data'!L17:L10011,\"\",0))","v":""},{"$f":"IF(M18=\"\",\"\",_xlfn.XLOOKUP($A18,'MSL Data'!$A17:$A10011,'MSL Data'!M17:M10011,\"\",0))","v":""},{"$f":"IF(N18=\"\",\"\",_xlfn.XLOOKUP($A18,'MSL Data'!$A17:$A10011,'MSL Data'!N17:N10011,\"\",0))","v":""},{"$f":"IF(O18=\"\",\"\",_xlfn.XLOOKUP($A18,'MSL Data'!$A17:$A10011,'MSL Data'!O17:O10011,\"\",0))","v":""},{"$f":"IF(P18=\"\",\"\",_xlfn.XLOOKUP($A18,'MSL Data'!$A17:$A10011,'MSL Data'!P17:P10011,\"\",0))","v":""},{"$f":"IF(Q18=\"\",\"\",_xlfn.XLOOKUP($A18,'MSL Data'!$A17:$A10011,'MSL Data'!Q17:Q10011,\"\",0))","v":""},{"$f":"IF(R18=\"\",\"\",_xlfn.XLOOKUP($A18,'MSL Data'!$A17:$A10011,'MSL Data'!R17:R10011,\"\",0))","v":""},{"$f":"IF(S18=\"\",\"\",_xlfn.XLOOKUP($A18,'MSL Data'!$A17:$A10011,'MSL Data'!S17:S10011,\"\",0))","v":""},{"$f":"IF(T18=\"\",\"\",_xlfn.XLOOKUP($A18,'MSL Data'!$A17:$A10011,'MSL Data'!T17:T10011,\"\",0))","v":""},{"$f":"IF(U18=\"\",\"\",_xlfn.XLOOKUP($A18,'MSL Data'!$A17:$A10011,'MSL Data'!U17:U10011,\"\",0))","v":""},{"$f":"IF(V18=\"\",\"\",_xlfn.XLOOKUP($A18,'MSL Data'!$A17:$A10011,'MSL Data'!V17:V10011,\"\",0))","v":""}]
[null,{"$f":"IF(A19=\"\",\"\",_xlfn.XLOOKUP($A19,'MSL Data'!$A18:$A10012,'MSL Data'!B18:B10012,\"\",0))","v":""},{"$f":"IF(B19=\"\",\"\",_xlfn.XLOOKUP($A19,'MSL Data'!$A18:$A10012,'MSL Data'!C18:C10012,\"\",0))","v":""},{"$f":"IF(C19=\"\",\"\",_xlfn.XLOOKUP($A19,'MSL Data'!$A18:$A10012,'MSL Data'!W18:W10012,\"\",0))","v":""},{"$f":"IF(C19=\"\",\"\",_xlfn.XLOOKUP($A19,'MSL Data'!$A18:$A10012,'MSL Data'!D18:D10012,\"\",0))","v":""},{"$f":"IF(E19=\"\",\"\",_xlfn.XLOOKUP($A19,'MSL Data'!$A18:$A10012,'MSL Data'!E18:E10012,\"\",0))","v":""},{"$f":"IF(F19=\"\",\"\",_xlfn.XLOOKUP($A19,'MSL Data'!$A18:$A10012,'MSL Data'!F18:F10012,\"\",0))","v":""},{"$f":"IF(G19=\"\",\"\",_xlfn.XLOOKUP($A19,'MSL Data'!$A18:$A10012,'MSL Data'!G18:G10012,\"\",0))","v":""},{"$f":"IF(H19=\"\",\"\",_xlfn.XLOOKUP($A19,'MSL Data'!$A18:$A10012,'MSL Data'!H18:H10012,\"\",0))","v":""},{"$f":"IF(I19=\"\",\"\",_xlfn.XLOOKUP($A19,'MSL Data'!$A18:$A10012,'MSL Data'!I18:I10012,\"\",0))","v":""},{"$f":"IF(J19=\"\",\"\",_xlfn.XLOOKUP($A19,'MSL Data'!$A18:$A10012,'MSL Data'!J18:J10012,\"\",0))","v":""},{"$f":"IF(K19=\"\",\"\",_xlfn.XLOOKUP($A19,'MSL Data'!$A18:$A10012,'MSL Data'!K18:K10012,\"\",0))","v":""},{"$f":"IF(L19=\"\",\"\",_xlfn.XLOOKUP($A19,'MSL Data'!$A18:$A10012,'MSL Data'!L18:L10012,\"\",0))","v":""},{"$f":"IF(M19=\"\",\"\",_xlfn.XLOOKUP($A19,'MSL Data'!$A18:$A10012,'MSL Data'!M18:M10012,\"\",0))","v":""},{"$f":"IF(N19=\"\",\"\",_xlfn.XLOOKUP($A19,'MSL Data'!$A18:$A10012,'MSL Data'!N18:N10012,\"\",0))","v":""},{"$f":"IF(O19=\"\",\"\",_xlfn.XLOOKUP($A19,'MSL Data'!$A18:$A10012,'MSL Data'!O18:O10012,\"\",0))","v":""},{"$f":"IF(P19=\"\",\"\",_xlfn.XLOOKUP($A19,'MSL Data'!$A18:$A10012,'MSL Data'!P18:P10012,\"\",0))","v":""},{"$f":"IF(Q19=\"\",\"\",_xlfn.XLOOKUP($A19,'MSL Data'!$A18:$A10012,'MSL Data'!Q18:Q10012,\"\",0))","v":""},{"$f":"IF(R19=\"\",\"\",_xlfn.XLOOKUP($A19,'MSL Data'!$A18:$A10012,'MSL Data'!R18:R10012,\"\",0))","v":""},{"$f":"IF(S19=\"\",\"\",_xlfn.XLOOKUP($A19,'MSL Data'!$A18:$A10012,'MSL Data'!S18:S10012,\"\",0))","v":""},{"$f":"IF(T19=\"\",\"\",_xlfn.XLOOKUP($A19,'MSL Data'!$A18:$A10012,'MSL Data'!T18:T10012,\"\",0))","v":""},{"$f":"IF(U19=\"\",\"\",_xlfn.XLOOKUP($A19,'MSL Data'!$A18:$A10012,'MSL Data'!U18:U10012,\"\",0))","v":""},{"$f":"IF(V19=\"\",\"\",_xlfn.XLOOKUP($A19,'MSL Data'!$A18:$A10012,'MSL Data'!V18:V10012,\"\",0))","v":""}]
[null,{"$f":"IF(A20=\"\",\"\",_xlfn.XLOOKUP($A20,'MSL Data'!$A19:$A10013,'MSL Data'!B19:B10013,\"\",0))","v":""},{"$f":"IF(B20=\"\",\"\",_xlfn.XLOOKUP($A20,'MSL Data'!$A19:$A10013,'MSL Data'!C19:C10013,\"\",0))","v":""},{"$f":"IF(C20=\"\",\"\",_xlfn.XLOOKUP($A20,'MSL Data'!$A19:$A10013,'MSL Data'!W19:W10013,\"\",0))","v":""},{"$f":"IF(C20=\"\",\"\",_xlfn.XLOOKUP($A20,'MSL Data'!$A19:$A10013,'MSL Data'!D19:D10013,\"\",0))","v":""},{"$f":"IF(E20=\"\",\"\",_xlfn.XLOOKUP($A20,'MSL Data'!$A19:$A10013,'MSL Data'!E19:E10013,\"\",0))","v":""},{"$f":"IF(F20=\"\",\"\",_xlfn.XLOOKUP($A20,'MSL Data'!$A19:$A10013,'MSL Data'!F19:F10013,\"\",0))","v":""},{"$f":"IF(G20=\"\",\"\",_xlfn.XLOOKUP($A20,'MSL Data'!$A19:$A10013,'MSL Data'!G19:G10013,\"\",0))","v":""},{"$f":"IF(H20=\"\",\"\",_xlfn.XLOOKUP($A20,'MSL Data'!$A19:$A10013,'MSL Data'!H19:H10013,\"\",0))","v":""},{"$f":"IF(I20=\"\",\"\",_xlfn.XLOOKUP($A20,'MSL Data'!$A19:$A10013,'MSL Data'!I19:I10013,\"\",0))","v":""},{"$f":"IF(J20=\"\",\"\",_xlfn.XLOOKUP($A20,'MSL Data'!$A19:$A10013,'MSL Data'!J19:J10013,\"\",0))","v":""},{"$f":"IF(K20=\"\",\"\",_xlfn.XLOOKUP($A20,'MSL Data'!$A19:$A10013,'MSL Data'!K19:K10013,\"\",0))","v":""},{"$f":"IF(L20=\"\",\"\",_xlfn.XLOOKUP($A20,'MSL Data'!$A19:$A10013,'MSL Data'!L19:L10013,\"\",0))","v":""},{"$f":"IF(M20=\"\",\"\",_xlfn.XLOOKUP($A20,'MSL Data'!$A19:$A10013,'MSL Data'!M19:M10013,\"\",0))","v":""},{"$f":"IF(N20=\"\",\"\",_xlfn.XLOOKUP($A20,'MSL Data'!$A19:$A10013,'MSL Data'!N19:N10013,\"\",0))","v":""},{"$f":"IF(O20=\"\",\"\",_xlfn.XLOOKUP($A20,'MSL Data'!$A19:$A10013,'MSL Data'!O19:O10013,\"\",0))","v":""},{"$f":"IF(P20=\"\",\"\",_xlfn.XLOOKUP($A20,'MSL Data'!$A19:$A10013,'MSL Data'!P19:P10013,\"\",0))","v":""},{"$f":"IF(Q20=\"\",\"\",_xlfn.XLOOKUP($A20,'MSL Data'!$A19:$A10013,'MSL Data'!Q19:Q10013,\"\",0))","v":""},{"$f":"IF(R20=\"\",\"\",_xlfn.XLOOKUP($A20,'MSL Data'!$A19:$A10013,'MSL Data'!R19:R10013,\"\",0))","v":""},{"$f":"IF(S20=\"\",\"\",_xlfn.XLOOKUP($A20,'MSL Data'!$A19:$A10013,'MSL Data'!S19:S10013,\"\",0))","v":""},{"$f":"IF(T20=\"\",\"\",_xlfn.XLOOKUP($A20,'MSL Data'!$A19:$A10013,'MSL Data'!T19:T10013,\"\",0))","v":""},{"$f":"IF(U20=\"\",\"\",_xlfn.XLOOKUP($A20,'MSL Data'!$A19:$A10013,'MSL Data'!U19:U10013,\"\",0))","v":""},{"$f":"IF(V20=\"\",\"\",_xlfn.XLOOKUP($A20,'MSL Data'!$A19:$A10013,'MSL Data'!V19:V10013,\"\",0))","v":""}]
[null,{"$f":"IF(A21=\"\",\"\",_xlfn.XLOOKUP($A21,'MSL Data'!$A20:$A10014,'MSL Data'!B20:B10014,\"\",0))","v":""},{"$f":"IF(B21=\"\",\"\",_xlfn.XLOOKUP($A21,'MSL Data'!$A20:$A10014,'MSL Data'!C20:C10014,\"\",0))","v":""},{"$f":"IF(C21=\"\",\"\",_xlfn.XLOOKUP($A21,'MSL Data'!$A20:$A10014,'MSL Data'!W20:W10014,\"\",0))","v":""},{"$f":"IF(C21=\"\",\"\",_xlfn.XLOOKUP($A21,'MSL Data'!$A20:$A10014,'MSL Data'!D20:D10014,\"\",0))","v":""},{"$f":"IF(E21=\"\",\"\",_xlfn.XLOOKUP($A21,'MSL Data'!$A20:$A10014,'MSL Data'!E20:E10014,\"\",0))","v":""},{"$f":"IF(F21=\"\",\"\",_xlfn.XLOOKUP($A21,'MSL Data'!$A20:$A10014,'MSL Data'!F20:F10014,\"\",0))","v":""},{"$f":"IF(G21=\"\",\"\",_xlfn.XLOOKUP($A21,'MSL Data'!$A20:$A10014,'MSL Data'!G20:G10014,\"\",0))","v":""},{"$f":"IF(H21=\"\",\"\",_xlfn.XLOOKUP($A21,'MSL Data'!$A20:$A10014,'MSL Data'!H20:H10014,\"\",0))","v":""},{"$f":"IF(I21=\"\",\"\",_xlfn.XLOOKUP($A21,'MSL Data'!$A20:$A10014,'MSL Data'!I20:I10014,\"\",0))","v":""},{"$f":"IF(J21=\"\",\"\",_xlfn.XLOOKUP($A21,'MSL Data'!$A20:$A10014,'MSL Data'!J20:J10014,\"\",0))","v":""},{"$f":"IF(K21=\"\",\"\",_xlfn.XLOOKUP($A21,'MSL Data'!$A20:$A10014,'MSL Data'!K20:K10014,\"\",0))","v":""},{"$f":"IF(L21=\"\",\"\",_xlfn.XLOOKUP($A21,'MSL Data'!$A20:$A10014,'MSL Data'!L20:L10014,\"\",0))","v":""},{"$f":"IF(M21=\"\",\"\",_xlfn.XLOOKUP($A21,'MSL Data'!$A20:$A10014,'MSL Data'!M20:M10014,\"\",0))","v":""},{"$f":"IF(N21=\"\",\"\",_xlfn.XLOOKUP($A21,'MSL Data'!$A20:$A10014,'MSL Data'!N20:N10014,\"\",0))","v":""},{"$f":"IF(O21=\"\",\"\",_xlfn.XLOOKUP($A21,'MSL Data'!$A20:$A10014,'MSL Data'!O20:O10014,\"\",0))","v":""},{"$f":"IF(P21=\"\",\"\",_xlfn.XLOOKUP($A21,'MSL Data'!$A20:$A10014,'MSL Data'!P20:P10014,\"\",0))","v":""},{"$f":"IF(Q21=\"\",\"\",_xlfn.XLOOKUP($A21,'MSL Data'!$A20:$A10014,'MSL Data'!Q20:Q10014,\"\",0))","v":""},{"$f":"IF(R21=\"\",\"\",_xlfn.XLOOKUP($A21,'MSL Data'!$A20:$A10014,'MSL Data'!R20:R10014,\"\",0))","v":""},{"$f":"IF(S21=\"\",\"\",_xlfn.XLOOKUP($A21,'MSL Data'!$A20:$A10014,'MSL Data'!S20:S10014,\"\",0))","v":""},{"$f":"IF(T21=\"\",\"\",_xlfn.XLOOKUP($A21,'MSL Data'!$A20:$A10014,'MSL Data'!T20:T10014,\"\",0))","v":""},{"$f":"IF(U21=\"\",\"\",_xlfn.XLOOKUP($A21,'MSL Data'!$A20:$A10014,'MSL Data'!U20:U10014,\"\",0))","v":""},{"$f":"IF(V21=\"\",\"\",_xlfn.XLOOKUP($A21,'MSL Data'!$A20:$A10014,'MSL Data'!V20:V10014,\"\",0))","v":""}]
[null,{"$f":"IF(A22=\"\",\"\",_xlfn.XLOOKUP($A22,'MSL Data'!$A21:$A10015,'MSL Data'!B21:B10015,\"\",0))","v":""},{"$f":"IF(B22=\"\",\"\",_xlfn.XLOOKUP($A22,'MSL Data'!$A21:$A10015,'MSL Data'!C21:C10015,\"\",0))","v":""},{"$f":"IF(C22=\"\",\"\",_xlfn.XLOOKUP($A22,'MSL Data'!$A21:$A10015,'MSL Data'!W21:W10015,\"\",0))","v":""},{"$f":"IF(C22=\"\",\"\",_xlfn.XLOOKUP($A22,'MSL Data'!$A21:$A10015,'MSL Data'!D21:D10015,\"\",0))","v":""},{"$f":"IF(E22=\"\",\"\",_xlfn.XLOOKUP($A22,'MSL Data'!$A21:$A10015,'MSL Data'!E21:E10015,\"\",0))","v":""},{"$f":"IF(F22=\"\",\"\",_xlfn.XLOOKUP($A22,'MSL Data'!$A21:$A10015,'MSL Data'!F21:F10015,\"\",0))","v":""},{"$f":"IF(G22=\"\",\"\",_xlfn.XLOOKUP($A22,'MSL Data'!$A21:$A10015,'MSL Data'!G21:G10015,\"\",0))","v":""},{"$f":"IF(H22=\"\",\"\",_xlfn.XLOOKUP($A22,'MSL Data'!$A21:$A10015,'MSL Data'!H21:H10015,\"\",0))","v":""},{"$f":"IF(I22=\"\",\"\",_xlfn.XLOOKUP($A22,'MSL Data'!$A21:$A10015,'MSL Data'!I21:I10015,\"\",0))","v":""},{"$f":"IF(J22=\"\",\"\",_xlfn.XLOOKUP($A22,'MSL Data'!$A21:$A10015,'MSL Data'!J21:J10015,\"\",0))","v":""},{"$f":"IF(K22=\"\",\"\",_xlfn.XLOOKUP($A22,'MSL Data'!$A21:$A10015,'MSL Data'!K21:K10015,\"\",0))","v":""},{"$f":"IF(L22=\"\",\"\",_xlfn.XLOOKUP($A22,'MSL Data'!$A21:$A10015,'MSL Data'!L21:L10015,\"\",0))","v":""},{"$f":"IF(M22=\"\",\"\",_xlfn.XLOOKUP($A22,'MSL Data'!$A21:$A10015,'MSL Data'!M21:M10015,\"\",0))","v":""},{"$f":"IF(N22=\"\",\"\",_xlfn.XLOOKUP($A22,'MSL Data'!$A21:$A10015,'MSL Data'!N21:N10015,\"\",0))","v":""},{"$f":"IF(O22=\"\",\"\",_xlfn.XLOOKUP($A22,'MSL Data'!$A21:$A10015,'MSL Data'!O21:O10015,\"\",0))","v":""},{"$f":"IF(P22=\"\",\"\",_xlfn.XLOOKUP($A22,'MSL Data'!$A21:$A10015,'MSL Data'!P21:P10015,\"\",0))","v":""},{"$f":"IF(Q22=\"\",\"\",_xlfn.XLOOKUP($A22,'MSL Data'!$A21:$A10015,'MSL Data'!Q21:Q10015,\"\",0))","v":""},{"$f":"IF(R22=\"\",\"\",_xlfn.XLOOKUP($A22,'MSL Data'!$A21:$A10015,'MSL Data'!R21:R10015,\"\",0))","v":""},{"$f":"IF(S22=\"\",\"\",_xlfn.XLOOKUP($A22,'MSL Data'!$A21:$A10015,'MSL Data'!S21:S10015,\"\",0))","v":""},{"$f":"IF(T22=\"\",\"\",_xlfn.XLOOKUP($A22,'MSL Data'!$A21:$A10015,'MSL Data'!T21:T10015,\"\",0))","v":""},{"$f":"IF(U22=\"\",\"\",_xlfn.XLOOKUP($A22,'MSL Data'!$A21:$A10015,'MSL Data'!U21:U10015,\"\",0))","v":""},{"$f":"IF(V22=\"\",\"\",_xlfn.XLOOKUP($A22,'MSL Data'!$A21:$A10015,'MSL Data'!V21:V10015,\"\",0))","v":""}]
[null,{"$f":"IF(A23=\"\",\"\",_xlfn.XLOOKUP($A23,'MSL Data'!$A22:$A10016,'MSL Data'!B22:B10016,\"\",0))","v":""},{"$f":"IF(B23=\"\",\"\",_xlfn.XLOOKUP($A23,'MSL Data'!$A22:$A10016,'MSL Data'!C22:C10016,\"\",0))","v":""},{"$f":"IF(C23=\"\",\"\",_xlfn.XLOOKUP($A23,'MSL Data'!$A22:$A10016,'MSL Data'!W22:W10016,\"\",0))","v":""},{"$f":"IF(C23=\"\",\"\",_xlfn.XLOOKUP($A23,'MSL Data'!$A22:$A10016,'MSL Data'!D22:D10016,\"\",0))","v":""},{"$f":"IF(E23=\"\",\"\",_xlfn.XLOOKUP($A23,'MSL Data'!$A22:$A10016,'MSL Data'!E22:E10016,\"\",0))","v":""},{"$f":"IF(F23=\"\",\"\",_xlfn.XLOOKUP($A23,'MSL Data'!$A22:$A10016,'MSL Data'!F22:F10016,\"\",0))","v":""},{"$f":"IF(G23=\"\",\"\",_xlfn.XLOOKUP($A23,'MSL Data'!$A22:$A10016,'MSL Data'!G22:G10016,\"\",0))","v":""},{"$f":"IF(H23=\"\",\"\",_xlfn.XLOOKUP($A23,'MSL Data'!$A22:$A10016,'MSL Data'!H22:H10016,\"\",0))","v":""},{"$f":"IF(I23=\"\",\"\",_xlfn.XLOOKUP($A23,'MSL Data'!$A22:$A10016,'MSL Data'!I22:I10016,\"\",0))","v":""},{"$f":"IF(J23=\"\",\"\",_xlfn.XLOOKUP($A23,'MSL Data'!$A22:$A10016,'MSL Data'!J22:J10016,\"\",0))","v":""},{"$f":"IF(K23=\"\",\"\",_xlfn.XLOOKUP($A23,'MSL Data'!$A22:$A10016,'MSL Data'!K22:K10016,\"\",0))","v":""},{"$f":"IF(L23=\"\",\"\",_xlfn.XLOOKUP($A23,'MSL Data'!$A22:$A10016,'MSL Data'!L22:L10016,\"\",0))","v":""},{"$f":"IF(M23=\"\",\"\",_xlfn.XLOOKUP($A23,'MSL Data'!$A22:$A10016,'MSL Data'!M22:M10016,\"\",0))","v":""},{"$f":"IF(N23=\"\",\"\",_xlfn.XLOOKUP($A23,'MSL Data'!$A22:$A10016,'MSL Data'!N22:N10016,\"\",0))","v":""},{"$f":"IF(O23=\"\",\"\",_xlfn.XLOOKUP($A23,'MSL Data'!$A22:$A10016,'MSL Data'!O22:O10016,\"\",0))","v":""},{"$f":"IF(P23=\"\",\"\",_xlfn.XLOOKUP($A23,'MSL Data'!$A22:$A10016,'MSL Data'!P22:P10016,\"\",0))","v":""},{"$f":"IF(Q23=\"\",\"\",_xlfn.XLOOKUP($A23,'MSL Data'!$A22:$A10016,'MSL Data'!Q22:Q10016,\"\",0))","v":""},{"$f":"IF(R23=\"\",\"\",_xlfn.XLOOKUP($A23,'MSL Data'!$A22:$A10016,'MSL Data'!R22:R10016,\"\",0))","v":""},{"$f":"IF(S23=\"\",\"\",_xlfn.XLOOKUP($A23,'MSL Data'!$A22:$A10016,'MSL Data'!S22:S10016,\"\",0))","v":""},{"$f":"IF(T23=\"\",\"\",_xlfn.XLOOKUP($A23,'MSL Data'!$A22:$A10016,'MSL Data'!T22:T10016,\"\",0))","v":""},{"$f":"IF(U23=\"\",\"\",_xlfn.XLOOKUP($A23,'MSL Data'!$A22:$A10016,'MSL Data'!U22:U10016,\"\",0))","v":""},{"$f":"IF(V23=\"\",\"\",_xlfn.XLOOKUP($A23,'MSL Data'!$A22:$A10016,'MSL Data'!V22:V10016,\"\",0))","v":""}]
[null,{"$f":"IF(A24=\"\",\"\",_xlfn.XLOOKUP($A24,'MSL Data'!$A23:$A10017,'MSL Data'!B23:B10017,\"\",0))","v":""},{"$f":"IF(B24=\"\",\"\",_xlfn.XLOOKUP($A24,'MSL Data'!$A23:$A10017,'MSL Data'!C23:C10017,\"\",0))","v":""},{"$f":"IF(C24=\"\",\"\",_xlfn.XLOOKUP($A24,'MSL Data'!$A23:$A10017,'MSL Data'!W23:W10017,\"\",0))","v":""},{"$f":"IF(C24=\"\",\"\",_xlfn.XLOOKUP($A24,'MSL Data'!$A23:$A10017,'MSL Data'!D23:D10017,\"\",0))","v":""},{"$f":"IF(E24=\"\",\"\",_xlfn.XLOOKUP($A24,'MSL Data'!$A23:$A10017,'MSL Data'!E23:E10017,\"\",0))","v":""},{"$f":"IF(F24=\"\",\"\",_xlfn.XLOOKUP($A24,'MSL Data'!$A23:$A10017,'MSL Data'!F23:F10017,\"\",0))","v":""},{"$f":"IF(G24=\"\",\"\",_xlfn.XLOOKUP($A24,'MSL Data'!$A23:$A10017,'MSL Data'!G23:G10017,\"\",0))","v":""},{"$f":"IF(H24=\"\",\"\",_xlfn.XLOOKUP($A24,'MSL Data'!$A23:$A10017,'MSL Data'!H23:H10017,\"\",0))","v":""},{"$f":"IF(I24=\"\",\"\",_xlfn.XLOOKUP($A24,'MSL Data'!$A23:$A10017,'MSL Data'!I23:I10017,\"\",0))","v":""},{"$f":"IF(J24=\"\",\"\",_xlfn.XLOOKUP($A24,'MSL Data'!$A23:$A10017,'MSL Data'!J23:J10017,\"\",0))","v":""},{"$f":"IF(K24=\"\",\"\",_xlfn.XLOOKUP($A24,'MSL Data'!$A23:$A10017,'MSL Data'!K23:K10017,\"\",0))","v":""},{"$f":"IF(L24=\"\",\"\",_xlfn.XLOOKUP($A24,'MSL Data'!$A23:$A10017,'MSL Data'!L23:L10017,\"\",0))","v":""},{"$f":"IF(M24=\"\",\"\",_xlfn.XLOOKUP($A24,'MSL Data'!$A23:$A10017,'MSL Data'!M23:M10017,\"\",0))","v":""},{"$f":"IF(N24=\"\",\"\",_xlfn.XLOOKUP($A24,'MSL Data'!$A23:$A10017,'MSL Data'!N23:N10017,\"\",0))","v":""},{"$f":"IF(O24=\"\",\"\",_xlfn.XLOOKUP($A24,'MSL Data'!$A23:$A10017,'MSL Data'!O23:O10017,\"\",0))","v":""},{"$f":"IF(P24=\"\",\"\",_xlfn.XLOOKUP($A24,'MSL Data'!$A23:$A10017,'MSL Data'!P23:P10017,\"\",0))","v":""},{"$f":"IF(Q24=\"\",\"\",_xlfn.XLOOKUP($A24,'MSL Data'!$A23:$A10017,'MSL Data'!Q23:Q10017,\"\",0))","v":""},{"$f":"IF(R24=\"\",\"\",_xlfn.XLOOKUP($A24,'MSL Data'!$A23:$A10017,'MSL Data'!R23:R10017,\"\",0))","v":""},{"$f":"IF(S24=\"\",\"\",_xlfn.XLOOKUP($A24,'MSL Data'!$A23:$A10017,'MSL Data'!S23:S10017,\"\",0))","v":""},{"$f":"IF(T24=\"\",\"\",_xlfn.XLOOKUP($A24,'MSL Data'!$A23:$A10017,'MSL Data'!T23:T10017,\"\",0))","v":""},{"$f":"IF(U24=\"\",\"\",_xlfn.XLOOKUP($A24,'MSL Data'!$A23:$A10017,'MSL Data'!U23:U10017,\"\",0))","v":""},{"$f":"IF(V24=\"\",\"\",_xlfn.XLOOKUP($A24,'MSL Data'!$A23:$A10017,'MSL Data'!V23:V10017,\"\",0))","v":""}]
[null,{"$f":"IF(A25=\"\",\"\",_xlfn.XLOOKUP($A25,'MSL Data'!$A24:$A10018,'MSL Data'!B24:B10018,\"\",0))","v":""},{"$f":"IF(B25=\"\",\"\",_xlfn.XLOOKUP($A25,'MSL Data'!$A24:$A10018,'MSL Data'!C24:C10018,\"\",0))","v":""},{"$f":"IF(C25=\"\",\"\",_xlfn.XLOOKUP($A25,'MSL Data'!$A24:$A10018,'MSL Data'!W24:W10018,\"\",0))","v":""},{"$f":"IF(C25=\"\",\"\",_xlfn.XLOOKUP($A25,'MSL Data'!$A24:$A10018,'MSL Data'!D24:D10018,\"\",0))","v":""},{"$f":"IF(E25=\"\",\"\",_xlfn.XLOOKUP($A25,'MSL Data'!$A24:$A10018,'MSL Data'!E24:E10018,\"\",0))","v":""},{"$f":"IF(F25=\"\",\"\",_xlfn.XLOOKUP($A25,'MSL Data'!$A24:$A10018,'MSL Data'!F24:F10018,\"\",0))","v":""},{"$f":"IF(G25=\"\",\"\",_xlfn.XLOOKUP($A25,'MSL Data'!$A24:$A10018,'MSL Data'!G24:G10018,\"\",0))","v":""},{"$f":"IF(H25=\"\",\"\",_xlfn.XLOOKUP($A25,'MSL Data'!$A24:$A10018,'MSL Data'!H24:H10018,\"\",0))","v":""},{"$f":"IF(I25=\"\",\"\",_xlfn.XLOOKUP($A25,'MSL Data'!$A24:$A10018,'MSL Data'!I24:I10018,\"\",0))","v":""},{"$f":"IF(J25=\"\",\"\",_xlfn.XLOOKUP($A25,'MSL Data'!$A24:$A10018,'MSL Data'!J24:J10018,\"\",0))","v":""},{"$f":"IF(K25=\"\",\"\",_xlfn.XLOOKUP($A25,'MSL Data'!$A24:$A10018,'MSL Data'!K24:K10018,\"\",0))","v":""},{"$f":"IF(L25=\"\",\"\",_xlfn.XLOOKUP($A25,'MSL Data'!$A24:$A10018,'MSL Data'!L24:L10018,\"\",0))","v":""},{"$f":"IF(M25=\"\",\"\",_xlfn.XLOOKUP($A25,'MSL Data'!$A24:$A10018,'MSL Data'!M24:M10018,\"\",0))","v":""},{"$f":"IF(N25=\"\",\"\",_xlfn.XLOOKUP($A25,'MSL Data'!$A24:$A10018,'MSL Data'!N24:N10018,\"\",0))","v":""},{"$f":"IF(O25=\"\",\"\",_xlfn.XLOOKUP($A25,'MSL Data'!$A24:$A10018,'MSL Data'!O24:O10018,\"\",0))","v":""},{"$f":"IF(P25=\"\",\"\",_xlfn.XLOOKUP($A25,'MSL Data'!$A24:$A10018,'MSL Data'!P24:P10018,\"\",0))","v":""},{"$f":"IF(Q25=\"\",\"\",_xlfn.XLOOKUP($A25,'MSL Data'!$A24:$A10018,'MSL Data'!Q24:Q10018,\"\",0))","v":""},{"$f":"IF(R25=\"\",\"\",_xlfn.XLOOKUP($A25,'MSL Data'!$A24:$A10018,'MSL Data'!R24:R10018,\"\",0))","v":""},{"$f":"IF(S25=\"\",\"\",_xlfn.XLOOKUP($A25,'MSL Data'!$A24:$A10018,'MSL Data'!S24:S10018,\"\",0))","v":""},{"$f":"IF(T25=\"\",\"\",_xlfn.XLOOKUP($A25,'MSL Data'!$A24:$A10018,'MSL Data'!T24:T10018,\"\",0))","v":""},{"$f":"IF(U25=\"\",\"\",_xlfn.XLOOKUP($A25,'MSL Data'!$A24:$A10018,'MSL Data'!U24:U10018,\"\",0))","v":""},{"$f":"IF(V25=\"\",\"\",_xlfn.XLOOKUP($A25,'MSL Data'!$A24:$A10018,'MSL Data'!V24:V10018,\"\",0))","v":""}]
[null,{"$f":"IF(A26=\"\",\"\",_xlfn.XLOOKUP($A26,'MSL Data'!$A25:$A10019,'MSL Data'!B25:B10019,\"\",0))","v":""},{"$f":"IF(B26=\"\",\"\",_xlfn.XLOOKUP($A26,'MSL Data'!$A25:$A10019,'MSL Data'!C25:C10019,\"\",0))","v":""},{"$f":"IF(C26=\"\",\"\",_xlfn.XLOOKUP($A26,'MSL Data'!$A25:$A10019,'MSL Data'!W25:W10019,\"\",0))","v":""},{"$f":"IF(C26=\"\",\"\",_xlfn.XLOOKUP($A26,'MSL Data'!$A25:$A10019,'MSL Data'!D25:D10019,\"\",0))","v":""},{"$f":"IF(E26=\"\",\"\",_xlfn.XLOOKUP($A26,'MSL Data'!$A25:$A10019,'MSL Data'!E25:E10019,\"\",0))","v":""},{"$f":"IF(F26=\"\",\"\",_xlfn.XLOOKUP($A26,'MSL Data'!$A25:$A10019,'MSL Data'!F25:F10019,\"\",0))","v":""},{"$f":"IF(G26=\"\",\"\",_xlfn.XLOOKUP($A26,'MSL Data'!$A25:$A10019,'MSL Data'!G25:G10019,\"\",0))","v":""},{"$f":"IF(H26=\"\",\"\",_xlfn.XLOOKUP($A26,'MSL Data'!$A25:$A10019,'MSL Data'!H25:H10019,\"\",0))","v":""},{"$f":"IF(I26=\"\",\"\",_xlfn.XLOOKUP($A26,'MSL Data'!$A25:$A10019,'MSL Data'!I25:I10019,\"\",0))","v":""},{"$f":"IF(J26=\"\",\"\",_xlfn.XLOOKUP($A26,'MSL Data'!$A25:$A10019,'MSL Data'!J25:J10019,\"\",0))","v":""},{"$f":"IF(K26=\"\",\"\",_xlfn.XLOOKUP($A26,'MSL Data'!$A25:$A10019,'MSL Data'!K25:K10019,\"\",0))","v":""},{"$f":"IF(L26=\"\",\"\",_xlfn.XLOOKUP($A26,'MSL Data'!$A25:$A10019,'MSL Data'!L25:L10019,\"\",0))","v":""},{"$f":"IF(M26=\"\",\"\",_xlfn.XLOOKUP($A26,'MSL Data'!$A25:$A10019,'MSL Data'!M25:M10019,\"\",0))","v":""},{"$f":"IF(N26=\"\",\"\",_xlfn.XLOOKUP($A26,'MSL Data'!$A25:$A10019,'MSL Data'!N25:N10019,\"\",0))","v":""},{"$f":"IF(O26=\"\",\"\",_xlfn.XLOOKUP($A26,'MSL Data'!$A25:$A10019,'MSL Data'!O25:O10019,\"\",0))","v":""},{"$f":"IF(P26=\"\",\"\",_xlfn.XLOOKUP($A26,'MSL Data'!$A25:$A10019,'MSL Data'!P25:P10019,\"\",0))","v":""},{"$f":"IF(Q26=\"\",\"\",_xlfn.XLOOKUP($A26,'MSL Data'!$A25:$A10019,'MSL Data'!Q25:Q10019,\"\",0))","v":""},{"$f":"IF(R26=\"\",\"\",_xlfn.XLOOKUP($A26,'MSL Data'!$A25:$A10019,'MSL Data'!R25:R10019,\"\",0))","v":""},{"$f":"IF(S26=\"\",\"\",_xlfn.XLOOKUP($A26,'MSL Data'!$A25:$A10019,'MSL Data'!S25:S10019,\"\",0))","v":""},{"$f":"IF(T26=\"\",\"\",_xlfn.XLOOKUP($A26,'MSL Data'!$A25:$A10019,'MSL Data'!T25:T10019,\"\",0))","v":""},{"$f":"IF(U26=\"\",\"\",_xlfn.XLOOKUP($A26,'MSL Data'!$A25:$A10019,'MSL Data'!U25:U10019,\"\",0))","v":""},{"$f":"IF(V26=\"\",\"\",_xlfn.XLOOKUP($A26,'MSL Data'!$A25:$A10019,'MSL Data'!V25:V10019,\"\",0))","v":""}]
[null,{"$f":"IF(A27=\"\",\"\",_xlfn.XLOOKUP($A27,'MSL Data'!$A26:$A10020,'MSL Data'!B26:B10020,\"\",0))","v":""},{"$f":"IF(B27=\"\",\"\",_xlfn.XLOOKUP($A27,'MSL Data'!$A26:$A10020,'MSL Data'!C26:C10020,\"\",0))","v":""},{"$f":"IF(C27=\"\",\"\",_xlfn.XLOOKUP($A27,'MSL Data'!$A26:$A10020,'MSL Data'!W26:W10020,\"\",0))","v":""},{"$f":"IF(C27=\"\",\"\",_xlfn.XLOOKUP($A27,'MSL Data'!$A26:$A10020,'MSL Data'!D26:D10020,\"\",0))","v":""},{"$f":"IF(E27=\"\",\"\",_xlfn.XLOOKUP($A27,'MSL Data'!$A26:$A10020,'MSL Data'!E26:E10020,\"\",0))","v":""},{"$f":"IF(F27=\"\",\"\",_xlfn.XLOOKUP($A27,'MSL Data'!$A26:$A10020,'MSL Data'!F26:F10020,\"\",0))","v":""},{"$f":"IF(G27=\"\",\"\",_xlfn.XLOOKUP($A27,'MSL Data'!$A26:$A10020,'MSL Data'!G26:G10020,\"\",0))","v":""},{"$f":"IF(H27=\"\",\"\",_xlfn.XLOOKUP($A27,'MSL Data'!$A26:$A10020,'MSL Data'!H26:H10020,\"\",0))","v":""},{"$f":"IF(I27=\"\",\"\",_xlfn.XLOOKUP($A27,'MSL Data'!$A26:$A10020,'MSL Data'!I26:I10020,\"\",0))","v":""},{"$f":"IF(J27=\"\",\"\",_xlfn.XLOOKUP($A27,'MSL Data'!$A26:$A10020,'MSL Data'!J26:J10020,\"\",0))","v":""},{"$f":"IF(K27=\"\",\"\",_xlfn.XLOOKUP($A27,'MSL Data'!$A26:$A10020,'MSL Data'!K26:K10020,\"\",0))","v":""},{"$f":"IF(L27=\"\",\"\",_xlfn.XLOOKUP($A27,'MSL Data'!$A26:$A10020,'MSL Data'!L26:L10020,\"\",0))","v":""},{"$f":"IF(M27=\"\",\"\",_xlfn.XLOOKUP($A27,'MSL Data'!$A26:$A10020,'MSL Data'!M26:M10020,\"\",0))","v":""},{"$f":"IF(N27=\"\",\"\",_xlfn.XLOOKUP($A27,'MSL Data'!$A26:$A10020,'MSL Data'!N26:N10020,\"\",0))","v":""},{"$f":"IF(O27=\"\",\"\",_xlfn.XLOOKUP($A27,'MSL Data'!$A26:$A10020,'MSL Data'!O26:O10020,\"\",0))","v":""},{"$f":"IF(P27=\"\",\"\",_xlfn.XLOOKUP($A27,'MSL Data'!$A26:$A10020,'MSL Data'!P26:P10020,\"\",0))","v":""},{"$f":"IF(Q27=\"\",\"\",_xlfn.XLOOKUP($A27,'MSL Data'!$A26:$A10020,'MSL Data'!Q26:Q10020,\"\",0))","v":""},{"$f":"IF(R27=\"\",\"\",_xlfn.XLOOKUP($A27,'MSL Data'!$A26:$A10020,'MSL Data'!R26:R10020,\"\",0))","v":""},{"$f":"IF(S27=\"\",\"\",_xlfn.XLOOKUP($A27,'MSL Data'!$A26:$A10020,'MSL Data'!S26:S10020,\"\",0))","v":""},{"$f":"IF(T27=\"\",\"\",_xlfn.XLOOKUP($A27,'MSL Data'!$A26:$A10020,'MSL Data'!T26:T10020,\"\",0))","v":""},{"$f":"IF(U27=\"\",\"\",_xlfn.XLOOKUP($A27,'MSL Data'!$A26:$A10020,'MSL Data'!U26:U10020,\"\",0))","v":""},{"$f":"IF(V27=\"\",\"\",_xlfn.XLOOKUP($A27,'MSL Data'!$A26:$A10020,'MSL Data'!V26:V10020,\"\",0))","v":""}]
[null,{"$f":"IF(A28=\"\",\"\",_xlfn.XLOOKUP($A28,'MSL Data'!$A27:$A10021,'MSL Data'!B27:B10021,\"\",0))","v":""},{"$f":"IF(B28=\"\",\"\",_xlfn.XLOOKUP($A28,'MSL Data'!$A27:$A10021,'MSL Data'!C27:C10021,\"\",0))","v":""},{"$f":"IF(C28=\"\",\"\",_xlfn.XLOOKUP($A28,'MSL Data'!$A27:$A10021,'MSL Data'!W27:W10021,\"\",0))","v":""},{"$f":"IF(C28=\"\",\"\",_xlfn.XLOOKUP($A28,'MSL Data'!$A27:$A10021,'MSL Data'!D27:D10021,\"\",0))","v":""},{"$f":"IF(E28=\"\",\"\",_xlfn.XLOOKUP($A28,'MSL Data'!$A27:$A10021,'MSL Data'!E27:E10021,\"\",0))","v":""},{"$f":"IF(F28=\"\",\"\",_xlfn.XLOOKUP($A28,'MSL Data'!$A27:$A10021,'MSL Data'!F27:F10021,\"\",0))","v":""},{"$f":"IF(G28=\"\",\"\",_xlfn.XLOOKUP($A28,'MSL Data'!$A27:$A10021,'MSL Data'!G27:G10021,\"\",0))","v":""},{"$f":"IF(H28=\"\",\"\",_xlfn.XLOOKUP($A28,'MSL Data'!$A27:$A10021,'MSL Data'!H27:H10021,\"\",0))","v":""},{"$f":"IF(I28=\"\",\"\",_xlfn.XLOOKUP($A28,'MSL Data'!$A27:$A10021,'MSL Data'!I27:I10021,\"\",0))","v":""},{"$f":"IF(J28=\"\",\"\",_xlfn.XLOOKUP($A28,'MSL Data'!$A27:$A10021,'MSL Data'!J27:J10021,\"\",0))","v":""},{"$f":"IF(K28=\"\",\"\",_xlfn.XLOOKUP($A28,'MSL Data'!$A27:$A10021,'MSL Data'!K27:K10021,\"\",0))","v":""},{"$f":"IF(L28=\"\",\"\",_xlfn.XLOOKUP($A28,'MSL Data'!$A27:$A10021,'MSL Data'!L27:L10021,\"\",0))","v":""},{"$f":"IF(M28=\"\",\"\",_xlfn.XLOOKUP($A28,'MSL Data'!$A27:$A10021,'MSL Data'!M27:M10021,\"\",0))","v":""},{"$f":"IF(N28=\"\",\"\",_xlfn.XLOOKUP($A28,'MSL Data'!$A27:$A10021,'MSL Data'!N27:N10021,\"\",0))","v":""},{"$f":"IF(O28=\"\",\"\",_xlfn.XLOOKUP($A28,'MSL Data'!$A27:$A10021,'MSL Data'!O27:O10021,\"\",0))","v":""},{"$f":"IF(P28=\"\",\"\",_xlfn.XLOOKUP($A28,'MSL Data'!$A27:$A10021,'MSL Data'!P27:P10021,\"\",0))","v":""},{"$f":"IF(Q28=\"\",\"\",_xlfn.XLOOKUP($A28,'MSL Data'!$A27:$A10021,'MSL Data'!Q27:Q10021,\"\",0))","v":""},{"$f":"IF(R28=\"\",\"\",_xlfn.XLOOKUP($A28,'MSL Data'!$A27:$A10021,'MSL Data'!R27:R10021,\"\",0))","v":""},{"$f":"IF(S28=\"\",\"\",_xlfn.XLOOKUP($A28,'MSL Data'!$A27:$A10021,'MSL Data'!S27:S10021,\"\",0))","v":""},{"$f":"IF(T28=\"\",\"\",_xlfn.XLOOKUP($A28,'MSL Data'!$A27:$A10021,'MSL Data'!T27:T10021,\"\",0))","v":""},{"$f":"IF(U28=\"\",\"\",_xlfn.XLOOKUP($A28,'MSL Data'!$A27:$A10021,'MSL Data'!U27:U10021,\"\",0))","v":""},{"$f":"IF(V28=\"\",\"\",_xlfn.XLOOKUP($A28,'MSL Data'!$A27:$A10021,'MSL Data'!V27:V10021,\"\",0))","v":""}]
[null,{"$f":"IF(A29=\"\",\"\",_xlfn.XLOOKUP($A29,'MSL Data'!$A28:$A10022,'MSL Data'!B28:B10022,\"\",0))","v":""},{"$f":"IF(B29=\"\",\"\",_xlfn.XLOOKUP($A29,'MSL Data'!$A28:$A10022,'MSL Data'!C28:C10022,\"\",0))","v":""},{"$f":"IF(C29=\"\",\"\",_xlfn.XLOOKUP($A29,'MSL Data'!$A28:$A10022,'MSL Data'!W28:W10022,\"\",0))","v":""},{"$f":"IF(C29=\"\",\"\",_xlfn.XLOOKUP($A29,'MSL Data'!$A28:$A10022,'MSL Data'!D28:D10022,\"\",0))","v":""},{"$f":"IF(E29=\"\",\"\",_xlfn.XLOOKUP($A29,'MSL Data'!$A28:$A10022,'MSL Data'!E28:E10022,\"\",0))","v":""},{"$f":"IF(F29=\"\",\"\",_xlfn.XLOOKUP($A29,'MSL Data'!$A28:$A10022,'MSL Data'!F28:F10022,\"\",0))","v":""},{"$f":"IF(G29=\"\",\"\",_xlfn.XLOOKUP($A29,'MSL Data'!$A28:$A10022,'MSL Data'!G28:G10022,\"\",0))","v":""},{"$f":"IF(H29=\"\",\"\",_xlfn.XLOOKUP($A29,'MSL Data'!$A28:$A10022,'MSL Data'!H28:H10022,\"\",0))","v":""},{"$f":"IF(I29=\"\",\"\",_xlfn.XLOOKUP($A29,'MSL Data'!$A28:$A10022,'MSL Data'!I28:I10022,\"\",0))","v":""},{"$f":"IF(J29=\"\",\"\",_xlfn.XLOOKUP($A29,'MSL Data'!$A28:$A10022,'MSL Data'!J28:J10022,\"\",0))","v":""},{"$f":"IF(K29=\"\",\"\",_xlfn.XLOOKUP($A29,'MSL Data'!$A28:$A10022,'MSL Data'!K28:K10022,\"\",0))","v":""},{"$f":"IF(L29=\"\",\"\",_xlfn.XLOOKUP($A29,'MSL Data'!$A28:$A10022,'MSL Data'!L28:L10022,\"\",0))","v":""},{"$f":"IF(M29=\"\",\"\",_xlfn.XLOOKUP($A29,'MSL Data'!$A28:$A10022,'MSL Data'!M28:M10022,\"\",0))","v":""},{"$f":"IF(N29=\"\",\"\",_xlfn.XLOOKUP($A29,'MSL Data'!$A28:$A10022,'MSL Data'!N28:N10022,\"\",0))","v":""},{"$f":"IF(O29=\"\",\"\",_xlfn.XLOOKUP($A29,'MSL Data'!$A28:$A10022,'MSL Data'!O28:O10022,\"\",0))","v":""},{"$f":"IF(P29=\"\",\"\",_xlfn.XLOOKUP($A29,'MSL Data'!$A28:$A10022,'MSL Data'!P28:P10022,\"\",0))","v":""},{"$f":"IF(Q29=\"\",\"\",_xlfn.XLOOKUP($A29,'MSL Data'!$A28:$A10022,'MSL Data'!Q28:Q10022,\"\",0))","v":""},{"$f":"IF(R29=\"\",\"\",_xlfn.XLOOKUP($A29,'MSL Data'!$A28:$A10022,'MSL Data'!R28:R10022,\"\",0))","v":""},{"$f":"IF(S29=\"\",\"\",_xlfn.XLOOKUP($A29,'MSL Data'!$A28:$A10022,'MSL Data'!S28:S10022,\"\",0))","v":""},{"$f":"IF(T29=\"\",\"\",_xlfn.XLOOKUP($A29,'MSL Data'!$A28:$A10022,'MSL Data'!T28:T10022,\"\",0))","v":""},{"$f":"IF(U29=\"\",\"\",_xlfn.XLOOKUP($A29,'MSL Data'!$A28:$A10022,'MSL Data'!U28:U10022,\"\",0))","v":""},{"$f":"IF(V29=\"\",\"\",_xlfn.XLOOKUP($A29,'MSL Data'!$A28:$A10022,'MSL Data'!V28:V10022,\"\",0))","v":""}]
[null,{"$f":"IF(A30=\"\",\"\",_xlfn.XLOOKUP($A30,'MSL Data'!$A29:$A10023,'MSL Data'!B29:B10023,\"\",0))","v":""},{"$f":"IF(B30=\"\",\"\",_xlfn.XLOOKUP($A30,'MSL Data'!$A29:$A10023,'MSL Data'!C29:C10023,\"\",0))","v":""},{"$f":"IF(C30=\"\",\"\",_xlfn.XLOOKUP($A30,'MSL Data'!$A29:$A10023,'MSL Data'!W29:W10023,\"\",0))","v":""},{"$f":"IF(C30=\"\",\"\",_xlfn.XLOOKUP($A30,'MSL Data'!$A29:$A10023,'MSL Data'!D29:D10023,\"\",0))","v":""},{"$f":"IF(E30=\"\",\"\",_xlfn.XLOOKUP($A30,'MSL Data'!$A29:$A10023,'MSL Data'!E29:E10023,\"\",0))","v":""},{"$f":"IF(F30=\"\",\"\",_xlfn.XLOOKUP($A30,'MSL Data'!$A29:$A10023,'MSL Data'!F29:F10023,\"\",0))","v":""},{"$f":"IF(G30=\"\",\"\",_xlfn.XLOOKUP($A30,'MSL Data'!$A29:$A10023,'MSL Data'!G29:G10023,\"\",0))","v":""},{"$f":"IF(H30=\"\",\"\",_xlfn.XLOOKUP($A30,'MSL Data'!$A29:$A10023,'MSL Data'!H29:H10023,\"\",0))","v":""},{"$f":"IF(I30=\"\",\"\",_xlfn.XLOOKUP($A30,'MSL Data'!$A29:$A10023,'MSL Data'!I29:I10023,\"\",0))","v":""},{"$f":"IF(J30=\"\",\"\",_xlfn.XLOOKUP($A30,'MSL Data'!$A29:$A10023,'MSL Data'!J29:J10023,\"\",0))","v":""},{"$f":"IF(K30=\"\",\"\",_xlfn.XLOOKUP($A30,'MSL Data'!$A29:$A10023,'MSL Data'!K29:K10023,\"\",0))","v":""},{"$f":"IF(L30=\"\",\"\",_xlfn.XLOOKUP($A30,'MSL Data'!$A29:$A10023,'MSL Data'!L29:L10023,\"\",0))","v":""},{"$f":"IF(M30=\"\",\"\",_xlfn.XLOOKUP($A30,'MSL Data'!$A29:$A10023,'MSL Data'!M29:M10023,\"\",0))","v":""},{"$f":"IF(N30=\"\",\"\",_xlfn.XLOOKUP($A30,'MSL Data'!$A29:$A10023,'MSL Data'!N29:N10023,\"\",0))","v":""},{"$f":"IF(O30=\"\",\"\",_xlfn.XLOOKUP($A30,'MSL Data'!$A29:$A10023,'MSL Data'!O29:O10023,\"\",0))","v":""},{"$f":"IF(P30=\"\",\"\",_xlfn.XLOOKUP($A30,'MSL Data'!$A29:$A10023,'MSL Data'!P29:P10023,\"\",0))","v":""},{"$f":"IF(Q30=\"\",\"\",_xlfn.XLOOKUP($A30,'MSL Data'!$A29:$A10023,'MSL Data'!Q29:Q10023,\"\",0))","v":""},{"$f":"IF(R30=\"\",\"\",_xlfn.XLOOKUP($A30,'MSL Data'!$A29:$A10023,'MSL Data'!R29:R10023,\"\",0))","v":""},{"$f":"IF(S30=\"\",\"\",_xlfn.XLOOKUP($A30,'MSL Data'!$A29:$A10023,'MSL Data'!S29:S10023,\"\",0))","v":""},{"$f":"IF(T30=\"\",\"\",_xlfn.XLOOKUP($A30,'MSL Data'!$A29:$A10023,'MSL Data'!T29:T10023,\"\",0))","v":""},{"$f":"IF(U30=\"\",\"\",_xlfn.XLOOKUP($A30,'MSL Data'!$A29:$A10023,'MSL Data'!U29:U10023,\"\",0))","v":""},{"$f":"IF(V30=\"\",\"\",_xlfn.XLOOKUP($A30,'MSL Data'!$A29:$A10023,'MSL Data'!V29:V10023,\"\",0))","v":""}]
[null,{"$f":"IF(A31=\"\",\"\",_xlfn.XLOOKUP($A31,'MSL Data'!$A30:$A10024,'MSL Data'!B30:B10024,\"\",0))","v":""},{"$f":"IF(B31=\"\",\"\",_xlfn.XLOOKUP($A31,'MSL Data'!$A30:$A10024,'MSL Data'!C30:C10024,\"\",0))","v":""},{"$f":"IF(C31=\"\",\"\",_xlfn.XLOOKUP($A31,'MSL Data'!$A30:$A10024,'MSL Data'!W30:W10024,\"\",0))","v":""},{"$f":"IF(C31=\"\",\"\",_xlfn.XLOOKUP($A31,'MSL Data'!$A30:$A10024,'MSL Data'!D30:D10024,\"\",0))","v":""},{"$f":"IF(E31=\"\",\"\",_xlfn.XLOOKUP($A31,'MSL Data'!$A30:$A10024,'MSL Data'!E30:E10024,\"\",0))","v":""},{"$f":"IF(F31=\"\",\"\",_xlfn.XLOOKUP($A31,'MSL Data'!$A30:$A10024,'MSL Data'!F30:F10024,\"\",0))","v":""},{"$f":"IF(G31=\"\",\"\",_xlfn.XLOOKUP($A31,'MSL Data'!$A30:$A10024,'MSL Data'!G30:G10024,\"\",0))","v":""},{"$f":"IF(H31=\"\",\"\",_xlfn.XLOOKUP($A31,'MSL Data'!$A30:$A10024,'MSL Data'!H30:H10024,\"\",0))","v":""},{"$f":"IF(I31=\"\",\"\",_xlfn.XLOOKUP($A31,'MSL Data'!$A30:$A10024,'MSL Data'!I30:I10024,\"\",0))","v":""},{"$f":"IF(J31=\"\",\"\",_xlfn.XLOOKUP($A31,'MSL Data'!$A30:$A10024,'MSL Data'!J30:J10024,\"\",0))","v":""},{"$f":"IF(K31=\"\",\"\",_xlfn.XLOOKUP($A31,'MSL Data'!$A30:$A10024,'MSL Data'!K30:K10024,\"\",0))","v":""},{"$f":"IF(L31=\"\",\"\",_xlfn.XLOOKUP($A31,'MSL Data'!$A30:$A10024,'MSL Data'!L30:L10024,\"\",0))","v":""},{"$f":"IF(M31=\"\",\"\",_xlfn.XLOOKUP($A31,'MSL Data'!$A30:$A10024,'MSL Data'!M30:M10024,\"\",0))","v":""},{"$f":"IF(N31=\"\",\"\",_xlfn.XLOOKUP($A31,'MSL Data'!$A30:$A10024,'MSL Data'!N30:N10024,\"\",0))","v":""},{"$f":"IF(O31=\"\",\"\",_xlfn.XLOOKUP($A31,'MSL Data'!$A30:$A10024,'MSL Data'!O30:O10024,\"\",0))","v":""},{"$f":"IF(P31=\"\",\"\",_xlfn.XLOOKUP($A31,'MSL Data'!$A30:$A10024,'MSL Data'!P30:P10024,\"\",0))","v":""},{"$f":"IF(Q31=\"\",\"\",_xlfn.XLOOKUP($A31,'MSL Data'!$A30:$A10024,'MSL Data'!Q30:Q10024,\"\",0))","v":""},{"$f":"IF(R31=\"\",\"\",_xlfn.XLOOKUP($A31,'MSL Data'!$A30:$A10024,'MSL Data'!R30:R10024,\"\",0))","v":""},{"$f":"IF(S31=\"\",\"\",_xlfn.XLOOKUP($A31,'MSL Data'!$A30:$A10024,'MSL Data'!S30:S10024,\"\",0))","v":""},{"$f":"IF(T31=\"\",\"\",_xlfn.XLOOKUP($A31,'MSL Data'!$A30:$A10024,'MSL Data'!T30:T10024,\"\",0))","v":""},{"$f":"IF(U31=\"\",\"\",_xlfn.XLOOKUP($A31,'MSL Data'!$A30:$A10024,'MSL Data'!U30:U10024,\"\",0))","v":""},{"$f":"IF(V31=\"\",\"\",_xlfn.XLOOKUP($A31,'MSL Data'!$A30:$A10024,'MSL Data'!V30:V10024,\"\",0))","v":""}]
[null,{"$f":"IF(A32=\"\",\"\",_xlfn.XLOOKUP($A32,'MSL Data'!$A31:$A10025,'MSL Data'!B31:B10025,\"\",0))","v":""},{"$f":"IF(B32=\"\",\"\",_xlfn.XLOOKUP($A32,'MSL Data'!$A31:$A10025,'MSL Data'!C31:C10025,\"\",0))","v":""},{"$f":"IF(C32=\"\",\"\",_xlfn.XLOOKUP($A32,'MSL Data'!$A31:$A10025,'MSL Data'!W31:W10025,\"\",0))","v":""},{"$f":"IF(C32=\"\",\"\",_xlfn.XLOOKUP($A32,'MSL Data'!$A31:$A10025,'MSL Data'!D31:D10025,\"\",0))","v":""},{"$f":"IF(E32=\"\",\"\",_xlfn.XLOOKUP($A32,'MSL Data'!$A31:$A10025,'MSL Data'!E31:E10025,\"\",0))","v":""},{"$f":"IF(F32=\"\",\"\",_xlfn.XLOOKUP($A32,'MSL Data'!$A31:$A10025,'MSL Data'!F31:F10025,\"\",0))","v":""},{"$f":"IF(G32=\"\",\"\",_xlfn.XLOOKUP($A32,'MSL Data'!$A31:$A10025,'MSL Data'!G31:G10025,\"\",0))","v":""},{"$f":"IF(H32=\"\",\"\",_xlfn.XLOOKUP($A32,'MSL Data'!$A31:$A10025,'MSL Data'!H31:H10025,\"\",0))","v":""},{"$f":"IF(I32=\"\",\"\",_xlfn.XLOOKUP($A32,'MSL Data'!$A31:$A10025,'MSL Data'!I31:I10025,\"\",0))","v":""},{"$f":"IF(J32=\"\",\"\",_xlfn.XLOOKUP($A32,'MSL Data'!$A31:$A10025,'MSL Data'!J31:J10025,\"\",0))","v":""},{"$f":"IF(K32=\"\",\"\",_xlfn.XLOOKUP($A32,'MSL Data'!$A31:$A10025,'MSL Data'!K31:K10025,\"\",0))","v":""},{"$f":"IF(L32=\"\",\"\",_xlfn.XLOOKUP($A32,'MSL Data'!$A31:$A10025,'MSL Data'!L31:L10025,\"\",0))","v":""},{"$f":"IF(M32=\"\",\"\",_xlfn.XLOOKUP($A32,'MSL Data'!$A31:$A10025,'MSL Data'!M31:M10025,\"\",0))","v":""},{"$f":"IF(N32=\"\",\"\",_xlfn.XLOOKUP($A32,'MSL Data'!$A31:$A10025,'MSL Data'!N31:N10025,\"\",0))","v":""},{"$f":"IF(O32=\"\",\"\",_xlfn.XLOOKUP($A32,'MSL Data'!$A31:$A10025,'MSL Data'!O31:O10025,\"\",0))","v":""},{"$f":"IF(P32=\"\",\"\",_xlfn.XLOOKUP($A32,'MSL Data'!$A31:$A10025,'MSL Data'!P31:P10025,\"\",0))","v":""},{"$f":"IF(Q32=\"\",\"\",_xlfn.XLOOKUP($A32,'MSL Data'!$A31:$A10025,'MSL Data'!Q31:Q10025,\"\",0))","v":""},{"$f":"IF(R32=\"\",\"\",_xlfn.XLOOKUP($A32,'MSL Data'!$A31:$A10025,'MSL Data'!R31:R10025,\"\",0))","v":""},{"$f":"IF(S32=\"\",\"\",_xlfn.XLOOKUP($A32,'MSL Data'!$A31:$A10025,'MSL Data'!S31:S10025,\"\",0))","v":""},{"$f":"IF(T32=\"\",\"\",_xlfn.XLOOKUP($A32,'MSL Data'!$A31:$A10025,'MSL Data'!T31:T10025,\"\",0))","v":""},{"$f":"IF(U32=\"\",\"\",_xlfn.XLOOKUP($A32,'MSL Data'!$A31:$A10025,'MSL Data'!U31:U10025,\"\",0))","v":""},{"$f":"IF(V32=\"\",\"\",_xlfn.XLOOKUP($A32,'MSL Data'!$A31:$A10025,'MSL Data'!V31:V10025,\"\",0))","v":""}]
[null,{"$f":"IF(A33=\"\",\"\",_xlfn.XLOOKUP($A33,'MSL Data'!$A32:$A10026,'MSL Data'!B32:B10026,\"\",0))","v":""},{"$f":"IF(B33=\"\",\"\",_xlfn.XLOOKUP($A33,'MSL Data'!$A32:$A10026,'MSL Data'!C32:C10026,\"\",0))","v":""},{"$f":"IF(C33=\"\",\"\",_xlfn.XLOOKUP($A33,'MSL Data'!$A32:$A10026,'MSL Data'!W32:W10026,\"\",0))","v":""},{"$f":"IF(C33=\"\",\"\",_xlfn.XLOOKUP($A33,'MSL Data'!$A32:$A10026,'MSL Data'!D32:D10026,\"\",0))","v":""},{"$f":"IF(E33=\"\",\"\",_xlfn.XLOOKUP($A33,'MSL Data'!$A32:$A10026,'MSL Data'!E32:E10026,\"\",0))","v":""},{"$f":"IF(F33=\"\",\"\",_xlfn.XLOOKUP($A33,'MSL Data'!$A32:$A10026,'MSL Data'!F32:F10026,\"\",0))","v":""},{"$f":"IF(G33=\"\",\"\",_xlfn.XLOOKUP($A33,'MSL Data'!$A32:$A10026,'MSL Data'!G32:G10026,\"\",0))","v":""},{"$f":"IF(H33=\"\",\"\",_xlfn.XLOOKUP($A33,'MSL Data'!$A32:$A10026,'MSL Data'!H32:H10026,\"\",0))","v":""},{"$f":"IF(I33=\"\",\"\",_xlfn.XLOOKUP($A33,'MSL Data'!$A32:$A10026,'MSL Data'!I32:I10026,\"\",0))","v":""},{"$f":"IF(J33=\"\",\"\",_xlfn.XLOOKUP($A33,'MSL Data'!$A32:$A10026,'MSL Data'!J32:J10026,\"\",0))","v":""},{"$f":"IF(K33=\"\",\"\",_xlfn.XLOOKUP($A33,'MSL Data'!$A32:$A10026,'MSL Data'!K32:K10026,\"\",0))","v":""},{"$f":"IF(L33=\"\",\"\",_xlfn.XLOOKUP($A33,'MSL Data'!$A32:$A10026,'MSL Data'!L32:L10026,\"\",0))","v":""},{"$f":"IF(M33=\"\",\"\",_xlfn.XLOOKUP($A33,'MSL Data'!$A32:$A10026,'MSL Data'!M32:M10026,\"\",0))","v":""},{"$f":"IF(N33=\"\",\"\",_xlfn.XLOOKUP($A33,'MSL Data'!$A32:$A10026,'MSL Data'!N32:N10026,\"\",0))","v":""},{"$f":"IF(O33=\"\",\"\",_xlfn.XLOOKUP($A33,'MSL Data'!$A32:$A10026,'MSL Data'!O32:O10026,\"\",0))","v":""},{"$f":"IF(P33=\"\",\"\",_xlfn.XLOOKUP($A33,'MSL Data'!$A32:$A10026,'MSL Data'!P32:P10026,\"\",0))","v":""},{"$f":"IF(Q33=\"\",\"\",_xlfn.XLOOKUP($A33,'MSL Data'!$A32:$A10026,'MSL Data'!Q32:Q10026,\"\",0))","v":""},{"$f":"IF(R33=\"\",\"\",_xlfn.XLOOKUP($A33,'MSL Data'!$A32:$A10026,'MSL Data'!R32:R10026,\"\",0))","v":""},{"$f":"IF(S33=\"\",\"\",_xlfn.XLOOKUP($A33,'MSL Data'!$A32:$A10026,'MSL Data'!S32:S10026,\"\",0))","v":""},{"$f":"IF(T33=\"\",\"\",_xlfn.XLOOKUP($A33,'MSL Data'!$A32:$A10026,'MSL Data'!T32:T10026,\"\",0))","v":""},{"$f":"IF(U33=\"\",\"\",_xlfn.XLOOKUP($A33,'MSL Data'!$A32:$A10026,'MSL Data'!U32:U10026,\"\",0))","v":""},{"$f":"IF(V33=\"\",\"\",_xlfn.XLOOKUP($A33,'MSL Data'!$A32:$A10026,'MSL Data'!V32:V10026,\"\",0))","v":""}]
[null,{"$f":"IF(A34=\"\",\"\",_xlfn.XLOOKUP($A34,'MSL Data'!$A33:$A10027,'MSL Data'!B33:B10027,\"\",0))","v":""},{"$f":"IF(B34=\"\",\"\",_xlfn.XLOOKUP($A34,'MSL Data'!$A33:$A10027,'MSL Data'!C33:C10027,\"\",0))","v":""},{"$f":"IF(C34=\"\",\"\",_xlfn.XLOOKUP($A34,'MSL Data'!$A33:$A10027,'MSL Data'!W33:W10027,\"\",0))","v":""},{"$f":"IF(C34=\"\",\"\",_xlfn.XLOOKUP($A34,'MSL Data'!$A33:$A10027,'MSL Data'!D33:D10027,\"\",0))","v":""},{"$f":"IF(E34=\"\",\"\",_xlfn.XLOOKUP($A34,'MSL Data'!$A33:$A10027,'MSL Data'!E33:E10027,\"\",0))","v":""},{"$f":"IF(F34=\"\",\"\",_xlfn.XLOOKUP($A34,'MSL Data'!$A33:$A10027,'MSL Data'!F33:F10027,\"\",0))","v":""},{"$f":"IF(G34=\"\",\"\",_xlfn.XLOOKUP($A34,'MSL Data'!$A33:$A10027,'MSL Data'!G33:G10027,\"\",0))","v":""},{"$f":"IF(H34=\"\",\"\",_xlfn.XLOOKUP($A34,'MSL Data'!$A33:$A10027,'MSL Data'!H33:H10027,\"\",0))","v":""},{"$f":"IF(I34=\"\",\"\",_xlfn.XLOOKUP($A34,'MSL Data'!$A33:$A10027,'MSL Data'!I33:I10027,\"\",0))","v":""},{"$f":"IF(J34=\"\",\"\",_xlfn.XLOOKUP($A34,'MSL Data'!$A33:$A10027,'MSL Data'!J33:J10027,\"\",0))","v":""},{"$f":"IF(K34=\"\",\"\",_xlfn.XLOOKUP($A34,'MSL Data'!$A33:$A10027,'MSL Data'!K33:K10027,\"\",0))","v":""},{"$f":"IF(L34=\"\",\"\",_xlfn.XLOOKUP($A34,'MSL Data'!$A33:$A10027,'MSL Data'!L33:L10027,\"\",0))","v":""},{"$f":"IF(M34=\"\",\"\",_xlfn.XLOOKUP($A34,'MSL Data'!$A33:$A10027,'MSL Data'!M33:M10027,\"\",0))","v":""},{"$f":"IF(N34=\"\",\"\",_xlfn.XLOOKUP($A34,'MSL Data'!$A33:$A10027,'MSL Data'!N33:N10027,\"\",0))","v":""},{"$f":"IF(O34=\"\",\"\",_xlfn.XLOOKUP($A34,'MSL Data'!$A33:$A10027,'MSL Data'!O33:O10027,\"\",0))","v":""},{"$f":"IF(P34=\"\",\"\",_xlfn.XLOOKUP($A34,'MSL Data'!$A33:$A10027,'MSL Data'!P33:P10027,\"\",0))","v":""},{"$f":"IF(Q34=\"\",\"\",_xlfn.XLOOKUP($A34,'MSL Data'!$A33:$A10027,'MSL Data'!Q33:Q10027,\"\",0))","v":""},{"$f":"IF(R34=\"\",\"\",_xlfn.XLOOKUP($A34,'MSL Data'!$A33:$A10027,'MSL Data'!R33:R10027,\"\",0))","v":""},{"$f":"IF(S34=\"\",\"\",_xlfn.XLOOKUP($A34,'MSL Data'!$A33:$A10027,'MSL Data'!S33:S10027,\"\",0))","v":""},{"$f":"IF(T34=\"\",\"\",_xlfn.XLOOKUP($A34,'MSL Data'!$A33:$A10027,'MSL Data'!T33:T10027,\"\",0))","v":""},{"$f":"IF(U34=\"\",\"\",_xlfn.XLOOKUP($A34,'MSL Data'!$A33:$A10027,'MSL Data'!U33:U10027,\"\",0))","v":""},{"$f":"IF(V34=\"\",\"\",_xlfn.XLOOKUP($A34,'MSL Data'!$A33:$A10027,'MSL Data'!V33:V10027,\"\",0))","v":""}]
[null,{"$f":"IF(A35=\"\",\"\",_xlfn.XLOOKUP($A35,'MSL Data'!$A34:$A10028,'MSL Data'!B34:B10028,\"\",0))","v":""},{"$f":"IF(B35=\"\",\"\",_xlfn.XLOOKUP($A35,'MSL Data'!$A34:$A10028,'MSL Data'!C34:C10028,\"\",0))","v":""},{"$f":"IF(C35=\"\",\"\",_xlfn.XLOOKUP($A35,'MSL Data'!$A34:$A10028,'MSL Data'!W34:W10028,\"\",0))","v":""},{"$f":"IF(C35=\"\",\"\",_xlfn.XLOOKUP($A35,'MSL Data'!$A34:$A10028,'MSL Data'!D34:D10028,\"\",0))","v":""},{"$f":"IF(E35=\"\",\"\",_xlfn.XLOOKUP($A35,'MSL Data'!$A34:$A10028,'MSL Data'!E34:E10028,\"\",0))","v":""},{"$f":"IF(F35=\"\",\"\",_xlfn.XLOOKUP($A35,'MSL Data'!$A34:$A10028,'MSL Data'!F34:F10028,\"\",0))","v":""},{"$f":"IF(G35=\"\",\"\",_xlfn.XLOOKUP($A35,'MSL Data'!$A34:$A10028,'MSL Data'!G34:G10028,\"\",0))","v":""},{"$f":"IF(H35=\"\",\"\",_xlfn.XLOOKUP($A35,'MSL Data'!$A34:$A10028,'MSL Data'!H34:H10028,\"\",0))","v":""},{"$f":"IF(I35=\"\",\"\",_xlfn.XLOOKUP($A35,'MSL Data'!$A34:$A10028,'MSL Data'!I34:I10028,\"\",0))","v":""},{"$f":"IF(J35=\"\",\"\",_xlfn.XLOOKUP($A35,'MSL Data'!$A34:$A10028,'MSL Data'!J34:J10028,\"\",0))","v":""},{"$f":"IF(K35=\"\",\"\",_xlfn.XLOOKUP($A35,'MSL Data'!$A34:$A10028,'MSL Data'!K34:K10028,\"\",0))","v":""},{"$f":"IF(L35=\"\",\"\",_xlfn.XLOOKUP($A35,'MSL Data'!$A34:$A10028,'MSL Data'!L34:L10028,\"\",0))","v":""},{"$f":"IF(M35=\"\",\"\",_xlfn.XLOOKUP($A35,'MSL Data'!$A34:$A10028,'MSL Data'!M34:M10028,\"\",0))","v":""},{"$f":"IF(N35=\"\",\"\",_xlfn.XLOOKUP($A35,'MSL Data'!$A34:$A10028,'MSL Data'!N34:N10028,\"\",0))","v":""},{"$f":"IF(O35=\"\",\"\",_xlfn.XLOOKUP($A35,'MSL Data'!$A34:$A10028,'MSL Data'!O34:O10028,\"\",0))","v":""},{"$f":"IF(P35=\"\",\"\",_xlfn.XLOOKUP($A35,'MSL Data'!$A34:$A10028,'MSL Data'!P34:P10028,\"\",0))","v":""},{"$f":"IF(Q35=\"\",\"\",_xlfn.XLOOKUP($A35,'MSL Data'!$A34:$A10028,'MSL Data'!Q34:Q10028,\"\",0))","v":""},{"$f":"IF(R35=\"\",\"\",_xlfn.XLOOKUP($A35,'MSL Data'!$A34:$A10028,'MSL Data'!R34:R10028,\"\",0))","v":""},{"$f":"IF(S35=\"\",\"\",_xlfn.XLOOKUP($A35,'MSL Data'!$A34:$A10028,'MSL Data'!S34:S10028,\"\",0))","v":""},{"$f":"IF(T35=\"\",\"\",_xlfn.XLOOKUP($A35,'MSL Data'!$A34:$A10028,'MSL Data'!T34:T10028,\"\",0))","v":""},{"$f":"IF(U35=\"\",\"\",_xlfn.XLOOKUP($A35,'MSL Data'!$A34:$A10028,'MSL Data'!U34:U10028,\"\",0))","v":""},{"$f":"IF(V35=\"\",\"\",_xlfn.XLOOKUP($A35,'MSL Data'!$A34:$A10028,'MSL Data'!V34:V10028,\"\",0))","v":""}]
[null,{"$f":"IF(A36=\"\",\"\",_xlfn.XLOOKUP($A36,'MSL Data'!$A35:$A10029,'MSL Data'!B35:B10029,\"\",0))","v":""},{"$f":"IF(B36=\"\",\"\",_xlfn.XLOOKUP($A36,'MSL Data'!$A35:$A10029,'MSL Data'!C35:C10029,\"\",0))","v":""},{"$f":"IF(C36=\"\",\"\",_xlfn.XLOOKUP($A36,'MSL Data'!$A35:$A10029,'MSL Data'!W35:W10029,\"\",0))","v":""},{"$f":"IF(C36=\"\",\"\",_xlfn.XLOOKUP($A36,'MSL Data'!$A35:$A10029,'MSL Data'!D35:D10029,\"\",0))","v":""},{"$f":"IF(E36=\"\",\"\",_xlfn.XLOOKUP($A36,'MSL Data'!$A35:$A10029,'MSL Data'!E35:E10029,\"\",0))","v":""},{"$f":"IF(F36=\"\",\"\",_xlfn.XLOOKUP($A36,'MSL Data'!$A35:$A10029,'MSL Data'!F35:F10029,\"\",0))","v":""},{"$f":"IF(G36=\"\",\"\",_xlfn.XLOOKUP($A36,'MSL Data'!$A35:$A10029,'MSL Data'!G35:G10029,\"\",0))","v":""},{"$f":"IF(H36=\"\",\"\",_xlfn.XLOOKUP($A36,'MSL Data'!$A35:$A10029,'MSL Data'!H35:H10029,\"\",0))","v":""},{"$f":"IF(I36=\"\",\"\",_xlfn.XLOOKUP($A36,'MSL Data'!$A35:$A10029,'MSL Data'!I35:I10029,\"\",0))","v":""},{"$f":"IF(J36=\"\",\"\",_xlfn.XLOOKUP($A36,'MSL Data'!$A35:$A10029,'MSL Data'!J35:J10029,\"\",0))","v":""},{"$f":"IF(K36=\"\",\"\",_xlfn.XLOOKUP($A36,'MSL Data'!$A35:$A10029,'MSL Data'!K35:K10029,\"\",0))","v":""},{"$f":"IF(L36=\"\",\"\",_xlfn.XLOOKUP($A36,'MSL Data'!$A35:$A10029,'MSL Data'!L35:L10029,\"\",0))","v":""},{"$f":"IF(M36=\"\",\"\",_xlfn.XLOOKUP($A36,'MSL Data'!$A35:$A10029,'MSL Data'!M35:M10029,\"\",0))","v":""},{"$f":"IF(N36=\"\",\"\",_xlfn.XLOOKUP($A36,'MSL Data'!$A35:$A10029,'MSL Data'!N35:N10029,\"\",0))","v":""},{"$f":"IF(O36=\"\",\"\",_xlfn.XLOOKUP($A36,'MSL Data'!$A35:$A10029,'MSL Data'!O35:O10029,\"\",0))","v":""},{"$f":"IF(P36=\"\",\"\",_xlfn.XLOOKUP($A36,'MSL Data'!$A35:$A10029,'MSL Data'!P35:P10029,\"\",0))","v":""},{"$f":"IF(Q36=\"\",\"\",_xlfn.XLOOKUP($A36,'MSL Data'!$A35:$A10029,'MSL Data'!Q35:Q10029,\"\",0))","v":""},{"$f":"IF(R36=\"\",\"\",_xlfn.XLOOKUP($A36,'MSL Data'!$A35:$A10029,'MSL Data'!R35:R10029,\"\",0))","v":""},{"$f":"IF(S36=\"\",\"\",_xlfn.XLOOKUP($A36,'MSL Data'!$A35:$A10029,'MSL Data'!S35:S10029,\"\",0))","v":""},{"$f":"IF(T36=\"\",\"\",_xlfn.XLOOKUP($A36,'MSL Data'!$A35:$A10029,'MSL Data'!T35:T10029,\"\",0))","v":""},{"$f":"IF(U36=\"\",\"\",_xlfn.XLOOKUP($A36,'MSL Data'!$A35:$A10029,'MSL Data'!U35:U10029,\"\",0))","v":""},{"$f":"IF(V36=\"\",\"\",_xlfn.XLOOKUP($A36,'MSL Data'!$A35:$A10029,'MSL Data'!V35:V10029,\"\",0))","v":""}]
[null,{"$f":"IF(A37=\"\",\"\",_xlfn.XLOOKUP($A37,'MSL Data'!$A36:$A10030,'MSL Data'!B36:B10030,\"\",0))","v":""},{"$f":"IF(B37=\"\",\"\",_xlfn.XLOOKUP($A37,'MSL Data'!$A36:$A10030,'MSL Data'!C36:C10030,\"\",0))","v":""},{"$f":"IF(C37=\"\",\"\",_xlfn.XLOOKUP($A37,'MSL Data'!$A36:$A10030,'MSL Data'!W36:W10030,\"\",0))","v":""},{"$f":"IF(C37=\"\",\"\",_xlfn.XLOOKUP($A37,'MSL Data'!$A36:$A10030,'MSL Data'!D36:D10030,\"\",0))","v":""},{"$f":"IF(E37=\"\",\"\",_xlfn.XLOOKUP($A37,'MSL Data'!$A36:$A10030,'MSL Data'!E36:E10030,\"\",0))","v":""},{"$f":"IF(F37=\"\",\"\",_xlfn.XLOOKUP($A37,'MSL Data'!$A36:$A10030,'MSL Data'!F36:F10030,\"\",0))","v":""},{"$f":"IF(G37=\"\",\"\",_xlfn.XLOOKUP($A37,'MSL Data'!$A36:$A10030,'MSL Data'!G36:G10030,\"\",0))","v":""},{"$f":"IF(H37=\"\",\"\",_xlfn.XLOOKUP($A37,'MSL Data'!$A36:$A10030,'MSL Data'!H36:H10030,\"\",0))","v":""},{"$f":"IF(I37=\"\",\"\",_xlfn.XLOOKUP($A37,'MSL Data'!$A36:$A10030,'MSL Data'!I36:I10030,\"\",0))","v":""},{"$f":"IF(J37=\"\",\"\",_xlfn.XLOOKUP($A37,'MSL Data'!$A36:$A10030,'MSL Data'!J36:J10030,\"\",0))","v":""},{"$f":"IF(K37=\"\",\"\",_xlfn.XLOOKUP($A37,'MSL Data'!$A36:$A10030,'MSL Data'!K36:K10030,\"\",0))","v":""},{"$f":"IF(L37=\"\",\"\",_xlfn.XLOOKUP($A37,'MSL Data'!$A36:$A10030,'MSL Data'!L36:L10030,\"\",0))","v":""},{"$f":"IF(M37=\"\",\"\",_xlfn.XLOOKUP($A37,'MSL Data'!$A36:$A10030,'MSL Data'!M36:M10030,\"\",0))","v":""},{"$f":"IF(N37=\"\",\"\",_xlfn.XLOOKUP($A37,'MSL Data'!$A36:$A10030,'MSL Data'!N36:N10030,\"\",0))","v":""},{"$f":"IF(O37=\"\",\"\",_xlfn.XLOOKUP($A37,'MSL Data'!$A36:$A10030,'MSL Data'!O36:O10030,\"\",0))","v":""},{"$f":"IF(P37=\"\",\"\",_xlfn.XLOOKUP($A37,'MSL Data'!$A36:$A10030,'MSL Data'!P36:P10030,\"\",0))","v":""},{"$f":"IF(Q37=\"\",\"\",_xlfn.XLOOKUP($A37,'MSL Data'!$A36:$A10030,'MSL Data'!Q36:Q10030,\"\",0))","v":""},{"$f":"IF(R37=\"\",\"\",_xlfn.XLOOKUP($A37,'MSL Data'!$A36:$A10030,'MSL Data'!R36:R10030,\"\",0))","v":""},{"$f":"IF(S37=\"\",\"\",_xlfn.XLOOKUP($A37,'MSL Data'!$A36:$A10030,'MSL Data'!S36:S10030,\"\",0))","v":""},{"$f":"IF(T37=\"\",\"\",_xlfn.XLOOKUP($A37,'MSL Data'!$A36:$A10030,'MSL Data'!T36:T10030,\"\",0))","v":""},{"$f":"IF(U37=\"\",\"\",_xlfn.XLOOKUP($A37,'MSL Data'!$A36:$A10030,'MSL Data'!U36:U10030,\"\",0))","v":""},{"$f":"IF(V37=\"\",\"\",_xlfn.XLOOKUP($A37,'MSL Data'!$A36:$A10030,'MSL Data'!V36:V10030,\"\",0))","v":""}]
[null,{"$f":"IF(A38=\"\",\"\",_xlfn.XLOOKUP($A38,'MSL Data'!$A37:$A10031,'MSL Data'!B37:B10031,\"\",0))","v":""},{"$f":"IF(B38=\"\",\"\",_xlfn.XLOOKUP($A38,'MSL Data'!$A37:$A10031,'MSL Data'!C37:C10031,\"\",0))","v":""},{"$f":"IF(C38=\"\",\"\",_xlfn.XLOOKUP($A38,'MSL Data'!$A37:$A10031,'MSL Data'!W37:W10031,\"\",0))","v":""},{"$f":"IF(C38=\"\",\"\",_xlfn.XLOOKUP($A38,'MSL Data'!$A37:$A10031,'MSL Data'!D37:D10031,\"\",0))","v":""},{"$f":"IF(E38=\"\",\"\",_xlfn.XLOOKUP($A38,'MSL Data'!$A37:$A10031,'MSL Data'!E37:E10031,\"\",0))","v":""},{"$f":"IF(F38=\"\",\"\",_xlfn.XLOOKUP($A38,'MSL Data'!$A37:$A10031,'MSL Data'!F37:F10031,\"\",0))","v":""},{"$f":"IF(G38=\"\",\"\",_xlfn.XLOOKUP($A38,'MSL Data'!$A37:$A10031,'MSL Data'!G37:G10031,\"\",0))","v":""},{"$f":"IF(H38=\"\",\"\",_xlfn.XLOOKUP($A38,'MSL Data'!$A37:$A10031,'MSL Data'!H37:H10031,\"\",0))","v":""},{"$f":"IF(I38=\"\",\"\",_xlfn.XLOOKUP($A38,'MSL Data'!$A37:$A10031,'MSL Data'!I37:I10031,\"\",0))","v":""},{"$f":"IF(J38=\"\",\"\",_xlfn.XLOOKUP($A38,'MSL Data'!$A37:$A10031,'MSL Data'!J37:J10031,\"\",0))","v":""},{"$f":"IF(K38=\"\",\"\",_xlfn.XLOOKUP($A38,'MSL Data'!$A37:$A10031,'MSL Data'!K37:K10031,\"\",0))","v":""},{"$f":"IF(L38=\"\",\"\",_xlfn.XLOOKUP($A38,'MSL Data'!$A37:$A10031,'MSL Data'!L37:L10031,\"\",0))","v":""},{"$f":"IF(M38=\"\",\"\",_xlfn.XLOOKUP($A38,'MSL Data'!$A37:$A10031,'MSL Data'!M37:M10031,\"\",0))","v":""},{"$f":"IF(N38=\"\",\"\",_xlfn.XLOOKUP($A38,'MSL Data'!$A37:$A10031,'MSL Data'!N37:N10031,\"\",0))","v":""},{"$f":"IF(O38=\"\",\"\",_xlfn.XLOOKUP($A38,'MSL Data'!$A37:$A10031,'MSL Data'!O37:O10031,\"\",0))","v":""},{"$f":"IF(P38=\"\",\"\",_xlfn.XLOOKUP($A38,'MSL Data'!$A37:$A10031,'MSL Data'!P37:P10031,\"\",0))","v":""},{"$f":"IF(Q38=\"\",\"\",_xlfn.XLOOKUP($A38,'MSL Data'!$A37:$A10031,'MSL Data'!Q37:Q10031,\"\",0))","v":""},{"$f":"IF(R38=\"\",\"\",_xlfn.XLOOKUP($A38,'MSL Data'!$A37:$A10031,'MSL Data'!R37:R10031,\"\",0))","v":""},{"$f":"IF(S38=\"\",\"\",_xlfn.XLOOKUP($A38,'MSL Data'!$A37:$A10031,'MSL Data'!S37:S10031,\"\",0))","v":""},{"$f":"IF(T38=\"\",\"\",_xlfn.XLOOKUP($A38,'MSL Data'!$A37:$A10031,'MSL Data'!T37:T10031,\"\",0))","v":""},{"$f":"IF(U38=\"\",\"\",_xlfn.XLOOKUP($A38,'MSL Data'!$A37:$A10031,'MSL Data'!U37:U10031,\"\",0))","v":""},{"$f":"IF(V38=\"\",\"\",_xlfn.XLOOKUP($A38,'MSL Data'!$A37:$A10031,'MSL Data'!V37:V10031,\"\",0))","v":""}]
[null,{"$f":"IF(A39=\"\",\"\",_xlfn.XLOOKUP($A39,'MSL Data'!$A38:$A10032,'MSL Data'!B38:B10032,\"\",0))","v":""},{"$f":"IF(B39=\"\",\"\",_xlfn.XLOOKUP($A39,'MSL Data'!$A38:$A10032,'MSL Data'!C38:C10032,\"\",0))","v":""},{"$f":"IF(C39=\"\",\"\",_xlfn.XLOOKUP($A39,'MSL Data'!$A38:$A10032,'MSL Data'!W38:W10032,\"\",0))","v":""},{"$f":"IF(C39=\"\",\"\",_xlfn.XLOOKUP($A39,'MSL Data'!$A38:$A10032,'MSL Data'!D38:D10032,\"\",0))","v":""},{"$f":"IF(E39=\"\",\"\",_xlfn.XLOOKUP($A39,'MSL Data'!$A38:$A10032,'MSL Data'!E38:E10032,\"\",0))","v":""},{"$f":"IF(F39=\"\",\"\",_xlfn.XLOOKUP($A39,'MSL Data'!$A38:$A10032,'MSL Data'!F38:F10032,\"\",0))","v":""},{"$f":"IF(G39=\"\",\"\",_xlfn.XLOOKUP($A39,'MSL Data'!$A38:$A10032,'MSL Data'!G38:G10032,\"\",0))","v":""},{"$f":"IF(H39=\"\",\"\",_xlfn.XLOOKUP($A39,'MSL Data'!$A38:$A10032,'MSL Data'!H38:H10032,\"\",0))","v":""},{"$f":"IF(I39=\"\",\"\",_xlfn.XLOOKUP($A39,'MSL Data'!$A38:$A10032,'MSL Data'!I38:I10032,\"\",0))","v":""},{"$f":"IF(J39=\"\",\"\",_xlfn.XLOOKUP($A39,'MSL Data'!$A38:$A10032,'MSL Data'!J38:J10032,\"\",0))","v":""},{"$f":"IF(K39=\"\",\"\",_xlfn.XLOOKUP($A39,'MSL Data'!$A38:$A10032,'MSL Data'!K38:K10032,\"\",0))","v":""},{"$f":"IF(L39=\"\",\"\",_xlfn.XLOOKUP($A39,'MSL Data'!$A38:$A10032,'MSL Data'!L38:L10032,\"\",0))","v":""},{"$f":"IF(M39=\"\",\"\",_xlfn.XLOOKUP($A39,'MSL Data'!$A38:$A10032,'MSL Data'!M38:M10032,\"\",0))","v":""},{"$f":"IF(N39=\"\",\"\",_xlfn.XLOOKUP($A39,'MSL Data'!$A38:$A10032,'MSL Data'!N38:N10032,\"\",0))","v":""},{"$f":"IF(O39=\"\",\"\",_xlfn.XLOOKUP($A39,'MSL Data'!$A38:$A10032,'MSL Data'!O38:O10032,\"\",0))","v":""},{"$f":"IF(P39=\"\",\"\",_xlfn.XLOOKUP($A39,'MSL Data'!$A38:$A10032,'MSL Data'!P38:P10032,\"\",0))","v":""},{"$f":"IF(Q39=\"\",\"\",_xlfn.XLOOKUP($A39,'MSL Data'!$A38:$A10032,'MSL Data'!Q38:Q10032,\"\",0))","v":""},{"$f":"IF(R39=\"\",\"\",_xlfn.XLOOKUP($A39,'MSL Data'!$A38:$A10032,'MSL Data'!R38:R10032,\"\",0))","v":""},{"$f":"IF(S39=\"\",\"\",_xlfn.XLOOKUP($A39,'MSL Data'!$A38:$A10032,'MSL Data'!S38:S10032,\"\",0))","v":""},{"$f":"IF(T39=\"\",\"\",_xlfn.XLOOKUP($A39,'MSL Data'!$A38:$A10032,'MSL Data'!T38:T10032,\"\",0))","v":""},{"$f":"IF(U39=\"\",\"\",_xlfn.XLOOKUP($A39,'MSL Data'!$A38:$A10032,'MSL Data'!U38:U10032,\"\",0))","v":""},{"$f":"IF(V39=\"\",\"\",_xlfn.XLOOKUP($A39,'MSL Data'!$A38:$A10032,'MSL Data'!V38:V10032,\"\",0))","v":""}]
[null,{"$f":"IF(A40=\"\",\"\",_xlfn.XLOOKUP($A40,'MSL Data'!$A39:$A10033,'MSL Data'!B39:B10033,\"\",0))","v":""},{"$f":"IF(B40=\"\",\"\",_xlfn.XLOOKUP($A40,'MSL Data'!$A39:$A10033,'MSL Data'!C39:C10033,\"\",0))","v":""},{"$f":"IF(C40=\"\",\"\",_xlfn.XLOOKUP($A40,'MSL Data'!$A39:$A10033,'MSL Data'!W39:W10033,\"\",0))","v":""},{"$f":"IF(C40=\"\",\"\",_xlfn.XLOOKUP($A40,'MSL Data'!$A39:$A10033,'MSL Data'!D39:D10033,\"\",0))","v":""},{"$f":"IF(E40=\"\",\"\",_xlfn.XLOOKUP($A40,'MSL Data'!$A39:$A10033,'MSL Data'!E39:E10033,\"\",0))","v":""},{"$f":"IF(F40=\"\",\"\",_xlfn.XLOOKUP($A40,'MSL Data'!$A39:$A10033,'MSL Data'!F39:F10033,\"\",0))","v":""},{"$f":"IF(G40=\"\",\"\",_xlfn.XLOOKUP($A40,'MSL Data'!$A39:$A10033,'MSL Data'!G39:G10033,\"\",0))","v":""},{"$f":"IF(H40=\"\",\"\",_xlfn.XLOOKUP($A40,'MSL Data'!$A39:$A10033,'MSL Data'!H39:H10033,\"\",0))","v":""},{"$f":"IF(I40=\"\",\"\",_xlfn.XLOOKUP($A40,'MSL Data'!$A39:$A10033,'MSL Data'!I39:I10033,\"\",0))","v":""},{"$f":"IF(J40=\"\",\"\",_xlfn.XLOOKUP($A40,'MSL Data'!$A39:$A10033,'MSL Data'!J39:J10033,\"\",0))","v":""},{"$f":"IF(K40=\"\",\"\",_xlfn.XLOOKUP($A40,'MSL Data'!$A39:$A10033,'MSL Data'!K39:K10033,\"\",0))","v":""},{"$f":"IF(L40=\"\",\"\",_xlfn.XLOOKUP($A40,'MSL Data'!$A39:$A10033,'MSL Data'!L39:L10033,\"\",0))","v":""},{"$f":"IF(M40=\"\",\"\",_xlfn.XLOOKUP($A40,'MSL Data'!$A39:$A10033,'MSL Data'!M39:M10033,\"\",0))","v":""},{"$f":"IF(N40=\"\",\"\",_xlfn.XLOOKUP($A40,'MSL Data'!$A39:$A10033,'MSL Data'!N39:N10033,\"\",0))","v":""},{"$f":"IF(O40=\"\",\"\",_xlfn.XLOOKUP($A40,'MSL Data'!$A39:$A10033,'MSL Data'!O39:O10033,\"\",0))","v":""},{"$f":"IF(P40=\"\",\"\",_xlfn.XLOOKUP($A40,'MSL Data'!$A39:$A10033,'MSL Data'!P39:P10033,\"\",0))","v":""},{"$f":"IF(Q40=\"\",\"\",_xlfn.XLOOKUP($A40,'MSL Data'!$A39:$A10033,'MSL Data'!Q39:Q10033,\"\",0))","v":""},{"$f":"IF(R40=\"\",\"\",_xlfn.XLOOKUP($A40,'MSL Data'!$A39:$A10033,'MSL Data'!R39:R10033,\"\",0))","v":""},{"$f":"IF(S40=\"\",\"\",_xlfn.XLOOKUP($A40,'MSL Data'!$A39:$A10033,'MSL Data'!S39:S10033,\"\",0))","v":""},{"$f":"IF(T40=\"\",\"\",_xlfn.XLOOKUP($A40,'MSL Data'!$A39:$A10033,'MSL Data'!T39:T10033,\"\",0))","v":""},{"$f":"IF(U40=\"\",\"\",_xlfn.XLOOKUP($A40,'MSL Data'!$A39:$A10033,'MSL Data'!U39:U10033,\"\",0))","v":""},{"$f":"IF(V40=\"\",\"\",_xlfn.XLOOKUP($A40,'MSL Data'!$A39:$A10033,'MSL Data'!V39:V10033,\"\",0))","v":""}]
[null,{"$f":"IF(A41=\"\",\"\",_xlfn.XLOOKUP($A41,'MSL Data'!$A40:$A10034,'MSL Data'!B40:B10034,\"\",0))","v":""},{"$f":"IF(B41=\"\",\"\",_xlfn.XLOOKUP($A41,'MSL Data'!$A40:$A10034,'MSL Data'!C40:C10034,\"\",0))","v":""},{"$f":"IF(C41=\"\",\"\",_xlfn.XLOOKUP($A41,'MSL Data'!$A40:$A10034,'MSL Data'!W40:W10034,\"\",0))","v":""},{"$f":"IF(C41=\"\",\"\",_xlfn.XLOOKUP($A41,'MSL Data'!$A40:$A10034,'MSL Data'!D40:D10034,\"\",0))","v":""},{"$f":"IF(E41=\"\",\"\",_xlfn.XLOOKUP($A41,'MSL Data'!$A40:$A10034,'MSL Data'!E40:E10034,\"\",0))","v":""},{"$f":"IF(F41=\"\",\"\",_xlfn.XLOOKUP($A41,'MSL Data'!$A40:$A10034,'MSL Data'!F40:F10034,\"\",0))","v":""},{"$f":"IF(G41=\"\",\"\",_xlfn.XLOOKUP($A41,'MSL Data'!$A40:$A10034,'MSL Data'!G40:G10034,\"\",0))","v":""},{"$f":"IF(H41=\"\",\"\",_xlfn.XLOOKUP($A41,'MSL Data'!$A40:$A10034,'MSL Data'!H40:H10034,\"\",0))","v":""},{"$f":"IF(I41=\"\",\"\",_xlfn.XLOOKUP($A41,'MSL Data'!$A40:$A10034,'MSL Data'!I40:I10034,\"\",0))","v":""},{"$f":"IF(J41=\"\",\"\",_xlfn.XLOOKUP($A41,'MSL Data'!$A40:$A10034,'MSL Data'!J40:J10034,\"\",0))","v":""},{"$f":"IF(K41=\"\",\"\",_xlfn.XLOOKUP($A41,'MSL Data'!$A40:$A10034,'MSL Data'!K40:K10034,\"\",0))","v":""},{"$f":"IF(L41=\"\",\"\",_xlfn.XLOOKUP($A41,'MSL Data'!$A40:$A10034,'MSL Data'!L40:L10034,\"\",0))","v":""},{"$f":"IF(M41=\"\",\"\",_xlfn.XLOOKUP($A41,'MSL Data'!$A40:$A10034,'MSL Data'!M40:M10034,\"\",0))","v":""},{"$f":"IF(N41=\"\",\"\",_xlfn.XLOOKUP($A41,'MSL Data'!$A40:$A10034,'MSL Data'!N40:N10034,\"\",0))","v":""},{"$f":"IF(O41=\"\",\"\",_xlfn.XLOOKUP($A41,'MSL Data'!$A40:$A10034,'MSL Data'!O40:O10034,\"\",0))","v":""},{"$f":"IF(P41=\"\",\"\",_xlfn.XLOOKUP($A41,'MSL Data'!$A40:$A10034,'MSL Data'!P40:P10034,\"\",0))","v":""},{"$f":"IF(Q41=\"\",\"\",_xlfn.XLOOKUP($A41,'MSL Data'!$A40:$A10034,'MSL Data'!Q40:Q10034,\"\",0))","v":""},{"$f":"IF(R41=\"\",\"\",_xlfn.XLOOKUP($A41,'MSL Data'!$A40:$A10034,'MSL Data'!R40:R10034,\"\",0))","v":""},{"$f":"IF(S41=\"\",\"\",_xlfn.XLOOKUP($A41,'MSL Data'!$A40:$A10034,'MSL Data'!S40:S10034,\"\",0))","v":""},{"$f":"IF(T41=\"\",\"\",_xlfn.XLOOKUP($A41,'MSL Data'!$A40:$A10034,'MSL Data'!T40:T10034,\"\",0))","v":""},{"$f":"IF(U41=\"\",\"\",_xlfn.XLOOKUP($A41,'MSL Data'!$A40:$A10034,'MSL Data'!U40:U10034,\"\",0))","v":""},{"$f":"IF(V41=\"\",\"\",_xlfn.XLOOKUP($A41,'MSL Data'!$A40:$A10034,'MSL Data'!V40:V10034,\"\",0))","v":""}]
[null,{"$f":"IF(A42=\"\",\"\",_xlfn.XLOOKUP($A42,'MSL Data'!$A41:$A10035,'MSL Data'!B41:B10035,\"\",0))","v":""},{"$f":"IF(B42=\"\",\"\",_xlfn.XLOOKUP($A42,'MSL Data'!$A41:$A10035,'MSL Data'!C41:C10035,\"\",0))","v":""},{"$f":"IF(C42=\"\",\"\",_xlfn.XLOOKUP($A42,'MSL Data'!$A41:$A10035,'MSL Data'!W41:W10035,\"\",0))","v":""},{"$f":"IF(C42=\"\",\"\",_xlfn.XLOOKUP($A42,'MSL Data'!$A41:$A10035,'MSL Data'!D41:D10035,\"\",0))","v":""},{"$f":"IF(E42=\"\",\"\",_xlfn.XLOOKUP($A42,'MSL Data'!$A41:$A10035,'MSL Data'!E41:E10035,\"\",0))","v":""},{"$f":"IF(F42=\"\",\"\",_xlfn.XLOOKUP($A42,'MSL Data'!$A41:$A10035,'MSL Data'!F41:F10035,\"\",0))","v":""},{"$f":"IF(G42=\"\",\"\",_xlfn.XLOOKUP($A42,'MSL Data'!$A41:$A10035,'MSL Data'!G41:G10035,\"\",0))","v":""},{"$f":"IF(H42=\"\",\"\",_xlfn.XLOOKUP($A42,'MSL Data'!$A41:$A10035,'MSL Data'!H41:H10035,\"\",0))","v":""},{"$f":"IF(I42=\"\",\"\",_xlfn.XLOOKUP($A42,'MSL Data'!$A41:$A10035,'MSL Data'!I41:I10035,\"\",0))","v":""},{"$f":"IF(J42=\"\",\"\",_xlfn.XLOOKUP($A42,'MSL Data'!$A41:$A10035,'MSL Data'!J41:J10035,\"\",0))","v":""},{"$f":"IF(K42=\"\",\"\",_xlfn.XLOOKUP($A42,'MSL Data'!$A41:$A10035,'MSL Data'!K41:K10035,\"\",0))","v":""},{"$f":"IF(L42=\"\",\"\",_xlfn.XLOOKUP($A42,'MSL Data'!$A41:$A10035,'MSL Data'!L41:L10035,\"\",0))","v":""},{"$f":"IF(M42=\"\",\"\",_xlfn.XLOOKUP($A42,'MSL Data'!$A41:$A10035,'MSL Data'!M41:M10035,\"\",0))","v":""},{"$f":"IF(N42=\"\",\"\",_xlfn.XLOOKUP($A42,'MSL Data'!$A41:$A10035,'MSL Data'!N41:N10035,\"\",0))","v":""},{"$f":"IF(O42=\"\",\"\",_xlfn.XLOOKUP($A42,'MSL Data'!$A41:$A10035,'MSL Data'!O41:O10035,\"\",0))","v":""},{"$f":"IF(P42=\"\",\"\",_xlfn.XLOOKUP($A42,'MSL Data'!$A41:$A10035,'MSL Data'!P41:P10035,\"\",0))","v":""},{"$f":"IF(Q42=\"\",\"\",_xlfn.XLOOKUP($A42,'MSL Data'!$A41:$A10035,'MSL Data'!Q41:Q10035,\"\",0))","v":""},{"$f":"IF(R42=\"\",\"\",_xlfn.XLOOKUP($A42,'MSL Data'!$A41:$A10035,'MSL Data'!R41:R10035,\"\",0))","v":""},{"$f":"IF(S42=\"\",\"\",_xlfn.XLOOKUP($A42,'MSL Data'!$A41:$A10035,'MSL Data'!S41:S10035,\"\",0))","v":""},{"$f":"IF(T42=\"\",\"\",_xlfn.XLOOKUP($A42,'MSL Data'!$A41:$A10035,'MSL Data'!T41:T10035,\"\",0))","v":""},{"$f":"IF(U42=\"\",\"\",_xlfn.XLOOKUP($A42,'MSL Data'!$A41:$A10035,'MSL Data'!U41:U10035,\"\",0))","v":""},{"$f":"IF(V42=\"\",\"\",_xlfn.XLOOKUP($A42,'MSL Data'!$A41:$A10035,'MSL Data'!V41:V10035,\"\",0))","v":""}]
[null,{"$f":"IF(A43=\"\",\"\",_xlfn.XLOOKUP($A43,'MSL Data'!$A42:$A10036,'MSL Data'!B42:B10036,\"\",0))","v":""},{"$f":"IF(B43=\"\",\"\",_xlfn.XLOOKUP($A43,'MSL Data'!$A42:$A10036,'MSL Data'!C42:C10036,\"\",0))","v":""},{"$f":"IF(C43=\"\",\"\",_xlfn.XLOOKUP($A43,'MSL Data'!$A42:$A10036,'MSL Data'!W42:W10036,\"\",0))","v":""},{"$f":"IF(C43=\"\",\"\",_xlfn.XLOOKUP($A43,'MSL Data'!$A42:$A10036,'MSL Data'!D42:D10036,\"\",0))","v":""},{"$f":"IF(E43=\"\",\"\",_xlfn.XLOOKUP($A43,'MSL Data'!$A42:$A10036,'MSL Data'!E42:E10036,\"\",0))","v":""},{"$f":"IF(F43=\"\",\"\",_xlfn.XLOOKUP($A43,'MSL Data'!$A42:$A10036,'MSL Data'!F42:F10036,\"\",0))","v":""},{"$f":"IF(G43=\"\",\"\",_xlfn.XLOOKUP($A43,'MSL Data'!$A42:$A10036,'MSL Data'!G42:G10036,\"\",0))","v":""},{"$f":"IF(H43=\"\",\"\",_xlfn.XLOOKUP($A43,'MSL Data'!$A42:$A10036,'MSL Data'!H42:H10036,\"\",0))","v":""},{"$f":"IF(I43=\"\",\"\",_xlfn.XLOOKUP($A43,'MSL Data'!$A42:$A10036,'MSL Data'!I42:I10036,\"\",0))","v":""},{"$f":"IF(J43=\"\",\"\",_xlfn.XLOOKUP($A43,'MSL Data'!$A42:$A10036,'MSL Data'!J42:J10036,\"\",0))","v":""},{"$f":"IF(K43=\"\",\"\",_xlfn.XLOOKUP($A43,'MSL Data'!$A42:$A10036,'MSL Data'!K42:K10036,\"\",0))","v":""},{"$f":"IF(L43=\"\",\"\",_xlfn.XLOOKUP($A43,'MSL Data'!$A42:$A10036,'MSL Data'!L42:L10036,\"\",0))","v":""},{"$f":"IF(M43=\"\",\"\",_xlfn.XLOOKUP($A43,'MSL Data'!$A42:$A10036,'MSL Data'!M42:M10036,\"\",0))","v":""},{"$f":"IF(N43=\"\",\"\",_xlfn.XLOOKUP($A43,'MSL Data'!$A42:$A10036,'MSL Data'!N42:N10036,\"\",0))","v":""},{"$f":"IF(O43=\"\",\"\",_xlfn.XLOOKUP($A43,'MSL Data'!$A42:$A10036,'MSL Data'!O42:O10036,\"\",0))","v":""},{"$f":"IF(P43=\"\",\"\",_xlfn.XLOOKUP($A43,'MSL Data'!$A42:$A10036,'MSL Data'!P42:P10036,\"\",0))","v":""},{"$f":"IF(Q43=\"\",\"\",_xlfn.XLOOKUP($A43,'MSL Data'!$A42:$A10036,'MSL Data'!Q42:Q10036,\"\",0))","v":""},{"$f":"IF(R43=\"\",\"\",_xlfn.XLOOKUP($A43,'MSL Data'!$A42:$A10036,'MSL Data'!R42:R10036,\"\",0))","v":""},{"$f":"IF(S43=\"\",\"\",_xlfn.XLOOKUP($A43,'MSL Data'!$A42:$A10036,'MSL Data'!S42:S10036,\"\",0))","v":""},{"$f":"IF(T43=\"\",\"\",_xlfn.XLOOKUP($A43,'MSL Data'!$A42:$A10036,'MSL Data'!T42:T10036,\"\",0))","v":""},{"$f":"IF(U43=\"\",\"\",_xlfn.XLOOKUP($A43,'MSL Data'!$A42:$A10036,'MSL Data'!U42:U10036,\"\",0))","v":""},{"$f":"IF(V43=\"\",\"\",_xlfn.XLOOKUP($A43,'MSL Data'!$A42:$A10036,'MSL Data'!V42:V10036,\"\",0))","v":""}]
[null,{"$f":"IF(A44=\"\",\"\",_xlfn.XLOOKUP($A44,'MSL Data'!$A43:$A10037,'MSL Data'!B43:B10037,\"\",0))","v":""},{"$f":"IF(B44=\"\",\"\",_xlfn.XLOOKUP($A44,'MSL Data'!$A43:$A10037,'MSL Data'!C43:C10037,\"\",0))","v":""},{"$f":"IF(C44=\"\",\"\",_xlfn.XLOOKUP($A44,'MSL Data'!$A43:$A10037,'MSL Data'!W43:W10037,\"\",0))","v":""},{"$f":"IF(C44=\"\",\"\",_xlfn.XLOOKUP($A44,'MSL Data'!$A43:$A10037,'MSL Data'!D43:D10037,\"\",0))","v":""},{"$f":"IF(E44=\"\",\"\",_xlfn.XLOOKUP($A44,'MSL Data'!$A43:$A10037,'MSL Data'!E43:E10037,\"\",0))","v":""},{"$f":"IF(F44=\"\",\"\",_xlfn.XLOOKUP($A44,'MSL Data'!$A43:$A10037,'MSL Data'!F43:F10037,\"\",0))","v":""},{"$f":"IF(G44=\"\",\"\",_xlfn.XLOOKUP($A44,'MSL Data'!$A43:$A10037,'MSL Data'!G43:G10037,\"\",0))","v":""},{"$f":"IF(H44=\"\",\"\",_xlfn.XLOOKUP($A44,'MSL Data'!$A43:$A10037,'MSL Data'!H43:H10037,\"\",0))","v":""},{"$f":"IF(I44=\"\",\"\",_xlfn.XLOOKUP($A44,'MSL Data'!$A43:$A10037,'MSL Data'!I43:I10037,\"\",0))","v":""},{"$f":"IF(J44=\"\",\"\",_xlfn.XLOOKUP($A44,'MSL Data'!$A43:$A10037,'MSL Data'!J43:J10037,\"\",0))","v":""},{"$f":"IF(K44=\"\",\"\",_xlfn.XLOOKUP($A44,'MSL Data'!$A43:$A10037,'MSL Data'!K43:K10037,\"\",0))","v":""},{"$f":"IF(L44=\"\",\"\",_xlfn.XLOOKUP($A44,'MSL Data'!$A43:$A10037,'MSL Data'!L43:L10037,\"\",0))","v":""},{"$f":"IF(M44=\"\",\"\",_xlfn.XLOOKUP($A44,'MSL Data'!$A43:$A10037,'MSL Data'!M43:M10037,\"\",0))","v":""},{"$f":"IF(N44=\"\",\"\",_xlfn.XLOOKUP($A44,'MSL Data'!$A43:$A10037,'MSL Data'!N43:N10037,\"\",0))","v":""},{"$f":"IF(O44=\"\",\"\",_xlfn.XLOOKUP($A44,'MSL Data'!$A43:$A10037,'MSL Data'!O43:O10037,\"\",0))","v":""},{"$f":"IF(P44=\"\",\"\",_xlfn.XLOOKUP($A44,'MSL Data'!$A43:$A10037,'MSL Data'!P43:P10037,\"\",0))","v":""},{"$f":"IF(Q44=\"\",\"\",_xlfn.XLOOKUP($A44,'MSL Data'!$A43:$A10037,'MSL Data'!Q43:Q10037,\"\",0))","v":""},{"$f":"IF(R44=\"\",\"\",_xlfn.XLOOKUP($A44,'MSL Data'!$A43:$A10037,'MSL Data'!R43:R10037,\"\",0))","v":""},{"$f":"IF(S44=\"\",\"\",_xlfn.XLOOKUP($A44,'MSL Data'!$A43:$A10037,'MSL Data'!S43:S10037,\"\",0))","v":""},{"$f":"IF(T44=\"\",\"\",_xlfn.XLOOKUP($A44,'MSL Data'!$A43:$A10037,'MSL Data'!T43:T10037,\"\",0))","v":""},{"$f":"IF(U44=\"\",\"\",_xlfn.XLOOKUP($A44,'MSL Data'!$A43:$A10037,'MSL Data'!U43:U10037,\"\",0))","v":""},{"$f":"IF(V44=\"\",\"\",_xlfn.XLOOKUP($A44,'MSL Data'!$A43:$A10037,'MSL Data'!V43:V10037,\"\",0))","v":""}]
[null,{"$f":"IF(A45=\"\",\"\",_xlfn.XLOOKUP($A45,'MSL Data'!$A44:$A10038,'MSL Data'!B44:B10038,\"\",0))","v":""},{"$f":"IF(B45=\"\",\"\",_xlfn.XLOOKUP($A45,'MSL Data'!$A44:$A10038,'MSL Data'!C44:C10038,\"\",0))","v":""},{"$f":"IF(C45=\"\",\"\",_xlfn.XLOOKUP($A45,'MSL Data'!$A44:$A10038,'MSL Data'!W44:W10038,\"\",0))","v":""},{"$f":"IF(C45=\"\",\"\",_xlfn.XLOOKUP($A45,'MSL Data'!$A44:$A10038,'MSL Data'!D44:D10038,\"\",0))","v":""},{"$f":"IF(E45=\"\",\"\",_xlfn.XLOOKUP($A45,'MSL Data'!$A44:$A10038,'MSL Data'!E44:E10038,\"\",0))","v":""},{"$f":"IF(F45=\"\",\"\",_xlfn.XLOOKUP($A45,'MSL Data'!$A44:$A10038,'MSL Data'!F44:F10038,\"\",0))","v":""},{"$f":"IF(G45=\"\",\"\",_xlfn.XLOOKUP($A45,'MSL Data'!$A44:$A10038,'MSL Data'!G44:G10038,\"\",0))","v":""},{"$f":"IF(H45=\"\",\"\",_xlfn.XLOOKUP($A45,'MSL Data'!$A44:$A10038,'MSL Data'!H44:H10038,\"\",0))","v":""},{"$f":"IF(I45=\"\",\"\",_xlfn.XLOOKUP($A45,'MSL Data'!$A44:$A10038,'MSL Data'!I44:I10038,\"\",0))","v":""},{"$f":"IF(J45=\"\",\"\",_xlfn.XLOOKUP($A45,'MSL Data'!$A44:$A10038,'MSL Data'!J44:J10038,\"\",0))","v":""},{"$f":"IF(K45=\"\",\"\",_xlfn.XLOOKUP($A45,'MSL Data'!$A44:$A10038,'MSL Data'!K44:K10038,\"\",0))","v":""},{"$f":"IF(L45=\"\",\"\",_xlfn.XLOOKUP($A45,'MSL Data'!$A44:$A10038,'MSL Data'!L44:L10038,\"\",0))","v":""},{"$f":"IF(M45=\"\",\"\",_xlfn.XLOOKUP($A45,'MSL Data'!$A44:$A10038,'MSL Data'!M44:M10038,\"\",0))","v":""},{"$f":"IF(N45=\"\",\"\",_xlfn.XLOOKUP($A45,'MSL Data'!$A44:$A10038,'MSL Data'!N44:N10038,\"\",0))","v":""},{"$f":"IF(O45=\"\",\"\",_xlfn.XLOOKUP($A45,'MSL Data'!$A44:$A10038,'MSL Data'!O44:O10038,\"\",0))","v":""},{"$f":"IF(P45=\"\",\"\",_xlfn.XLOOKUP($A45,'MSL Data'!$A44:$A10038,'MSL Data'!P44:P10038,\"\",0))","v":""},{"$f":"IF(Q45=\"\",\"\",_xlfn.XLOOKUP($A45,'MSL Data'!$A44:$A10038,'MSL Data'!Q44:Q10038,\"\",0))","v":""},{"$f":"IF(R45=\"\",\"\",_xlfn.XLOOKUP($A45,'MSL Data'!$A44:$A10038,'MSL Data'!R44:R10038,\"\",0))","v":""},{"$f":"IF(S45=\"\",\"\",_xlfn.XLOOKUP($A45,'MSL Data'!$A44:$A10038,'MSL Data'!S44:S10038,\"\",0))","v":""},{"$f":"IF(T45=\"\",\"\",_xlfn.XLOOKUP($A45,'MSL Data'!$A44:$A10038,'MSL Data'!T44:T10038,\"\",0))","v":""},{"$f":"IF(U45=\"\",\"\",_xlfn.XLOOKUP($A45,'MSL Data'!$A44:$A10038,'MSL Data'!U44:U10038,\"\",0))","v":""},{"$f":"IF(V45=\"\",\"\",_xlfn.XLOOKUP($A45,'MSL Data'!$A44:$A10038,'MSL Data'!V44:V10038,\"\",0))","v":""}]
[null,{"$f":"IF(A46=\"\",\"\",_xlfn.XLOOKUP($A46,'MSL Data'!$A45:$A10039,'MSL Data'!B45:B10039,\"\",0))","v":""},{"$f":"IF(B46=\"\",\"\",_xlfn.XLOOKUP($A46,'MSL Data'!$A45:$A10039,'MSL Data'!C45:C10039,\"\",0))","v":""},{"$f":"IF(C46=\"\",\"\",_xlfn.XLOOKUP($A46,'MSL Data'!$A45:$A10039,'MSL Data'!W45:W10039,\"\",0))","v":""},{"$f":"IF(C46=\"\",\"\",_xlfn.XLOOKUP($A46,'MSL Data'!$A45:$A10039,'MSL Data'!D45:D10039,\"\",0))","v":""},{"$f":"IF(E46=\"\",\"\",_xlfn.XLOOKUP($A46,'MSL Data'!$A45:$A10039,'MSL Data'!E45:E10039,\"\",0))","v":""},{"$f":"IF(F46=\"\",\"\",_xlfn.XLOOKUP($A46,'MSL Data'!$A45:$A10039,'MSL Data'!F45:F10039,\"\",0))","v":""},{"$f":"IF(G46=\"\",\"\",_xlfn.XLOOKUP($A46,'MSL Data'!$A45:$A10039,'MSL Data'!G45:G10039,\"\",0))","v":""},{"$f":"IF(H46=\"\",\"\",_xlfn.XLOOKUP($A46,'MSL Data'!$A45:$A10039,'MSL Data'!H45:H10039,\"\",0))","v":""},{"$f":"IF(I46=\"\",\"\",_xlfn.XLOOKUP($A46,'MSL Data'!$A45:$A10039,'MSL Data'!I45:I10039,\"\",0))","v":""},{"$f":"IF(J46=\"\",\"\",_xlfn.XLOOKUP($A46,'MSL Data'!$A45:$A10039,'MSL Data'!J45:J10039,\"\",0))","v":""},{"$f":"IF(K46=\"\",\"\",_xlfn.XLOOKUP($A46,'MSL Data'!$A45:$A10039,'MSL Data'!K45:K10039,\"\",0))","v":""},{"$f":"IF(L46=\"\",\"\",_xlfn.XLOOKUP($A46,'MSL Data'!$A45:$A10039,'MSL Data'!L45:L10039,\"\",0))","v":""},{"$f":"IF(M46=\"\",\"\",_xlfn.XLOOKUP($A46,'MSL Data'!$A45:$A10039,'MSL Data'!M45:M10039,\"\",0))","v":""},{"$f":"IF(N46=\"\",\"\",_xlfn.XLOOKUP($A46,'MSL Data'!$A45:$A10039,'MSL Data'!N45:N10039,\"\",0))","v":""},{"$f":"IF(O46=\"\",\"\",_xlfn.XLOOKUP($A46,'MSL Data'!$A45:$A10039,'MSL Data'!O45:O10039,\"\",0))","v":""},{"$f":"IF(P46=\"\",\"\",_xlfn.XLOOKUP($A46,'MSL Data'!$A45:$A10039,'MSL Data'!P45:P10039,\"\",0))","v":""},{"$f":"IF(Q46=\"\",\"\",_xlfn.XLOOKUP($A46,'MSL Data'!$A45:$A10039,'MSL Data'!Q45:Q10039,\"\",0))","v":""},{"$f":"IF(R46=\"\",\"\",_xlfn.XLOOKUP($A46,'MSL Data'!$A45:$A10039,'MSL Data'!R45:R10039,\"\",0))","v":""},{"$f":"IF(S46=\"\",\"\",_xlfn.XLOOKUP($A46,'MSL Data'!$A45:$A10039,'MSL Data'!S45:S10039,\"\",0))","v":""},{"$f":"IF(T46=\"\",\"\",_xlfn.XLOOKUP($A46,'MSL Data'!$A45:$A10039,'MSL Data'!T45:T10039,\"\",0))","v":""},{"$f":"IF(U46=\"\",\"\",_xlfn.XLOOKUP($A46,'MSL Data'!$A45:$A10039,'MSL Data'!U45:U10039,\"\",0))","v":""},{"$f":"IF(V46=\"\",\"\",_xlfn.XLOOKUP($A46,'MSL Data'!$A45:$A10039,'MSL Data'!V45:V10039,\"\",0))","v":""}]
[null,{"$f":"IF(A47=\"\",\"\",_xlfn.XLOOKUP($A47,'MSL Data'!$A46:$A10040,'MSL Data'!B46:B10040,\"\",0))","v":""},{"$f":"IF(B47=\"\",\"\",_xlfn.XLOOKUP($A47,'MSL Data'!$A46:$A10040,'MSL Data'!C46:C10040,\"\",0))","v":""},{"$f":"IF(C47=\"\",\"\",_xlfn.XLOOKUP($A47,'MSL Data'!$A46:$A10040,'MSL Data'!W46:W10040,\"\",0))","v":""},{"$f":"IF(C47=\"\",\"\",_xlfn.XLOOKUP($A47,'MSL Data'!$A46:$A10040,'MSL Data'!D46:D10040,\"\",0))","v":""},{"$f":"IF(E47=\"\",\"\",_xlfn.XLOOKUP($A47,'MSL Data'!$A46:$A10040,'MSL Data'!E46:E10040,\"\",0))","v":""},{"$f":"IF(F47=\"\",\"\",_xlfn.XLOOKUP($A47,'MSL Data'!$A46:$A10040,'MSL Data'!F46:F10040,\"\",0))","v":""},{"$f":"IF(G47=\"\",\"\",_xlfn.XLOOKUP($A47,'MSL Data'!$A46:$A10040,'MSL Data'!G46:G10040,\"\",0))","v":""},{"$f":"IF(H47=\"\",\"\",_xlfn.XLOOKUP($A47,'MSL Data'!$A46:$A10040,'MSL Data'!H46:H10040,\"\",0))","v":""},{"$f":"IF(I47=\"\",\"\",_xlfn.XLOOKUP($A47,'MSL Data'!$A46:$A10040,'MSL Data'!I46:I10040,\"\",0))","v":""},{"$f":"IF(J47=\"\",\"\",_xlfn.XLOOKUP($A47,'MSL Data'!$A46:$A10040,'MSL Data'!J46:J10040,\"\",0))","v":""},{"$f":"IF(K47=\"\",\"\",_xlfn.XLOOKUP($A47,'MSL Data'!$A46:$A10040,'MSL Data'!K46:K10040,\"\",0))","v":""},{"$f":"IF(L47=\"\",\"\",_xlfn.XLOOKUP($A47,'MSL Data'!$A46:$A10040,'MSL Data'!L46:L10040,\"\",0))","v":""},{"$f":"IF(M47=\"\",\"\",_xlfn.XLOOKUP($A47,'MSL Data'!$A46:$A10040,'MSL Data'!M46:M10040,\"\",0))","v":""},{"$f":"IF(N47=\"\",\"\",_xlfn.XLOOKUP($A47,'MSL Data'!$A46:$A10040,'MSL Data'!N46:N10040,\"\",0))","v":""},{"$f":"IF(O47=\"\",\"\",_xlfn.XLOOKUP($A47,'MSL Data'!$A46:$A10040,'MSL Data'!O46:O10040,\"\",0))","v":""},{"$f":"IF(P47=\"\",\"\",_xlfn.XLOOKUP($A47,'MSL Data'!$A46:$A10040,'MSL Data'!P46:P10040,\"\",0))","v":""},{"$f":"IF(Q47=\"\",\"\",_xlfn.XLOOKUP($A47,'MSL Data'!$A46:$A10040,'MSL Data'!Q46:Q10040,\"\",0))","v":""},{"$f":"IF(R47=\"\",\"\",_xlfn.XLOOKUP($A47,'MSL Data'!$A46:$A10040,'MSL Data'!R46:R10040,\"\",0))","v":""},{"$f":"IF(S47=\"\",\"\",_xlfn.XLOOKUP($A47,'MSL Data'!$A46:$A10040,'MSL Data'!S46:S10040,\"\",0))","v":""},{"$f":"IF(T47=\"\",\"\",_xlfn.XLOOKUP($A47,'MSL Data'!$A46:$A10040,'MSL Data'!T46:T10040,\"\",0))","v":""},{"$f":"IF(U47=\"\",\"\",_xlfn.XLOOKUP($A47,'MSL Data'!$A46:$A10040,'MSL Data'!U46:U10040,\"\",0))","v":""},{"$f":"IF(V47=\"\",\"\",_xlfn.XLOOKUP($A47,'MSL Data'!$A46:$A10040,'MSL Data'!V46:V10040,\"\",0))","v":""}]
[null,{"$f":"IF(A48=\"\",\"\",_xlfn.XLOOKUP($A48,'MSL Data'!$A47:$A10041,'MSL Data'!B47:B10041,\"\",0))","v":""},{"$f":"IF(B48=\"\",\"\",_xlfn.XLOOKUP($A48,'MSL Data'!$A47:$A10041,'MSL Data'!C47:C10041,\"\",0))","v":""},{"$f":"IF(C48=\"\",\"\",_xlfn.XLOOKUP($A48,'MSL Data'!$A47:$A10041,'MSL Data'!W47:W10041,\"\",0))","v":""},{"$f":"IF(C48=\"\",\"\",_xlfn.XLOOKUP($A48,'MSL Data'!$A47:$A10041,'MSL Data'!D47:D10041,\"\",0))","v":""},{"$f":"IF(E48=\"\",\"\",_xlfn.XLOOKUP($A48,'MSL Data'!$A47:$A10041,'MSL Data'!E47:E10041,\"\",0))","v":""},{"$f":"IF(F48=\"\",\"\",_xlfn.XLOOKUP($A48,'MSL Data'!$A47:$A10041,'MSL Data'!F47:F10041,\"\",0))","v":""},{"$f":"IF(G48=\"\",\"\",_xlfn.XLOOKUP($A48,'MSL Data'!$A47:$A10041,'MSL Data'!G47:G10041,\"\",0))","v":""},{"$f":"IF(H48=\"\",\"\",_xlfn.XLOOKUP($A48,'MSL Data'!$A47:$A10041,'MSL Data'!H47:H10041,\"\",0))","v":""},{"$f":"IF(I48=\"\",\"\",_xlfn.XLOOKUP($A48,'MSL Data'!$A47:$A10041,'MSL Data'!I47:I10041,\"\",0))","v":""},{"$f":"IF(J48=\"\",\"\",_xlfn.XLOOKUP($A48,'MSL Data'!$A47:$A10041,'MSL Data'!J47:J10041,\"\",0))","v":""},{"$f":"IF(K48=\"\",\"\",_xlfn.XLOOKUP($A48,'MSL Data'!$A47:$A10041,'MSL Data'!K47:K10041,\"\",0))","v":""},{"$f":"IF(L48=\"\",\"\",_xlfn.XLOOKUP($A48,'MSL Data'!$A47:$A10041,'MSL Data'!L47:L10041,\"\",0))","v":""},{"$f":"IF(M48=\"\",\"\",_xlfn.XLOOKUP($A48,'MSL Data'!$A47:$A10041,'MSL Data'!M47:M10041,\"\",0))","v":""},{"$f":"IF(N48=\"\",\"\",_xlfn.XLOOKUP($A48,'MSL Data'!$A47:$A10041,'MSL Data'!N47:N10041,\"\",0))","v":""},{"$f":"IF(O48=\"\",\"\",_xlfn.XLOOKUP($A48,'MSL Data'!$A47:$A10041,'MSL Data'!O47:O10041,\"\",0))","v":""},{"$f":"IF(P48=\"\",\"\",_xlfn.XLOOKUP($A48,'MSL Data'!$A47:$A10041,'MSL Data'!P47:P10041,\"\",0))","v":""},{"$f":"IF(Q48=\"\",\"\",_xlfn.XLOOKUP($A48,'MSL Data'!$A47:$A10041,'MSL Data'!Q47:Q10041,\"\",0))","v":""},{"$f":"IF(R48=\"\",\"\",_xlfn.XLOOKUP($A48,'MSL Data'!$A47:$A10041,'MSL Data'!R47:R10041,\"\",0))","v":""},{"$f":"IF(S48=\"\",\"\",_xlfn.XLOOKUP($A48,'MSL Data'!$A47:$A10041,'MSL Data'!S47:S10041,\"\",0))","v":""},{"$f":"IF(T48=\"\",\"\",_xlfn.XLOOKUP($A48,'MSL Data'!$A47:$A10041,'MSL Data'!T47:T10041,\"\",0))","v":""},{"$f":"IF(U48=\"\",\"\",_xlfn.XLOOKUP($A48,'MSL Data'!$A47:$A10041,'MSL Data'!U47:U10041,\"\",0))","v":""},{"$f":"IF(V48=\"\",\"\",_xlfn.XLOOKUP($A48,'MSL Data'!$A47:$A10041,'MSL Data'!V47:V10041,\"\",0))","v":""}]
[null,{"$f":"IF(A49=\"\",\"\",_xlfn.XLOOKUP($A49,'MSL Data'!$A48:$A10042,'MSL Data'!B48:B10042,\"\",0))","v":""},{"$f":"IF(B49=\"\",\"\",_xlfn.XLOOKUP($A49,'MSL Data'!$A48:$A10042,'MSL Data'!C48:C10042,\"\",0))","v":""},{"$f":"IF(C49=\"\",\"\",_xlfn.XLOOKUP($A49,'MSL Data'!$A48:$A10042,'MSL Data'!W48:W10042,\"\",0))","v":""},{"$f":"IF(C49=\"\",\"\",_xlfn.XLOOKUP($A49,'MSL Data'!$A48:$A10042,'MSL Data'!D48:D10042,\"\",0))","v":""},{"$f":"IF(E49=\"\",\"\",_xlfn.XLOOKUP($A49,'MSL Data'!$A48:$A10042,'MSL Data'!E48:E10042,\"\",0))","v":""},{"$f":"IF(F49=\"\",\"\",_xlfn.XLOOKUP($A49,'MSL Data'!$A48:$A10042,'MSL Data'!F48:F10042,\"\",0))","v":""},{"$f":"IF(G49=\"\",\"\",_xlfn.XLOOKUP($A49,'MSL Data'!$A48:$A10042,'MSL Data'!G48:G10042,\"\",0))","v":""},{"$f":"IF(H49=\"\",\"\",_xlfn.XLOOKUP($A49,'MSL Data'!$A48:$A10042,'MSL Data'!H48:H10042,\"\",0))","v":""},{"$f":"IF(I49=\"\",\"\",_xlfn.XLOOKUP($A49,'MSL Data'!$A48:$A10042,'MSL Data'!I48:I10042,\"\",0))","v":""},{"$f":"IF(J49=\"\",\"\",_xlfn.XLOOKUP($A49,'MSL Data'!$A48:$A10042,'MSL Data'!J48:J10042,\"\",0))","v":""},{"$f":"IF(K49=\"\",\"\",_xlfn.XLOOKUP($A49,'MSL Data'!$A48:$A10042,'MSL Data'!K48:K10042,\"\",0))","v":""},{"$f":"IF(L49=\"\",\"\",_xlfn.XLOOKUP($A49,'MSL Data'!$A48:$A10042,'MSL Data'!L48:L10042,\"\",0))","v":""},{"$f":"IF(M49=\"\",\"\",_xlfn.XLOOKUP($A49,'MSL Data'!$A48:$A10042,'MSL Data'!M48:M10042,\"\",0))","v":""},{"$f":"IF(N49=\"\",\"\",_xlfn.XLOOKUP($A49,'MSL Data'!$A48:$A10042,'MSL Data'!N48:N10042,\"\",0))","v":""},{"$f":"IF(O49=\"\",\"\",_xlfn.XLOOKUP($A49,'MSL Data'!$A48:$A10042,'MSL Data'!O48:O10042,\"\",0))","v":""},{"$f":"IF(P49=\"\",\"\",_xlfn.XLOOKUP($A49,'MSL Data'!$A48:$A10042,'MSL Data'!P48:P10042,\"\",0))","v":""},{"$f":"IF(Q49=\"\",\"\",_xlfn.XLOOKUP($A49,'MSL Data'!$A48:$A10042,'MSL Data'!Q48:Q10042,\"\",0))","v":""},{"$f":"IF(R49=\"\",\"\",_xlfn.XLOOKUP($A49,'MSL Data'!$A48:$A10042,'MSL Data'!R48:R10042,\"\",0))","v":""},{"$f":"IF(S49=\"\",\"\",_xlfn.XLOOKUP($A49,'MSL Data'!$A48:$A10042,'MSL Data'!S48:S10042,\"\",0))","v":""},{"$f":"IF(T49=\"\",\"\",_xlfn.XLOOKUP($A49,'MSL Data'!$A48:$A10042,'MSL Data'!T48:T10042,\"\",0))","v":""},{"$f":"IF(U49=\"\",\"\",_xlfn.XLOOKUP($A49,'MSL Data'!$A48:$A10042,'MSL Data'!U48:U10042,\"\",0))","v":""},{"$f":"IF(V49=\"\",\"\",_xlfn.XLOOKUP($A49,'MSL Data'!$A48:$A10042,'MSL Data'!V48:V10042,\"\",0))","v":""}]
[null,{"$f":"IF(A50=\"\",\"\",_xlfn.XLOOKUP($A50,'MSL Data'!$A49:$A10043,'MSL Data'!B49:B10043,\"\",0))","v":""},{"$f":"IF(B50=\"\",\"\",_xlfn.XLOOKUP($A50,'MSL Data'!$A49:$A10043,'MSL Data'!C49:C10043,\"\",0))","v":""},{"$f":"IF(C50=\"\",\"\",_xlfn.XLOOKUP($A50,'MSL Data'!$A49:$A10043,'MSL Data'!W49:W10043,\"\",0))","v":""},{"$f":"IF(C50=\"\",\"\",_xlfn.XLOOKUP($A50,'MSL Data'!$A49:$A10043,'MSL Data'!D49:D10043,\"\",0))","v":""},{"$f":"IF(E50=\"\",\"\",_xlfn.XLOOKUP($A50,'MSL Data'!$A49:$A10043,'MSL Data'!E49:E10043,\"\",0))","v":""},{"$f":"IF(F50=\"\",\"\",_xlfn.XLOOKUP($A50,'MSL Data'!$A49:$A10043,'MSL Data'!F49:F10043,\"\",0))","v":""},{"$f":"IF(G50=\"\",\"\",_xlfn.XLOOKUP($A50,'MSL Data'!$A49:$A10043,'MSL Data'!G49:G10043,\"\",0))","v":""},{"$f":"IF(H50=\"\",\"\",_xlfn.XLOOKUP($A50,'MSL Data'!$A49:$A10043,'MSL Data'!H49:H10043,\"\",0))","v":""},{"$f":"IF(I50=\"\",\"\",_xlfn.XLOOKUP($A50,'MSL Data'!$A49:$A10043,'MSL Data'!I49:I10043,\"\",0))","v":""},{"$f":"IF(J50=\"\",\"\",_xlfn.XLOOKUP($A50,'MSL Data'!$A49:$A10043,'MSL Data'!J49:J10043,\"\",0))","v":""},{"$f":"IF(K50=\"\",\"\",_xlfn.XLOOKUP($A50,'MSL Data'!$A49:$A10043,'MSL Data'!K49:K10043,\"\",0))","v":""},{"$f":"IF(L50=\"\",\"\",_xlfn.XLOOKUP($A50,'MSL Data'!$A49:$A10043,'MSL Data'!L49:L10043,\"\",0))","v":""},{"$f":"IF(M50=\"\",\"\",_xlfn.XLOOKUP($A50,'MSL Data'!$A49:$A10043,'MSL Data'!M49:M10043,\"\",0))","v":""},{"$f":"IF(N50=\"\",\"\",_xlfn.XLOOKUP($A50,'MSL Data'!$A49:$A10043,'MSL Data'!N49:N10043,\"\",0))","v":""},{"$f":"IF(O50=\"\",\"\",_xlfn.XLOOKUP($A50,'MSL Data'!$A49:$A10043,'MSL Data'!O49:O10043,\"\",0))","v":""},{"$f":"IF(P50=\"\",\"\",_xlfn.XLOOKUP($A50,'MSL Data'!$A49:$A10043,'MSL Data'!P49:P10043,\"\",0))","v":""},{"$f":"IF(Q50=\"\",\"\",_xlfn.XLOOKUP($A50,'MSL Data'!$A49:$A10043,'MSL Data'!Q49:Q10043,\"\",0))","v":""},{"$f":"IF(R50=\"\",\"\",_xlfn.XLOOKUP($A50,'MSL Data'!$A49:$A10043,'MSL Data'!R49:R10043,\"\",0))","v":""},{"$f":"IF(S50=\"\",\"\",_xlfn.XLOOKUP($A50,'MSL Data'!$A49:$A10043,'MSL Data'!S49:S10043,\"\",0))","v":""},{"$f":"IF(T50=\"\",\"\",_xlfn.XLOOKUP($A50,'MSL Data'!$A49:$A10043,'MSL Data'!T49:T10043,\"\",0))","v":""},{"$f":"IF(U50=\"\",\"\",_xlfn.XLOOKUP($A50,'MSL Data'!$A49:$A10043,'MSL Data'!U49:U10043,\"\",0))","v":""},{"$f":"IF(V50=\"\",\"\",_xlfn.XLOOKUP($A50,'MSL Data'!$A49:$A10043,'MSL Data'!V49:V10043,\"\",0))","v":""}]

{"sheet":"BDD","index":2,"n_rows":742,"n_cols":2,"rows_kept":742,"cut":false,"hidden":false,"merged":[]}
["_SUXDOWX_","nodarklink@gmail.com"]
["Acrobat600","stef2009lz@gmail.com"]
["ACTA_Maxrange","maxrange615@gmail.com"]
["ACTA_McLukeK","luke.koubek@gmail.com"]
["ACTA_napPALI","zsidekpal91@gmail.com"]
["ACTA_Szabi","kiss.personal@gmail.com"]
["AeS_Birinx13","birinkevin@hotmail.fr"]
["AES_Ravage","theo.laurent16@outlook.fr"]
["Aes_stephaneloge","thierrystephane7951@neuf.fr"]
["AlessandroV_7","alessandro.violi99@gmail.com"]
["Alex__dm05","aledemar90@gmail.com"]
["Alex_Rose_86","tonydelemos86@gmail.com"]
["Alkazis_","rosariolentini14@gmail.com"]
["ALM07_Leandro","leandro.mota07@outlook.fr"]
["Almado_Academy","maxime.delpech12@gmail.com"]
["ALN_aramando_16","armandoemiliogonzalez@gmail.com"]
["ALN_FRANFELIPE8","franfelipe61@gmail.com"]
["ALN_LoloVera","loloveracarmona@gmail.com"]
["Altiorem53","quentin.wauthoz@gmail.com"]
["Ambassador11_JRV","Everajoshuar@gmail.com"]
["Ambassador24_DGr","arq.grajales@gmail.com"]
["AMNEZ-AMG63","Antoineakex@gmail.com"]
["anarchi_71","anarchicmj@gmail.com"]
["AndreaCN1969","andre.cn1969@gmail.com"]
["Apey-153","Pascalanthony182@gmail.com"]
["Arkin1302","arkin1302@gmail.com"]
["Arthur_G15","arthur.guerin15@outlook.fr"]
["Asac_Supermax","maxvscharles@gmail.com"]
["Asmita85800","Mikis.aunos@orange.fr"]
["AVA_davisuko","davisuko@hotmail.com"]
["Averagedutchman","daanvzofficial@gmail.com"]
["averageracer12","takacs830610@freemail.hu"]
["Aweoob","pie.menou@gmail.com"]
["axel_fusio","boyer.axel1@laposte.net"]
["babaff21","babaff@hotmail.com"]
["babybabe","teraa.anthony@neuf.fr"]
["BAM__Bariton72","laurent.manceau@bamsimracing.fr"]
["BAM_AlexBTO","alexandre.bottino77@gmail.com"]
["BAM_ALEXF40160","Alexf33260@hotmail.fr"]
["BAM_Ben_Haut_Hit","benoit.lavallois@gmail.com"]
["BAM_Em1l1en27","emildelerive62@gmail.com"]
["BAM_FredTheRock","gallet.fredo62@gmail.com"]
["BAM_LeBreton29","Arlyohan16@gmail.com"]
["BAM_Swissnox","om18hornet@hotmail.com"]
["Barbich03","Bara50140@gmail.com"]
["Bast_RWDM-_-69","davidbastenier@gmail.com"]
["Batok_39","anthony.fachinetti@icloud.com"]
["BelagiuS06","Florian.imaux@gmail.com"]
["BFR_BoLT","bfrbolt@gmail.com"]
["BFR_Bran","bgeboers@yahoo.com"]
["BFR_Hakone","geass77220@gmail.com"]
["BFR_HORN3T9x","vicentevictor408@gmail.com"]
["BFR_HunterX_97","bsr.fabinino97@gmail.com"]
["BFR_Jesko","Stella.saura31@gmail.com"]
["BFR_Ju_thnt","thonet.julie@gmail.com"]
["BFR_Mr_dose","Cailcail28@hotmail.fr"]
["BFR_N1Ce","bfrtv15@gmail.com"]
["BFR_OTK71","gaetanhumbey@gmail.com"]
["BFR_PANIFICATEUR","lepanificateur25@gmail.com"]
["BFR_Pista","weinhard.ludovic@my.com"]
["Big_blind","jypeez16@hotmail.ca"]
["BKC_Chris","Ckiki36@gmail.com"]
["BKC_Forkas06","christophe.fallour@gmail.com"]
["BKC_Josgri752","josgrignard@msn.com"]
["BKC_Supra2jz13","Enzoperon8@gmail.com"]
["Bkc_Taz","Loic1984mattana@hotmail.com"]
["BLD_Juju","amorygavel@gmail.com"]
["BlooD_Kaneki666","Maximehubert34@gmail.com"]
["Bob34three","rgsjean@gmail.com"]
["BOX_DavidVC","david.larousserie@gmail.com"]
["BOX_Extrem-V8","lucasdimur@live.fr"]
["Box_melo7141","Atelierartemano@gmail.com"]
["BROT_Daniel","danielmotta_300@hotmail.com"]
["Brunokx","Simracerbrunokxtv@gmail.com"]
["BSF_Jow","54joachim@gmail.com"]
["BSF_max","contact.desquilbetmaxime@gmail.com"]
["BSR_Ackor","steven.sylvain7@gmail.com"]
["BSR_DARK_KNIGHT","Grandmaitre05@gmail.com"]
["BSR_Mickael21","thomasmickael865@gmail.com"]
["BSR_PAUL-LE-BARBU","Burniauxpaul@gmail.com"]
["BSR_SAM43","suprasamuel74@gmail.com"]
["BSR_Vincao11","Vincao.rscl@gmail.com"]
["Bwerion","benoit@werion.be"]
["BZH22kat","nonokat@sfr.fr"]
["CadocK","o.guillaume.pro@gmail.com"]
["CAHOUET13","minatchy_jean-marc@orange.fr"]
["Canardwc61","canard1988@live.fr"]
["Ced_0017","cmalherbe@me.com"]
["CGT_Lligadas-JR","ignasiracing06@gmail.com"]
["Chicune01","julien.millot@icloud.com"]
["ChipReese","repelghosts@hotmail.com"]
["Chris69-FTE","chris-goussard@hotmail.fr"]
["COe_Flobot","Florianb33470@gmail.com"]
["COe_Juteon","nitro.romain78@gmail.com"]
["COe_Nalax","alan.pommier@hotmail.fr"]
["COe_PiBou","pierre.boursier@hotmail.fr"]
["CORTES_RACING1","stefan.bachy@live.fr"]
["Cotkawa_","cotkawa2@gmail.com"]
["couraredji","pierrelizarraga1@gmail.com"]
["CSR-kevin49","kevin.jolivet@outlook.fr"]
["cuerdo1505","efram12032005@gmail.com"]
["Dajo top","908dajo@gmail.com"]
["Damien_14","damien_91@hotmail.com"]
["Dark-Vados","gentil.gregory@hotmail.com"]
["Darkheros42240","lilian.ferreol2006@gmail.com"]
["DAX_adrienlaff","adrienlaffineur60@gmail.com"]
["DAZz","damien.wauthoz@gmail.com"]
["dds06-","flo.ds06@gmail.com"]
["deathshoot57","cisko57990@gmail.com"]
["delenn38","james.chedal@gmail.com"]
["denisfr78","denisgoria@free.fr"]
["Diabolo_du67","laurence.baleau@orange.fr"]
["DiegoGuillenESP","diegoguillendavila@gmail.com"]
["Dolka-42","jean-luc420@hotmail.fr"]
["Douksy","Dks974@hotmail.fr"]
["Dovic","geoffroy.ludovic@gmail.com"]
["DRACKOMORT17","gerald.bonnifet@gmail.com"]
["DrGourou","vigouroux.matthieu@gmail.com"]
["DRR syncope82","Samdelforge@hotmail.com"]
["DRR_Belial","jeeremy.paulin@gmail.com"]
["DRR_GRAYOU-28","Jeremy.roger89@gmail.com"]
["Drr_little","kifkif_7@msn.com"]
["Dstinct_Darkari","wilparker17@gmail.com"]
["Dstinct_Marti","harismartidis@gmail.com"]
["Dstinct_Naif","naifalfaleh69@gmail.com"]
["DTS_Ludz","ludoviclhermite64@gmail.com"]
["DTS-Frentzen","julrox1106@gmail.com"]
["Dylan Barbittch","drexos93110@gmail.com"]
["Dylemm29","yoann.letellier50@gmail.com"]
["Ederko-77","Ederko@msn.com"]
["Effet_EnZ","enzo.calatrava@gmail.com"]
["El-Loco_13","el.loco.gt.tv@gmail.com"]
["ElNico--GT","elnico28.gts@gmail.com"]
["EMI_Advan-18","yvon.habert.yh@gmail.com"]
["EMI_e-sport","emi.e.sport18@gmail.com"]
["EMI_FuLsteaK711","fabrice.hulot63@gmail.com"]
["EMI_Marduk1312","voisindu44@live.fr"]
["EMI_Senna-13240","conceptsysteme@gmail.com"]
["EMI-Pegasus-raff","Raffierstephane72@gmail.com"]
["Emi-tenon46","nordine.vialle@orange.fr"]
["ERC-Fret","Fret619@hotmail.be"]
["ERD_Iqbal","iqbalsuji@gmail.com"]
["ERD_SirHell","ismaelanabel3@gmail.com"]
["ERM_AdrianMG","adrianabanto5@gmail.com"]
["ERM_AntonioSK","adrian21erm@gmail.com"]
["ERM_Joss","mouche1999@hotmail.com"]
["ERM_LoloRios","jmanuel.rios@me.com"]
["ERM_Mehdi59","mhafidi83@gmail.com"]
["ERS_Bezzi02","marcinnowok02@gmail.com"]
["ERS_MACCA27","mccauleydavey@googlemail.com"]
["ERS_Matthew07","Mateuszlesiczka1@gmail.com"]
["ERS_Nixo09","nikodem.walkowiak2000@gmail.com"]
["ERS_piopaw90","bartpawjr23@gmail.com"]
["ERS_Romsk89","romekmirski@gmail.com"]
["EsNK2712","esteban.nicolas2712@gmail.com"]
["EtienneS51","e_sorlet@yahoo.fr"]
["ExAlTiQuE_Taziks","iwen.poirier@orange.fr"]
["eykxas","007pierre1@gmail.com"]
["F1HL_ZIRA_Rudy","rudy.pinter3@yahoo.com"]
["fenixian_95","zietal8@gmail.com"]
["FFK-Francis13","laugier.francis@outlook.fr"]
["FGE_Lighty","LIGHTYBEAST@gmail.com"]
["FGR_Dynamofan300","leon.missbach@gmx.de"]
["FGR_Supergt","jj.jakobeit@icloud.com"]
["fhoogy","thibault.trambouze@gmail.com"]
["FifiManos","philipop.lefort@gmail.com"]
["Firepvp743","firepvp743@gmail.com"]
["Flihnt_K","flihnt@googlemail.com"]
["footfcgb1881","haberlandmaxime@gmail.com"]
["Forza-italia1310","Viviani.christopher@gmail.com"]
["Fouiny_99","Axel.toussaint57@hotmail.fr"]
["Foxylady_2001","naturelh69@gmail.com"]
["FPR-Azumanmc","l.esperanca@laposte.net"]
["FPR-FF33","ff33000@yahoo.fr"]
["FPR-jerome76ACL","jenaamca33@hotmail.fr"]
["FPR-Melibabou","karim.fares14@gmail.com"]
["FPR-Samcuda_","fpr972@outlook.com"]
["FPR-spartiate_73","hoehn.bruno@orange.fr"]
["Fr_Keko","v.francesco14@hotmail.com"]
["Frecorse","fredericorse@gmail.com"]
["Fred foufou 14","Fournaux_frederic@live.fr"]
["Fredsnow","frederic.viviani@gmail.com"]
["FRK_ALPHA-MOLOCH","Sltcmic@hotmail.fr"]
["FRK_icewan","Icegibbs@yahoo.fr"]
["FRK_monda61","martinmonda61@orange.fr"]
["FRK_viking0179","alex.rodet@hotmail.fr"]
["FRM_PRibeiro","pribeiro1581985@gmail.com"]
["FTR_AKIRA","giaj-merlera.sebastien@orange.fr"]
["FTR_Atomic24","jojo.kart.94@hotmail.fr"]
["FTR_iNextOne","Dejardin.christopher@outlook.fr"]
["FTR_jAYninho","jayninhofullgaz@gmail.com"]
["FTR_juniordu11","juniordu11@hotmail.fr"]
["FTR_Kiko","kiko13220@gmail.com"]
["FTR_LANDO_NOVICE","bastien.cane@laposte.net"]
["FTR_Miros","Loiseau.lionel@gmail.com"]
["FTR_niko67","nicolas.lotko@gmail.com"]
["FTR_Nounours","contact@scrola.net"]
["FTR_ONDESYSMIK-","pannikpannik86@gmail.com"]
["FTR_PaRaDoX","alexisparadis@live.fr"]
["FTR_Portos806","c.dasilva211@outlook.fr"]
["FTR_Prost30","guillaume.salanoubat@gmail.com"]
["FTR_r_coty","pierrealmeidaa@gmail.com"]
["FTR_Strato","simonwederhake@gmail.com"]
["FTR_Taurace","taurace2@gmail.com"]
["FTR_TazSwaz","jonathansala1@gmail.com"]
["FTR_wAzJO","johnparadise@hotmail.fr"]
["Furious Gorilla","frxle.nimbus4d@gmail.com"]
["Fushi_FR","FushiGaming80@gmail.com"]
["G29Kitsune","g29kitsuneyorha@gmail.com"]
["gabristan07","gabristan07@gmail.com"]
["GCK_AlnBrabus","Allandaas6969@gmail.com"]
["GCK_Atton31","aroumougom.loris@gmail.com"]
["GCK_DarkDz73","malik.recoche@gmail.com"]
["GCK_Mad-Mike","mickaelpessel@gmail.com"]
["GCK_SakaLyte73","Lois73@hotmail.fr"]
["GDSR_clyde86","clyde_46@hotmail.com"]
["GDSR_Kevin16","fresonkevin88@gmail.com"]
["GDSR_Salva_70","barbasalva70@gmail.com"]
["Geckonexion","nicolas.tuffreau91@gmail.com"]
["Geocapcom","geoffreyderoux053@gmail.com"]
["GL_BigBang","kmerlin17@outlook.fr"]
["GL_Graigoue","g.humbert11@gmail.com"]
["GL_KimiMatt","Kimi_matt@hotmail.com"]
["GL_Neteyam","Yoyofer98@gmail.com"]
["GL_Timekiller","timekiller0011@googlemail.com"]
["GL_Xidivoo","xidivoogg@gmail.com"]
["GnimisTv","adam.camille69@gmail.com"]
["Godof_FR","gteisseire@hotmail.fr"]
["gomalex6245","alexisevrard420@gmail.com"]
["Gouydo","gouydo@gmail.com"]
["GR-E_john-p","dark_angelus_01@hotmail.com"]
["GRT_BLACK-CAT","aiellogregory84@gmail.com"]
["GRT_DAYOTI","Stammdavid68800@yahoo.com"]
["GRT_Gyzmo","gyzmo711@hotmail.com"]
["GRT_Lynch","lyncheur@hotmail.com"]
["GRT_NICTAF","cedricstas744@hotmail.com"]
["GRT_Scoe","daniel.verouil@sfr.fr"]
["GRT_Yann05","yannick34102@live.fr"]
["GT_bananajosh1","bananajosh.law@gmail.com"]
["GT_KRS_Gin","Imbiscuso.g@hotmail.com"]
["GT_KRS_Herve","rv.macke@gmail.com"]
["GT_KRS_Jerome","segouin.j@hotmail.fr"]
["GT_KRS_v-tec","tofy.maelie@gmail.com"]
["GT_Rasbow","killian.vinckx@gmail.com"]
["GTB Woodrider","mizsar@centrum.cz"]
["GTB_Frydlis37","frydlis37@gmail.com"]
["GTBE-PIPO_OLI","delucolivier@hotmail.com"]
["GTFR_Greggy_95","greg@greggy-motorsport.fr"]
["GTFR_JBT1","edbracame2018@yahoo.com"]
["GTFR_Pass","opassot@gmail.com"]
["GTGC_chlibas84","christoslibanovnos@gmail.com"]
["GTGC_KULINEN","Kyriakos13marin@hotmail.com"]
["GTGC_Pihakos","sparaskeyi@yahoo.gr"]
["GTGC_TONY","antoniskaps@hotmail.com"]
["GTHH_peti1988","Csatooo@gmail.com"]
["GTHH_toten","kataszter22@gmail.com"]
["GTMA_B-M-_-H-86","Gtamodzfun2@gmail.com"]
["GTMA_Benz","mehdi.benzekri@edu.esce.fr"]
["GTMA_Mouns","elmouns02@gmail.com"]
["GTMA_Reda","redahs1@gmail.com"]
["GTS-Evo_bjem971","Bjem.duf@gmail.com"]
["Gts-evo_gaet","gaetan.trebaol@gmail.com"]
["GTS-EVO_Niko","nicolas.barbe71@sfr.fr"]
["GTS-Evo_Silver16","jerome.vadala@gmail.com"]
["GTS-Evo_Thony","anthony.colas8@free.fr"]
["GTS92_agus05","agustingiaccio2019@gmail.com"]
["GTS92_David","95celada@gmail.com"]
["GTWGP_ART2M","mathieu18000@live.fr"]
["Gtwgp_Asgard07","Alexandre1729@gmail.com"]
["GTWGP_jbsub","jbsub30@gmail.com"]
["GTWGP_Maerlin","maerlin07@gmail.com"]
["GTWGP_Pti-fuchs","pti-fuchs@hotmail.fr"]
["GTWGP_Registar","ferrandregis1@gmail.com"]
["GTWGP_S_Durif","the_190crew@hotmail.fr"]
["GTWGP_Wilzone99","wilzone@hotmail.fr"]
["GTWGP_Yello","emmanuel.71@hotmail.com"]
["gwened","lecloerc@yahoo.fr"]
["Handek-a-t-fess","gta-44@hotmail.fr"]
["HanLecter06","batteur-fou@wanadoo.fr"]
["Hapi_14_","Sakho.djiby.76@gmail.com"]
["Harmattan72","eschiano@nat-international.net"]
["Harry-E-Coyote","harryvallie1@gmail.com"]
["Herbiie_53","leon.heidegger@gmail.com"]
["herthoherve","hertho2000@yahoo.fr"]
["HIKM_jbfumaca","jbfumaca@gmail.com"]
["hiroten18","hiroten70@gmail.com"]
["HoNey_adelsai87","adelsai87@gmail.com"]
["HoruS","j.hornoy@orange.fr"]
["housedy","greg37psn@gmail.com"]
["HRC-Liki_Nauda","benoit1603@gmail.com"]
["Hunter_Gonzaga","leandrocgonzaga@hotmail.com"]
["Hunter_Ramirez","danielbr1980@gmail.com"]
["Hunter_Weverson","weversonlucenasantos@gmail.com"]
["II-SONTOTO-II","matheolac18@gmail.com"]
["ImNocium","nocium9@gmail.com"]
["Inter6150","Mike6150@outlook.be"]
["IronNoah91410","oliveiranoah91@gmail.com"]
["IRT_Manu_Nismo","Manudarkangel65@gmail.com"]
["iSlayanTv_","stephanholtzheimer@hotmail.com"]
["IVRT_LUDO","ludo.spib@gmail.com"]
["Izt_ycar2009","davidobasketo47@gmail.com"]
["Izunyine","chukwurehfamily@gmail.com"]
["Jackbalding25","jackpbalding@icloud.com"]
["Jahmatik13","yannlatouche13@gmail.com"]
["JakCellAir","jakcellair@orange.fr"]
["Jeremias1007","caiofposo@gmail.com"]
["jeremy-44---","jeremydevigne21@gmail.com"]
["Jeune_brigand67","Florian.gasser67@gmail.com"]
["JJRT_divas_sk","svaligura1984@gmail.com"]
["jmeux47","jmprieur@onet.fr"]
["Johann85140","bellangerjohann@gmail.com"]
["JonaMas82","Massuyr_j@hotmail.com"]
["Jonirep-FTE","jonathan.marco83@gmail.com"]
["JorgeAR_5","jorgealvarezramos05@gmail.com"]
["Josselin-97","Josselindebessel41@gmail.com"]
["JTSR_Potenza46","lucagardani1992@gmail.com"]
["julesdp0610","julien.depril@gmail.com"]
["JV2_JeanMi","espritcreations2020@outlook.fr"]
["K3rax21","Anthony.michel14@orange.fr"]
["Kaeyembe","kaeyembe@gmail.com"]
["KCF_Jordan","jordan.quenard01@gmail.com"]
["kenzyfishy69","davidfcb6969@gmail.com"]
["kidpharaon","g.lerond@hotmail.fr"]
["killer45special","schachka@yahoo.com"]
["KIMO-200qi","yanniseps7@gmail.com"]
["kingbst_croug","silverhawksss@hotmail.fr"]
["Kingbst_jack","caddy2111@hotmail.com"]
["Kingbst_subar55","Herbillonh@hotmail.com"]
["KiNgBST_Yan","Stammenyannic08@gmail.com"]
["KRK_Caiman_74","mariocamanes74@gmail.com"]
["KRT_Alisson","alissondarochakilian1@gmail.com"]
["KSM_Chorbo-Neno","Kikepineiro@gmail.com"]
["KSM_DIHONDIA","dihondia@gmail.com"]
["KSM_Rusaco_721","Rpstl89@yahoo.com"]
["kubicaBlyskawica","kmirski@gmail.com"]
["KuramaGT__","elits2team@gmail.com"]
["la-cle-qui-ment","clementbrichet7@gmail.com"]
["LCMH_PuNiShEr","Pierredhooge3@gmail.com"]
["LCRT_Elgi","laurent.lg33@gmail.com"]
["LCRT_JippiZ","jean-paulsilva@hotmail.fr"]
["Le_Stig_02","Unity_croug02@hotmail.com"]
["Le_Zapeur","sebastxplode@gmail.com"]
["le-General72","dominique.massot72000@gmail.com"]
["leleopard65","lucas.bouerie@gmail.com"]
["Leonidas-VGA","lalygus.lm@gmail.com"]
["liloukian_","loukian.hardy@gmail.com"]
["linotin7","linotein7@gmail.com"]
["LOPHTAK","enzobourgogne27@gmail.com"]
["LPG-htm-f15","jerome.gueirard@orange.fr"]
["LPG-Leamax33","anthony.travaux@gmail.com"]
["LPG-TOTORIINA13","guscioni.michel@outlook.fr"]
["LPR_Ghost-Rider","Nicolasherbigniaux@hotmail.fr"]
["LPR_Nando_14","sarahnico@outlook.be"]
["Luca_Amaral","lucaamarallefrancois@gmail.com"]
["Luna_CBR500R","miss_rage@live.fr"]
["MaAlbuquerque","brasiloficialteam@gmail.com"]
["Macadam_10","Fabrice.keff@wanadoo.fr"]
["maffieu850","maffieu85180@gmail.com"]
["MAJIN-Ballack-37","Chrisvdd37@gmail.com"]
["MAJIN-joffrey09","henkinet-joffrey@hotmail.com"]
["Mann_Air","hardy.hermann@orange.fr"]
["Marieyann73","yannenzo1973@yahoo.fr"]
["Massimo110289","Massimomeraglia@hotmail.com"]
["Massimux78","massimo.luise@orange.fr"]
["mcobos_22","mcobosmuriel@gmail.com"]
["Melomtx","m.moiteaux61@gmail.com"]
["Melvyn_R34","omrmelvyn@gmail.com"]
["Menace Binks","heinzenbinks@gmail.com"]
["MFT-SpeedHunter","cedrictanner31@gmail.com"]
["MGTK_mormarka","marci.morocz@gmail.com"]
["Miakach_","P.trotevin@gmail.com"]
["MIG-L86","Ldshm@hotmail.com"]
["Mighty--Fox","Mister_julien_44@outlook.fr"]
["MikaLauda","nurburgring2000@gmail.com"]
["mine96-zzz","aminedu1996@gmail.com"]
["Mister__Coffee","cyril31100@hotmail.fr"]
["Mitch-LNZ","michellanuza@gmail.com"]
["mitchon1973","michel-vuilleumier@hotmail.ch"]
["miumiu79","mickljaysedziak@gmail.com"]
["MKanabeach","Nixolas.riba@gmail.com"]
["MKV_Tatitu","tatitu.mlc@gmail.com"]
["MMSP_Capjulo","chaperonarthur16@gmail.com"]
["MnT_Swizzy","olkku87@gmail.com"]
["Mojostuck","l.dagot@laposte.net"]
["Mollusk66","Xsiste66@hotmail.fr"]
["Monteam","c.spaetti@bluewin.ch"]
["Mr__Sandy__","sandy-sw@hotmail.fr"]
["Mr-Drex93","dylan.barbittch@gmail.com"]
["MrAlf1_10","mralf110@gmail.com"]
["Mrkarizer","icisacha@gmail.com"]
["MSL","dasilva80700@gmail.com"]
["Myssklick","neymaxime54@gmail.com"]
["MYTEAM-AymericK","bolzeaymeric@gmail.com"]
["MYTEAM-Chveux","hadrien.mony@gmail.com"]
["MYTEAM-CoCo","j.skrzypczak367@gmail.com"]
["MYTEAM-Jonathan","Lemarrejonathan34@gmail.com"]
["MYTEAM-KYPTSO","pr1kyptso@gmail.com"]
["MYTEAM-MadMaiky82","demortiermicka@aol.com"]
["MYTEAM-MEPHY","mephysto62100@gmail.com"]
["MYTEAM-Noctil","noctil78@hotmail.fr"]
["MYTEAM-OZ","Mulhemlionel@yahoo.fr"]
["MYTEAM-Poc","nicochaumont@outlook.fr"]
["MYTEAM-Schumini","yanis.ducommun27@gmail.com"]
["MYTEAM-ZAL","iphonedezalan@gmail.com"]
["MyW25","thimeokarting@gmail.com"]
["Nicaro88","fromsvtec88@hotmail.com"]
["NicoPaho","nicopaho@gmail.com"]
["Nicosana","nicolas83posada@gmail.com"]
["NLR_Absolute","absolute@nlresport.fr"]
["NLR_Amnesia45","Amnesia@nlresport.fr"]
["NLR_Axl-R","axl-r@nlresport.fr"]
["NLR_Biotron","nicoboutron@msn.com"]
["NLR_BISON-FUTE","louison.jean-jacques@orange.fr"]
["NLR_Brabus","riyadoussous@hotmail.com"]
["NLR_Damso","Olivierlartigue33@gmail.com"]
["NLR_HnBal_974","etheves974@gmail.com"]
["NLR_Lecath93","lecath93@gmail.com"]
["NLR_LeLionMalin","virginiusyannick@gmail.com"]
["NLR_M-Roshi","m-roshi@nlresport.fr"]
["NLR_Mich","Neveu88@hotmail.fr"]
["NLR_MickElAngelo","gyppaz@orange.fr"]
["NLR_Nico69","Gressardnicolassm@gmail.com"]
["NLR_Phoenix","nlrphoenix7@gmail.com"]
["NLR_PreludeGen04","Sebastien.herbaut@outlook.fr"]
["NLR_SoPr4","Thcoet@laposte.net"]
["NLR_Starsky","tsala@leni.fr"]
["NLR_Tosh","zobellegaming@gmail.com"]
["NLR_YoannB","Easyrider71@gmail.com"]
["Noah91410","bruno91410@free.fr"]
["nom_nom_power-NL","tsmit6181@gmail.com"]
["NRT_Benna","noah.blero@gmail.com"]
["NRW_Sonic77","thomas.moenkebuescher@gmx.net"]
["Nrw_tuts","tutsmc@web.de"]
["Occulus64","Killuasta64@gmail.com"]
["ODS_JOSE82","josecarlossilvanogueira@gmail.com"]
["ODS_OrSylvain67","hamm67380@gmail.com"]
["ODS-Marco","marco.fiori.1971@hotmail.com"]
["Ofon37","ofon1086@gmail.com"]
["OMR_Smaid","smaid1@hotmail.fr"]
["OMT_disjoncter29","jonathanangel10.22@gmail.com"]
["OMT_Takayoshi","michelharbicki74@gmail.com"]
["OMT_TOYZ","toyz21300@hotmail.fr"]
["OMT_Ulyss63","camaroz28s@laposte.net"]
["OMT_Vicking93","christdav.saus@bbox.fr"]
["OMT-DEMONIAQUE","Sullyvan62400@live.fr"]
["OMT-NICO72","Furonn72700@gmail.com"]
["OSR_docbrown40","labayts40@hotmail.fr"]
["OSR_Evilsnake64","philippedeguerre@gmail.com"]
["OSR_GUY","Guy.devaux3@orange.fr"]
["OSR_JROS1968","saintignan.jean-roland@orange.fr"]
["OSR_MonsterPatou","Gts.patouleboss28@gmail.com"]
["OSR_Nilom","axelgtm@gmail.com"]
["OSR_R50GTR","sarcyvincent@gmail.com"]
["OSR_Rasorbac12","christophe.deloge0155@orange.fr"]
["OSR-NISMO-M-Spec","m.benalia88@gmail.com"]
["OSR-SPAWN","Cailleux93@gmail.com"]
["OWLS_ByJim24","byjim24@gmail.com"]
["OWLS_JMarti","jmartigt@gmail.com"]
["P2P_clemoteur66","Christophe.lablee66@gmail.com"]
["P2P_moto","michaelpinheiro2511@gmail.com"]
["Panamoric","krystof.jochec@gmail.com"]
["PaPa Pixels","papapixelsofficiel@gmail.com"]
["Papier-q","romariclucet19@hotmail.fr"]
["Parametric69","Daxparametric@gmail.com"]
["pat_31","pclapier@gmail.com"]
["Patcheur006","greeg06@hotmail.fr"]
["Paullhino","paul.tillier@icloud.com"]
["Paulo5455","paulomonteiro735@gmail.com"]
["PCHINE","jpgagneur@aol.com"]
["Philippe 1562","debesselphilippe@gmail.com"]
["PHX_DimS","dims_lp06@hotmail.com"]
["phx_Haroo","rovoletto.harold@orange.fr"]
["Pinker","19pinker73@gmail.com"]
["Pit_abord","Underdown1260@gmail.com"]
["ponzanitto84","riccardoponzani@gmail.com"]
["PORTOS_932","allan.chaumette@gmail.com"]
["Poulikk","nathanpouliquen2@gmail.com"]
["PRiMA_AlbaThor89","albathor95@gmail.com"]
["PRiMA_Alpina","Ellioth07.co@gmail.com"]
["PRiMA_Evan","evan.leproux@gmail.com"]
["PRiMA_Gabin","gab.mlnnz@gmail.com"]
["PRiMA_GearTilt","faxapop@gmail.com"]
["PRiMA_Haku","callumlux@gmail.com"]
["PRiMA_Juju34","gtfrjuju34@gmail.com"]
["PRiMA_Kazuya","prima.esports.kazuya@gmail.com"]
["PRiMA_Kronos","Keanu2512@gmail.com"]
["PRiMA_Mohamed","mohamedbuhdeima@gmail.com"]
["PRiMA_Nono","noah.lanuza@gmail.com"]
["PRiMA_Piiro","Piazza.robin.rp@gmail.com"]
["PRiMA_Quartz","quartztv61@gmail.com"]
["Prima_Sportland","sportlandamerican@gmail.com"]
["PRiMA_Stardust","notebaert.p@gmail.com"]
["PRiMA_Tyraath","alainjovanovic@gmail.com"]
["Printmaxx","ludochivas@hotmail.com"]
["ProfTopito","stuartb1234@hotmail.com"]
["PRT_KeyZ","theosebilo976@gmail.com"]
["PRT_Seb","sebastien.level@outlook.fr"]
["PRT_Wiilly6613","wiilfried.lagadec@gmail.com"]
["PRT-Armando-11","armand.robin@hotmail.fr"]
["PRT-Belmondo","frontenaudphoto@gmail.com"]
["PSC_themiang_FSR","miangns11@gmail.com"]
["PtitGreg","gregory95am@gmail.com"]
["Ptititix63","Onizuka63@gmail.com"]
["R00SWELL44","ventoxa@hotmail.com"]
["Raizox_Thomas","Thomas83520@outlook.fr"]
["Rasmus_wiltrup","rasmuswjensen@icloud.com"]
["RCR-allidini_65","elkardiya@gmail.com"]
["RDT_J0k3r","guillaume.voc@gmail.com"]
["Red-Most-69","cyrille.bofi@sfr.fr"]
["RidwanF1","ridwanf1@iinet.net.au"]
["RM_Ostry17","a.ostrowski@gladio.pl"]
["RM_Shifter","shifter0711@gmail.com"]
["Robinou93","robinbrugier@gmail.com"]
["rolphi6973","rodolphe.leclercq69@gmail.com"]
["Rom102-frk","romain.hotton@proximus.be"]
["RomaFX","romagnyh@gmail.com"]
["Romaninho","guillaumeromagny@sfr.fr"]
["RP1_Bilou","Tayronborgniez76@gmail.com"]
["RP1_Frelo","seloan@outlook.fr"]
["RP1_Kif1870","kifmanou@yahoo.fr"]
["RP1_MR-BER","Ber06140@hotmail.fr"]
["RP1_Rotax_017","Racingperformanceone@gmail.com"]
["RP1_Ryux","theryuxigg@gmail.com"]
["RP1_Scouby_12","scouby12ps@gmail.com"]
["RP1_Seb","carballo.sebastien@orange.fr"]
["RP1_SmoKeur_052","smokeur52@outlook.fr"]
["RWS YTALIO","tsartturi@gmail.com"]
["RWS08_Apex","florent.bricquet@gmail.com"]
["RWS20_Atom","lucas.jacquet2@aol.fr"]
["RWS23_Nightdrive","darris.dabouz@gmail.com"]
["RWS51_Skywalker","Leloup.maxence@hotmail.fr"]
["RWS58_FLO","florent.vernet0763@orange.fr"]
["RWS62_Rider","Giovanniteilhet@gmail.com"]
["RWS93_Tuscani","bbr1@hotmail.fr"]
["s1jo212","rudykevin212@gmail.com"]
["S7VEN_Light","francoislight@hotmail.fr"]
["S7VEN_Snail","Smille.samuel@gmail.com"]
["Salva_SimRacer00","Salvatore_di_pi@hotmail.com"]
["Samabaal G","bastiengiraude@gmail.com"]
["Sample_Koro","mariusjover@outlook.fr"]
["Sample_Lilz","michellilian58170@gmail.com"]
["San_Xenian","celian.lescot@gmail.com"]
["Santhyviet95-FTE","jonathan.le_3594@yahoo.fr"]
["SCR_SHREDDA84","dsciarretta84@gmail.com"]
["SDET_Antho-76","mugen76@orange.fr"]
["SDET_BeN","benoit.gthr@gmail.com"]
["SDET_BENJI07","recifal74@gmail.com"]
["SDET_Citral73","Mbxman73@hotmail.com"]
["SDET_Firewolf","firewolf.officiel@gmail.com"]
["SDET_J87","julien.boutry.pro@gmail.com"]
["SDET_Lartiste","yoan76700@gmail.com"]
["SDET_Simplayer","rastawooki@gmail.com"]
["SDET-Djouve38","Sdet.djouve38@gmail.com"]
["SDET-JPP61","Pillu.jp@hotmail.fr"]
["searos denethor","ben0083@live.fr"]
["Sese51100","ilyess.safi@gmail.com"]
["SGEG_COPO83","olivier83210@hotmail.com"]
["SGEG-Grosjeune","frederic.benazet@gmail.com"]
["SGEG-Michel05","Chelmicostanzo05300@gmail.com"]
["SGEG-Nimaemlu","ceugniez@free.fr"]
["Shidory7912","delonvillet@gmail.com"]
["Shinobi_35-bjzk","alenour40@gmail.com"]
["Shub-le-Wookie","shubakagraou@gmail.com"]
["SIXKA-44","humeau.loic@gmail.com"]
["Slater71_","thor.dupre@gmail.com"]
["sleipnir974","dutvador@gmail.com"]
["SLYCR500R","acroball.time@gmail.com"]
["smag02110","smag02@hotmail.fr"]
["sorrybabylka","davidpastukhov@gmail.com"]
["southgangz480","southgangz480@gmail.com"]
["SPORTEC_Atho","anthony.roinsolle@laposte.net"]
["SPORTEC_Eperna99","s.cave@hotmail.fr"]
["SPORTEC_Geek","sportec.geek@gmail.com"]
["SPORTEC_Geo46","sportecgeo46@gmail.com"]
["SPORTEC_JOUGE","Davidetcindy@live.fr"]
["SPORTEC_KaKaShI","sportec2k10@gmail.com"]
["SPORTEC_Kr0gu_","krogu.pro@gmail.com"]
["SPORTEC_MiniaSeb","miniaseb@free.fr"]
["SPORTEC_Nono","arno.gautierbzh35@gmail.com"]
["SPORTEC_PoMMe","w.benoit06@gmail.com"]
["SPORTEC_S-Kasuda","dardennesandy@gmail.com"]
["SPORTEC_Steph","powersteph@wanadoo.fr"]
["Spykee13","Spykeeland13@gmail.com"]
["sssunesss","istocymarcel500@gmail.com"]
["Stayback26","florianperret14@gmail.com"]
["steph_lagaffe","stephane.schaer@bluewin.ch"]
["steso-19","stephane.lefevre1@sncf.fr"]
["stfm827","stfm@free.fr"]
["STORM02_ZoLac","Enzo.lacreuse32@gmail.com"]
["STORM07_JoloupiO","hraplaklouis@gmail.com"]
["STORM16_MELVYN","Maiarellimelvyn@gmail.com"]
["STORM20_Ragnarok","bryancoquiere50@gmail.com"]
["STORM203_Leirbag","gaby.leto203@gmail.com"]
["STORM24_DIABLOS","kevinvandenbroeck24@gmail.com"]
["STORM27_JDM","adrijdm98@gmail.com"]
["STORM27_MayGoal","enzomayeuxpro@gmail.com"]
["STORM29_Kenpachi","benjamin.rosa@icloud.com"]
["STORM33_PREDATOR","Gentyromain578@gmail.com"]
["STORM63_Rasta","sylvain.guillaume63@hotmail.fr"]
["STORM70_Axel-R","leducaxel39@gmail.com"]
["Stphfx27","stphfx@gmail.com"]
["Sub-Zero","jonaatta62@hotmail.fr"]
["sun7_GregGoose","hello@esports-team-manager.com"]
["Swagger67","yves_freyermuth@hotmail.fr"]
["T23T_Carma","rieul.tsang@gmail.com"]
["T23T_Dav","dav7045@live.fr"]
["T23T_Neibaf23","neibaf23@hotmail.fr"]
["T23T_Rongeur-28","pilou77174@orange.fr"]
["T23T_Salvatore","Salvatore790@hotmail.com"]
["T2F-Captnrob53","captn53.esport@gmail.com"]
["T3GT_Stema","stephane.malvy@outlook.fr"]
["Tedslick","tderavin@orange.fr"]
["TGR02_Gaulois","Valentin.fessler@icloud.com"]
["TGR11_LeDuK","caloup666@gmail.com"]
["TGR15_Kevzgl","Kevinzingle1@gmail.com"]
["TGR19_Jeff","Jeffbergeret@outlook.be"]
["TGR7_Killjack","cool77rasta@gmail.com"]
["TGR97_Mika","mikael.biv@gmail.com"]
["TGTF-ismail","Plakizy@gmail.com"]
["TGX_Djonxxt","fullgazzz59@hotmail.fr"]
["TGX_FIREDEATH","maximebouikni@yahoo.fr"]
["TGX_Jonk","joffrey.morin@laposte.net"]
["TGX_XLITE","jonathanp76@hotmail.fr"]
["THE_GhostBeast62","remy.audin2@gmail.com"]
["Therre70","thierry.rentz@sfr.fr"]
["Thor-Blacksmith","teilhet.lionel@gmail.com"]
["titi_garder66","titigarder@gmail.com"]
["Titi-974-DDP","robertthierry974@hotmail.com"]
["TLR_johns1000rr","bonix972@hotmail.fr"]
["TLR_Jordangrd","jordangiroud@hotmail.fr"]
["TLR_Jujultrax","juliengapore@gmail.com"]
["TLR_KTOF76","paul.cesselin@hotmail.com"]
["TLR_Nilco","nico62159@gmail.com"]
["TLR_Raul10","Raul_1903@outlook.com"]
["TLR_Tony89M","X-west-coast-x@hotmail.fr"]
["Tomchat38","thomas.chatton38@gmail.com"]
["TopGun_Antho28","anthonyschmidt28@outlook.fr"]
["TopGun_Fab57","fbarc57@gmail.com"]
["Tophe deRouen","mpmc27@hotmail.fr"]
["TOTO_User","stephane@babicz.fr"]
["TOTO-FTE","toto.fte.gts@gmail.com"]
["ToXiQ-CromaTiQ","ludofoca@gmail.com"]
["Tralala8","regis_333@hotmail.com"]
["TRF_Jacko","denis.jacques@hotmail.be"]
["TRF_Jerem","Jeremy.Thomas2021@outlook.fr"]
["TRF_Mig","jmpostico@hotmail.fr"]
["TRF_Mister_Seby","sebabonnet1@gmail.com"]
["TRF_PIE2RE","Pbracekart@gmail.com"]
["TRF_PokeOne","Farrahchiwawa@gmail.com"]
["TRF_Tic-Tac","batallermathis@gmail.com"]
["TRF_UPshift","haetueur@icloud.com"]
["TRF_Venom89","Aurelien.seury89@gmail.com"]
["Trippytrackstar","Xtristanbrownx@yahoo.com"]
["Trust_Rara","rarabacar@gmail.com"]
["TRX_DH-MAN","l.lange20@hotmail.com"]
["TRX_Super-Snake","Info@taxiregionaldunord.com"]
["TurboTobiGT-YT","tobilo2000@web.de"]
["Twitch_Pikyes","Tronetallan@gmail.com"]
["TX3_Dede","lucaspasset14@gmail.com"]
["TX3_Monsta","bartoli.mateu2a@gmail.com"]
["TX3_petipetyat","petipetyat@gmail.com"]
["TX3_Raf","gtgcraf@gmail.com"]
["TX3_Sayba","sebastien.nepotecit@gmail.com"]
["TX3_Sron2VI","sron.2vi@gmail.com"]
["TX3_Stefounzy","tx3stefounzy@gmail.com"]
["TX3_Vicomte","fkerryan@gmail.com"]
["TX3_Vipexx","Hebenstreit.tyler2005@gmail.com"]
["TX3_Yondu","mars_ginger@yahoo.fr"]
["TYR_GREG","gregcolin.be@gmail.com"]
["TYR_Jaja","Jeanin.tacussel.30@gmail.com"]
["TYR_Kapa","meynieuxyvon99@icloud.com"]
["TYR_Kimi","pitlacroix27@gmail.com"]
["TYR_Optimus","jojo161268@gmail.com"]
["TYR_Penbo","Jona.roo6220@gmail.com"]
["TYR_Spartan","Famille.dupuy63910@gmail.com"]
["uhCross-","kgjkevin@gmail.com"]
["Ultimate-_Zephyr","thomasvanderhaeghe4@gmail.com"]
["V1ncou_17","Vincou17@gmail.com"]
["VALKY_Dams29","DAMIENENGELDINGER35@GMAIL.COM"]
["VALKY_ilo0","alikiziler14042007@gmail.com"]
["VALKY_J_Leg_19","j.leg@live.fr"]
["VALKY_juju17","julien.boui36@orange.fr"]
["VALKY_Vador_09","julienmanas@gmail.com"]
["VBF_AsGo","francoisjanssens.pro@gmail.com"]
["Veloce_Loyrot","inostrozap.angel@gmail.com"]
["VQS_ART55MN","art.555.m.n@gmail.com"]
["VQS_Bradley","btarrant9@icloud.com"]
["VR6_Fenek_One","tambouramaury@gmail.com"]
["VRD ludomicyma","mileycyara@live.fr"]
["VRD-Dodobe","bryanlheureux20@gmail.com"]
["VRD-Doug6717","evrard.seb@gmail.com"]
["VRD-FAKOLY","Fakoly27@gmail.com"]
["VRD-Fraky","fraquelli.olivier@outlook.fr"]
["VRD-le-pesk","lepesk@gmail.com"]
["VRD-Mandiracer","manyflute@gmail.com"]
["VRD-MICA","michaelgoset@outlook.com"]
["VRD-PaquitoLrx","Lrxmorgan@gmail.com"]
["VRD-Toinou","antoine_jan@yahoo.fr"]
["VWR_Flokitek","Florian.senes@protonmail.com"]
["VWR_Menzow_","massotenzo56@gmail.com"]
["waefred","waeler.frederic@outlook.fr"]
["WertsVRT_Asatech","asatc.design@gmail.com"]
["WertsVRT_Dams","Damscratch@hotmail.com"]
["WertsVRT_dunce10","animateurgillet@yahoo.com"]
["WertsVRT_HotWill","thebest7340@yahoo.com"]
["WertsVRT_Lig","rallye.werts@gmail.com"]
["WertsVRT_Nate","nathan.werts@gmail.com"]
["WertsVRT_Timo","tim.p03.no@gmail.com"]
["Wiild78","dherbecourtjimmy@gmail.com"]
["WolfY-RTZ","willywolf03@gmail.com"]
["Wolst_Racine","adorfman22@gmail.com"]
["xcimod","xcimod@gmail.com"]
["xKoulibaly__26x","gersindesbonne@gmail.com"]
["Xperience_GioVaN","narquinjean@hotmail.com"]
["xXinstopableXx","Wissem.jouida93@gmail.com"]
["XxLuigi70200xX","pierre.bourezg@outlook.com"]
["XxPADAWAN_83xX","Anthony.mecano@gmail.com"]
["XxRazor_HawkxX","cdavisrx7@gmail.com"]
["YakuzZa974","og_974@hotmail.fr"]
["Yarkini","yarkiniracing@gmail.com"]
["Yart_HKR","Carpeurcarpiste@gmail.com"]
["YART_NightFox","storm04nightfox@gmail.com"]
["YART_seb-0711","vaquinsebastien53@gmail.com"]
["YART_Spectre-96","crotalediamantin-96@outlook.fr"]
["YART_UltraNTC","matthieucaporossi_92@hotmail.fr"]
["YoCut-FTE","yocut13@gmail.com"]
["YonelBoussier","mister.yo@hotmail.com"]
["Zazonthor","jeason-mhl@live.fr"]
["Zefix_claude_64","Claudebarrier@orange.fr"]
["ZeFiX_Mat","zefixmat@gmail.com"]
["ZeFiX_Onizuka_83","Juju83550@live.fr"]
["ZeFiX_Toni_GTR29","Tonii299029@gmail.com"]
["ZIRA_Bazsi","tuska.bazsii@gmail.com"]
["ZIRA_Csoky","csoknyaybertalan@gmail.com"]
["ZIRA_Mateking56","masamate2005@gmail.com"]
["ZIRA_SaldaAdi","goofyfeever@gmail.com"]
["ZPR_Bendrel","assemat.cyril@me.com"]
["ZPR_Chapi","jean.lavenere@wanadoo.fr"]
["ZPR_Ganjy","jlsthuries@orange.fr"]
["ZPR_RedK","throdamien16@gmail.com"]
["ZPR_Topol","sebastien.dubray@yahoo.fr"]
["ZPR_Zen","allan.foudrain@outlook.fr"]